BEGIN:VCALENDAR
VERSION:2.0
PRODID:-//Alpine Garrison - ECPv6.15.17.1//NONSGML v1.0//EN
CALSCALE:GREGORIAN
METHOD:PUBLISH
X-WR-CALNAME:Alpine Garrison
X-ORIGINAL-URL:https://ut501st.com
X-WR-CALDESC:Events for Alpine Garrison
REFRESH-INTERVAL;VALUE=DURATION:PT1H
X-Robots-Tag:noindex
X-PUBLISHED-TTL:PT1H
BEGIN:VTIMEZONE
TZID:America/Denver
BEGIN:DAYLIGHT
TZOFFSETFROM:-0700
TZOFFSETTO:-0600
TZNAME:MDT
DTSTART:20250309T090000
END:DAYLIGHT
BEGIN:STANDARD
TZOFFSETFROM:-0600
TZOFFSETTO:-0700
TZNAME:MST
DTSTART:20251102T080000
END:STANDARD
BEGIN:DAYLIGHT
TZOFFSETFROM:-0700
TZOFFSETTO:-0600
TZNAME:MDT
DTSTART:20260308T090000
END:DAYLIGHT
BEGIN:STANDARD
TZOFFSETFROM:-0600
TZOFFSETTO:-0700
TZNAME:MST
DTSTART:20261101T080000
END:STANDARD
BEGIN:DAYLIGHT
TZOFFSETFROM:-0700
TZOFFSETTO:-0600
TZNAME:MDT
DTSTART:20270314T090000
END:DAYLIGHT
BEGIN:STANDARD
TZOFFSETFROM:-0600
TZOFFSETTO:-0700
TZNAME:MST
DTSTART:20271107T080000
END:STANDARD
END:VTIMEZONE
BEGIN:VEVENT
DTSTART;TZID=America/Denver:20260223T111000
DTEND;TZID=America/Denver:20260223T124000
DTSTAMP:20260423T095447
CREATED:20260213T233207Z
LAST-MODIFIED:20260213T233207Z
UID:7320-1771845000-1771850400@ut501st.com
SUMMARY:Voyage Academy Visit
DESCRIPTION:From the contact: Our students have been working incredibly hard to earn a new playground–something our school truly needs–and they have gone above and beyond. If they reach their stretch goal\, we would love to reward them with a special visit during lunch as a celebration of their effort and dedication.  \nThe plan is to walk around the lunchroom and recess outside (*if the weather cooperates*) to visit the students during lunch and recess outside. \n-Secure staging/changing will be provided\n-Blasters and sabers are permitted for this event
URL:https://ut501st.com/event/voyage-academy-visit/
LOCATION:Voyage Academy\, 1891 N 1500 W\, Clinton\, UT\, 84015\, United States
END:VEVENT
BEGIN:VEVENT
DTSTART;TZID=America/Denver:20260223T180000
DTEND;TZID=America/Denver:20260223T193000
DTSTAMP:20260423T095447
CREATED:20260207T184342Z
LAST-MODIFIED:20260207T184342Z
UID:7316-1771869600-1771875000@ut501st.com
SUMMARY:pack 35 blue and gold
DESCRIPTION:The blue and gold banquet is a scouting event for Cub Scouts. In this event\, we have dinner and then the scouts receive awards and bridge to another scouting level. We are having a Star Wars theme for our event.\nNo secure changing available\, change at car eventlight sabers and blasters are ok\ncontact: Amanda Lindsay 801-739-3393
URL:https://ut501st.com/event/pack-35-blue-and-gold/
LOCATION:VFW post 8307\, 1389 main street\, layton\, UT\, 84041\, United States
END:VEVENT
BEGIN:VEVENT
DTSTART;TZID=America/Denver:20260227T093000
DTEND;TZID=America/Denver:20260227T140000
DTSTAMP:20260423T095447
CREATED:20260309T181138Z
LAST-MODIFIED:20260309T181138Z
UID:7355-1772184600-1772200800@ut501st.com
SUMMARY:Story Con 2026 - Friday
DESCRIPTION:Story Con \, a convention celebrating readers and Literacy\, Brandon Sanderson is the Keynote Speaker. They have given us a 10×10 exhibitor booth to display items and as a static photo opp spot as well as asking us to roam and interact with attendees.\nSecure changing area yes\nblasters and light sabers are ok\nas it gets closer we will have more detailed info of where to go and how to get in.
URL:https://ut501st.com/event/story-con-2026-friday/
LOCATION:Salt Palace\, 90 South West Temple\, Salt Lake City\, UT
END:VEVENT
BEGIN:VEVENT
DTSTART;TZID=America/Denver:20260228T103000
DTEND;TZID=America/Denver:20260228T160000
DTSTAMP:20260423T095447
CREATED:20260309T181234Z
LAST-MODIFIED:20260309T181234Z
UID:7357-1772274600-1772294400@ut501st.com
SUMMARY:Story Con 2026 - Saturday
DESCRIPTION:Story Con \, a convention celebrating readers and Literacy\, Brandon Sanderson is the Keynote Speaker. They have given us a 10×10 exhibitor booth to display items and as a static photo opp spot as well as asking us to roam and interact with attendees.\nSecure changing area yes\nblasters and light sabers are ok\nas it gets closer we will have more detailed info of where to go and how to get in.
URL:https://ut501st.com/event/story-con-2026-saturday/
LOCATION:Salt Palace\, 90 South West Temple\, Salt Lake City\, UT
END:VEVENT
END:VCALENDAR