BEGIN:VCALENDAR
VERSION:2.0
PRODID:-//Alpine Garrison - ECPv6.15.17.1//NONSGML v1.0//EN
CALSCALE:GREGORIAN
METHOD:PUBLISH
X-ORIGINAL-URL:https://ut501st.com
X-WR-CALDESC:Events for Alpine Garrison
REFRESH-INTERVAL;VALUE=DURATION:PT1H
X-Robots-Tag:noindex
X-PUBLISHED-TTL:PT1H
BEGIN:VTIMEZONE
TZID:America/Denver
BEGIN:DAYLIGHT
TZOFFSETFROM:-0700
TZOFFSETTO:-0600
TZNAME:MDT
DTSTART:20250309T090000
END:DAYLIGHT
BEGIN:STANDARD
TZOFFSETFROM:-0600
TZOFFSETTO:-0700
TZNAME:MST
DTSTART:20251102T080000
END:STANDARD
BEGIN:DAYLIGHT
TZOFFSETFROM:-0700
TZOFFSETTO:-0600
TZNAME:MDT
DTSTART:20260308T090000
END:DAYLIGHT
BEGIN:STANDARD
TZOFFSETFROM:-0600
TZOFFSETTO:-0700
TZNAME:MST
DTSTART:20261101T080000
END:STANDARD
BEGIN:DAYLIGHT
TZOFFSETFROM:-0700
TZOFFSETTO:-0600
TZNAME:MDT
DTSTART:20270314T090000
END:DAYLIGHT
BEGIN:STANDARD
TZOFFSETFROM:-0600
TZOFFSETTO:-0700
TZNAME:MST
DTSTART:20271107T080000
END:STANDARD
END:VTIMEZONE
BEGIN:VEVENT
DTSTART;TZID=America/Denver:20260117T110000
DTEND;TZID=America/Denver:20260117T170000
DTSTAMP:20260423T151851
CREATED:20260107T020002Z
LAST-MODIFIED:20260107T020002Z
UID:7313-1768647600-1768669200@ut501st.com
SUMMARY:JanuArty
DESCRIPTION:  \nJanuArty celebrates local authors\, artists\, and creators. The event is free to attend for the general public. Our typical audience is young families and “nerds.” We will be doing a cosplay contest on-site\, along with panels throughout the event about art topics. Mark Loesrtscher should be showing up to take pictures\, we have a black backdrop for photos.\nblasters and light sabers are ok\nsecure changing area YES\ncome when you can and bring a friend \nthe changing area is right around the corner from the movie theatre as you leave the theatre and go to your left.
URL:https://ut501st.com/event/januarty/
LOCATION:Valley Fair Mall\, 3601 S 2700 W\, West Valley City\, UT\, 84119\, United States
END:VEVENT
END:VCALENDAR