BEGIN:VCALENDAR
VERSION:2.0
PRODID:-//Alpine Garrison - ECPv6.15.17.1//NONSGML v1.0//EN
CALSCALE:GREGORIAN
METHOD:PUBLISH
X-ORIGINAL-URL:https://ut501st.com
X-WR-CALDESC:Events for Alpine Garrison
REFRESH-INTERVAL;VALUE=DURATION:PT1H
X-Robots-Tag:noindex
X-PUBLISHED-TTL:PT1H
BEGIN:VTIMEZONE
TZID:America/Denver
BEGIN:DAYLIGHT
TZOFFSETFROM:-0700
TZOFFSETTO:-0600
TZNAME:MDT
DTSTART:20240310T090000
END:DAYLIGHT
BEGIN:STANDARD
TZOFFSETFROM:-0600
TZOFFSETTO:-0700
TZNAME:MST
DTSTART:20241103T080000
END:STANDARD
BEGIN:DAYLIGHT
TZOFFSETFROM:-0700
TZOFFSETTO:-0600
TZNAME:MDT
DTSTART:20250309T090000
END:DAYLIGHT
BEGIN:STANDARD
TZOFFSETFROM:-0600
TZOFFSETTO:-0700
TZNAME:MST
DTSTART:20251102T080000
END:STANDARD
BEGIN:DAYLIGHT
TZOFFSETFROM:-0700
TZOFFSETTO:-0600
TZNAME:MDT
DTSTART:20260308T090000
END:DAYLIGHT
BEGIN:STANDARD
TZOFFSETFROM:-0600
TZOFFSETTO:-0700
TZNAME:MST
DTSTART:20261101T080000
END:STANDARD
END:VTIMEZONE
BEGIN:VEVENT
DTSTART;TZID=America/Denver:20251004T120000
DTEND;TZID=America/Denver:20251004T140000
DTSTAMP:20260423T222556
CREATED:20250830T203019Z
LAST-MODIFIED:20250830T203019Z
UID:7274-1759579200-1759586400@ut501st.com
SUMMARY:The Family Place's Marvelous Adventure
DESCRIPTION:From the contact: Marvelous Adventure is a fundraising super hero themed party for The Family Place in Cache Valley Utah. We had you come last year and it was amazing! We would love to have you attend our event again! \nStaging/changing area will be provided\nBlasters and sabers are permitted
URL:https://ut501st.com/event/the-family-places-marvelous-adventure-2/
LOCATION:Cache County Event Center\, 490 S 500 W\, Logan\, UT\, 84321\, United States
END:VEVENT
BEGIN:VEVENT
DTSTART;TZID=America/Denver:20251006T170000
DTEND;TZID=America/Denver:20251006T200000
DTSTAMP:20260423T222556
CREATED:20250830T204043Z
LAST-MODIFIED:20250830T204044Z
UID:7278-1759770000-1759780800@ut501st.com
SUMMARY:Farmington Fire Dept. Open House
DESCRIPTION:From the contact: The Farmington Fire Department is excited to announce our Annual Fire Prevention Open House on Monday\, October 6\, 2025\, from 5:00 p.m. to 8:00 p.m. at Station 82\, 82 North 100 East\, Farmington.\nThis family-friendly event brings our community together to learn about fire and life safety\, enjoy hands-on activities\, and connect with their local first responders and city departments. \n-Secure staging/changing room provided\n-Blasters and sabers permitted
URL:https://ut501st.com/event/farmington-fire-dept-open-house/
LOCATION:Farmington Fire Department\, 82 North 100 East\, Farmington\, UT\, 84025\, United States
END:VEVENT
BEGIN:VEVENT
DTSTART;TZID=America/Denver:20251010T170000
DTEND;TZID=America/Denver:20251010T193000
DTSTAMP:20260423T222556
CREATED:20251002T223706Z
LAST-MODIFIED:20251002T223706Z
UID:7297-1760115600-1760124600@ut501st.com
SUMMARY:jordan hills fall festival
DESCRIPTION:  \nJordan Hills School Fall Festival fundraiserFood trucks\, Games and lots of school spirit\nstarts at 5pm\nSecure changing YESblasters YESlight sabers YES
URL:https://ut501st.com/event/jordan-hills-fall-festival/
LOCATION:Jordan Hills Elementary School\, 8892 S 4800 W\, West Jordan\, UT\, 84081\, United States
END:VEVENT
BEGIN:VEVENT
DTSTART;TZID=America/Denver:20251018T120000
DTEND;TZID=America/Denver:20251018T160000
DTSTAMP:20260423T222556
CREATED:20251005T160413Z
LAST-MODIFIED:20251005T160413Z
UID:7301-1760788800-1760803200@ut501st.com
SUMMARY:South Weber Model Fright Train
DESCRIPTION:  \nModel train rides for kids and adults at Canyon Meadows Park. Halloween themed decorations. Costumes encouraged. Train and treat run day we call our Fright Train.\nCanyons Meadows Park\nhttp://www.swmrrc.org/\n\nBlasters and Light Sabers are allowed\nno changing area\, change at your car\nPete Robbins is the contact 801-301-7201
URL:https://ut501st.com/event/south-weber-model-fright-train/
LOCATION:Canyon meadows park\, 631 E. Peterson Parkway\, South Weber\, UT\, United States
END:VEVENT
BEGIN:VEVENT
DTSTART;TZID=America/Denver:20251023T183000
DTEND;TZID=America/Denver:20251023T203000
DTSTAMP:20260423T222556
CREATED:20251002T223945Z
LAST-MODIFIED:20251002T223945Z
UID:7299-1761244200-1761251400@ut501st.com
SUMMARY:haunted hallways
DESCRIPTION:  \nA fundraiser for the school’s arts programs. Characters are there to help entertain and take pictures with kids and families as they wait in line.\nblaster are NO\nlight sabers are a YES\nsecure changing area is available inside school like usual\nKyra Fifield is our contact  801-725-9164
URL:https://ut501st.com/event/haunted-hallways-3/
LOCATION:Hillside Middle School\, 1825 S. Nevada Street\, Salt Lake City\, UT\, 84108\, United States
END:VEVENT
BEGIN:VEVENT
DTSTART;TZID=America/Denver:20251024T180000
DTEND;TZID=America/Denver:20251024T200000
DTSTAMP:20260423T222556
CREATED:20250830T204737Z
LAST-MODIFIED:20250830T204737Z
UID:7283-1761328800-1761336000@ut501st.com
SUMMARY:Memorial Murray Mortuary 15th Annual Trunk-or-Treat
DESCRIPTION:It’s that time again!\nWe’re invited once again for Memorial Mortuary’s annual Trunk or Treat here in Murray. We’ll be walking around outside interacting with kids and their families for a fun night. Changing will be provided inside in one of the rooms.
URL:https://ut501st.com/event/memorial-murray-mortuary-15th-annual-trunk-or-treat/
LOCATION:Murray Memorial Mortuary\, 5850 S 900 E\, Murray\, UT\, 84121\, United States
END:VEVENT
BEGIN:VEVENT
DTSTART;TZID=America/Denver:20251025T140000
DTEND;TZID=America/Denver:20251025T150000
DTSTAMP:20260423T222556
CREATED:20251013T012212Z
LAST-MODIFIED:20251013T012212Z
UID:7304-1761400800-1761404400@ut501st.com
SUMMARY:Mendon Library Halloween Party
DESCRIPTION:This is a library Halloween Party. It is an open house style event\, with different activities stations.\n15 N Main StreetMendon\, Utah 84325\nsecure changing yesblasters and light sabers YESnumber of characters 4 to 6expected number of people 50 to 75contact: Heather Richins 435-774-2200
URL:https://ut501st.com/event/mendon-library-halloween-party-2/
LOCATION:Mendon Library\, 15 N Main St\, Mendon\, UT\, 84325\, United States
END:VEVENT
END:VCALENDAR