BEGIN:VCALENDAR
VERSION:2.0
PRODID:-//Alpine Garrison - ECPv6.15.17.1//NONSGML v1.0//EN
CALSCALE:GREGORIAN
METHOD:PUBLISH
X-ORIGINAL-URL:https://ut501st.com
X-WR-CALDESC:Events for Alpine Garrison
REFRESH-INTERVAL;VALUE=DURATION:PT1H
X-Robots-Tag:noindex
X-PUBLISHED-TTL:PT1H
BEGIN:VTIMEZONE
TZID:America/Denver
BEGIN:DAYLIGHT
TZOFFSETFROM:-0700
TZOFFSETTO:-0600
TZNAME:MDT
DTSTART:20240310T090000
END:DAYLIGHT
BEGIN:STANDARD
TZOFFSETFROM:-0600
TZOFFSETTO:-0700
TZNAME:MST
DTSTART:20241103T080000
END:STANDARD
BEGIN:DAYLIGHT
TZOFFSETFROM:-0700
TZOFFSETTO:-0600
TZNAME:MDT
DTSTART:20250309T090000
END:DAYLIGHT
BEGIN:STANDARD
TZOFFSETFROM:-0600
TZOFFSETTO:-0700
TZNAME:MST
DTSTART:20251102T080000
END:STANDARD
BEGIN:DAYLIGHT
TZOFFSETFROM:-0700
TZOFFSETTO:-0600
TZNAME:MDT
DTSTART:20260308T090000
END:DAYLIGHT
BEGIN:STANDARD
TZOFFSETFROM:-0600
TZOFFSETTO:-0700
TZNAME:MST
DTSTART:20261101T080000
END:STANDARD
END:VTIMEZONE
BEGIN:VEVENT
DTSTART;TZID=America/Denver:20250801T180000
DTEND;TZID=America/Denver:20250801T200000
DTSTAMP:20260424T011557
CREATED:20250617T025503Z
LAST-MODIFIED:20250617T025709Z
UID:7236-1754071200-1754078400@ut501st.com
SUMMARY:Rite Care Carnival
DESCRIPTION:  \nJoin us for our Annual Summer Carnival to celebrate all things RiteCare of Utah\, including our mission to support child success at home and at school by providing speech\, language and reading therapy to children for free.\nThere will be food\, drinks\, snacks\, bounce houses\, games and more! This is a FREE\, family-friendly event.\nBlasters and light sabers are ok\nsecure changing area is provide
URL:https://ut501st.com/event/rite-care-carnival/
LOCATION:650 E south temple\, 650 E south temple\, salt lake city\, 84102\, United States
END:VEVENT
BEGIN:VEVENT
DTSTART;TZID=America/Denver:20250808T193000
DTEND;TZID=America/Denver:20250808T210000
DTSTAMP:20260424T011557
CREATED:20250729T183436Z
LAST-MODIFIED:20250729T183436Z
UID:7259-1754681400-1754686800@ut501st.com
SUMMARY:starw ars movie in the park
DESCRIPTION:We are having a Star Wars movie in the park as part of our summer send off week! We were hoping to have characters there to roam and interact with the public.\nCharacters will be there from 8pm – 9pm and then A New Hope will start at dusk (around 9pm)\nSpringville City – Arts Parkapporximate 400 attendees\nThis is a community free event ( we checked to make sure this is ok )\nlight sabers and blasters are oksecure chaning area provided
URL:https://ut501st.com/event/starw-ars-movie-in-the-park/
LOCATION:1300 E 700 S\, 1300 E 700 S\, springville\, 84663\, United States
END:VEVENT
BEGIN:VEVENT
DTSTART;TZID=America/Denver:20250809T170000
DTEND;TZID=America/Denver:20250809T193000
DTSTAMP:20260424T011557
CREATED:20250625T211157Z
LAST-MODIFIED:20250625T211157Z
UID:7240-1754758800-1754767800@ut501st.com
SUMMARY:SL Bees 2025 star wars night
DESCRIPTION:Location: 11111 Ballpark Dr\, South Jordan\, UT 84009Parking location and details: (Parking should be free)Event date: August 9thEvent start time & approx. end time: 6:00 – 7:30Call time: (Should be 1 hour prior to game start or doors open)5:00Changing room details: When you arrive we will direct you to your room. (Mens and Womens Changing rooms)Maximum number invited: 20\nLFL Guidelines:All SW themed events with Major and Minor league teams are now considered OPEN INVITES. This means we do not have to cast and teams do not have to pay performers. Teams must welcome all fan groups on a first come basis and cannot ask for specific characters or specific amounts. They can set a maximum limit based on accommodations. Open Invites are just that: an invitation to fan groups to show up at an event in costume. Teams cannot direct fan group members to do any activities or be anywhere specific at any specific time – they may provide the groups with a list of activities to self-organize and participate in\, but it is at fan group members’ own discretion. We strongly prefer that characters not throw out first pitches\, participate in puck drops\, sing the National Anthem or things of that nature – if they want\, fan group members may escort a child or fan to the mound\, etc.\, but must not be directed to do so. Characters should not hold\, wear\, sit in or stand on any branded item or logo\, especially with a team emblem. The fan groups are welcome to be photographed with others wearing the team logo/brands or in front of signage featuring the team logo/brand\, however. We strongly suggest that teams provide a handler/security for costumed fans during activities to ensure the safety and security of said costumed fans\, to protect them from overzealous game attendees. Costumed fan groups must be referred to as members from their respective fan groups\, and not as official SW/Disney/Lucasfilm characters.Please note that if you or your club members require a handler or handlers at the event\, you must provide them yourself and not rely on handlers from other clubs to fulfill this responsibility.
URL:https://ut501st.com/event/sl-bees-2025-star-wars-night/
LOCATION:11111 ballpark drive\, 11111 ballpark drive\, south jordan\, UT\, 84009\, United States
END:VEVENT
BEGIN:VEVENT
DTSTART;TZID=America/Denver:20250812T093000
DTEND;TZID=America/Denver:20250812T123000
DTSTAMP:20260424T011557
CREATED:20250715T042454Z
LAST-MODIFIED:20250715T042454Z
UID:7246-1754991000-1755001800@ut501st.com
SUMMARY:bountiful high school orientation
DESCRIPTION:  \nSophomore orientation at the local high school. Our school has often been called the “Darth Vader” of the local schools\, so we are leaning into that. We will be having students enter the school and want to give them the feeling of entering an Empire run event. We will have a 35 minute assembly in our auditorium followed by the students getting full tours of the school and finishing up with snacks and mingling in one of the gyms. We would love the Legion to be “welcoming” students as they enter\, walking around the school\, lots of photo opps.\nDepending on how many members come\, we can even have them guarding doors and participating in other events.\nlarge secure changing area provided\nblasters and light sabers are ok\nsnacks and drinks provided\napprox. 600 attendes\ncontact is Kelly Kuehnl 909-273-0554
URL:https://ut501st.com/event/bountiful-high-school-orientation/
LOCATION:bountiful high school\, 695 S orchard drive\, bountiful\, UT\, 84010\, United States
END:VEVENT
BEGIN:VEVENT
DTSTART;TZID=America/Denver:20250823T170000
DTEND;TZID=America/Denver:20250823T200000
DTSTAMP:20260424T011557
CREATED:20250713T194620Z
LAST-MODIFIED:20250713T194620Z
UID:7244-1755968400-1755979200@ut501st.com
SUMMARY:Shine a Light NF Walk Utah
DESCRIPTION:  \nThe Shine a Light NF Walk is a fundraising event to benefit the Children’s Tumor Foundation and help end NF. Neurofibromatosis\, or NF\, affects millions of people worldwide\, but few have heard of it and there currently is no cure. The Shine a Light NF Walk brings NF out of the shadows\, raising awareness and funding research to help better the lives of those living with NF.\n\nOur event is a celebration of our NF Heroes and their families. We have face painters\, games\, live music\, and other activities for everyone to do starting at 5 PM when registration opens. Then around 6/6:30 PM we will have a short program before we have our physical walk. Afterwards\, we will have snacks and more fun before everyone heads home. In the past\, the characters have helped send our walkers off and then greeted them when they have returned.\n\nReferred by: The 501st Legion has supported our event in dozens of cities for years now\, including our Utah event. We would love to have you all involved in our walk this year to help make it an even better day for our participants. The characters are always a huge hit with our kids!\n\nThis is at sugar house park at the sugar beet pavillion\nlight sabers and blasters are ok\n\nNO secure changing area\, this is a change at your car event.
URL:https://ut501st.com/event/shine-a-light-nf-walk-utah/
LOCATION:Sugarhouse park\, 1330 east 2100 south\, Salt Lake City\, UT\, 84106\, United States
END:VEVENT
END:VCALENDAR