BEGIN:VCALENDAR
VERSION:2.0
PRODID:-//Alpine Garrison - ECPv6.15.17.1//NONSGML v1.0//EN
CALSCALE:GREGORIAN
METHOD:PUBLISH
X-WR-CALNAME:Alpine Garrison
X-ORIGINAL-URL:https://ut501st.com
X-WR-CALDESC:Events for Alpine Garrison
REFRESH-INTERVAL;VALUE=DURATION:PT1H
X-Robots-Tag:noindex
X-PUBLISHED-TTL:PT1H
BEGIN:VTIMEZONE
TZID:America/Denver
BEGIN:DAYLIGHT
TZOFFSETFROM:-0700
TZOFFSETTO:-0600
TZNAME:MDT
DTSTART:20240310T090000
END:DAYLIGHT
BEGIN:STANDARD
TZOFFSETFROM:-0600
TZOFFSETTO:-0700
TZNAME:MST
DTSTART:20241103T080000
END:STANDARD
BEGIN:DAYLIGHT
TZOFFSETFROM:-0700
TZOFFSETTO:-0600
TZNAME:MDT
DTSTART:20250309T090000
END:DAYLIGHT
BEGIN:STANDARD
TZOFFSETFROM:-0600
TZOFFSETTO:-0700
TZNAME:MST
DTSTART:20251102T080000
END:STANDARD
BEGIN:DAYLIGHT
TZOFFSETFROM:-0700
TZOFFSETTO:-0600
TZNAME:MDT
DTSTART:20260308T090000
END:DAYLIGHT
BEGIN:STANDARD
TZOFFSETFROM:-0600
TZOFFSETTO:-0700
TZNAME:MST
DTSTART:20261101T080000
END:STANDARD
END:VTIMEZONE
BEGIN:VEVENT
DTSTART;TZID=America/Denver:20250721T163000
DTEND;TZID=America/Denver:20250721T180000
DTSTAMP:20260424T023806
CREATED:20250721T153805Z
LAST-MODIFIED:20250721T153805Z
UID:7252-1753115400-1753120800@ut501st.com
SUMMARY:Make-a-Wish Surprise for Isaac
DESCRIPTION:This is at the FiiZ Drinks location in the address above where they are partnering with Make-a-Wish as part of the September campaign to surprise Isaac. He loves Star Wars and they would love to have a few Star Wars characters there to interact with him and his family\, take pictures with them. This is expected to be a 45 min. event max. \n– Lightsabers/blasters are ok\n– Staging/changing area will be provided\n– Be ready by 5pm\n– Be careful with pictures with any corporate signs\, etc. I’ve spoken with the brand manager about leaving all of our members out of any brand social or promotional content\, so it’ll be only interactions with Isaac and the family.
URL:https://ut501st.com/event/make-a-wish-surprise-for-isaac/
LOCATION:FiiZ Drink Saratoga Springs\, 191 Crossroads Blvd Ste E\, Saratoga Springs\, UT\, 84045\, United States
END:VEVENT
BEGIN:VEVENT
DTSTART;TZID=America/Denver:20250726T130000
DTEND;TZID=America/Denver:20250726T160000
DTSTAMP:20260424T023806
CREATED:20250616T030233Z
LAST-MODIFIED:20250616T030233Z
UID:7234-1753534800-1753545600@ut501st.com
SUMMARY:Breaking Barriers All Abilities Festival
DESCRIPTION:Event celebrating children with disabilities and their families; we are also raising money to fund scholarships for services for needy families with children with disabilities. Because of this\, we need to keep costs low and rely on volunteers to help create an awesome event for these amazing children. We would love to have you join us\, it would mean a lot to the families we are serving \napprox.. attendees 500 \nblasters and light sabers are ok \nthis is a change at your car event\, they said we can use the bathrooms to change\, same park as millies princess run\, those bathrooms are not a great option\, they may be able to have a tent set up for us to use\, we will send that info as it gets closer\, but as of right now change at your car \ncontact is Chauntel Brattos
URL:https://ut501st.com/event/breaking-barriers-all-abilities-festival/
LOCATION:Thanksgiving Point Electric Park\, 3003 Thanksgiving Way\, Lehi\, UT\, 84043\, United States
END:VEVENT
END:VCALENDAR