BEGIN:VCALENDAR
VERSION:2.0
PRODID:-//Alpine Garrison - ECPv6.15.17.1//NONSGML v1.0//EN
CALSCALE:GREGORIAN
METHOD:PUBLISH
X-WR-CALNAME:Alpine Garrison
X-ORIGINAL-URL:https://ut501st.com
X-WR-CALDESC:Events for Alpine Garrison
REFRESH-INTERVAL;VALUE=DURATION:PT1H
X-Robots-Tag:noindex
X-PUBLISHED-TTL:PT1H
BEGIN:VTIMEZONE
TZID:America/Denver
BEGIN:DAYLIGHT
TZOFFSETFROM:-0700
TZOFFSETTO:-0600
TZNAME:MDT
DTSTART:20240310T090000
END:DAYLIGHT
BEGIN:STANDARD
TZOFFSETFROM:-0600
TZOFFSETTO:-0700
TZNAME:MST
DTSTART:20241103T080000
END:STANDARD
BEGIN:DAYLIGHT
TZOFFSETFROM:-0700
TZOFFSETTO:-0600
TZNAME:MDT
DTSTART:20250309T090000
END:DAYLIGHT
BEGIN:STANDARD
TZOFFSETFROM:-0600
TZOFFSETTO:-0700
TZNAME:MST
DTSTART:20251102T080000
END:STANDARD
BEGIN:DAYLIGHT
TZOFFSETFROM:-0700
TZOFFSETTO:-0600
TZNAME:MDT
DTSTART:20260308T090000
END:DAYLIGHT
BEGIN:STANDARD
TZOFFSETFROM:-0600
TZOFFSETTO:-0700
TZNAME:MST
DTSTART:20261101T080000
END:STANDARD
END:VTIMEZONE
BEGIN:VEVENT
DTSTART;TZID=America/Denver:20250602T180000
DTEND;TZID=America/Denver:20250602T193000
DTSTAMP:20260424T040730
CREATED:20250507T032210Z
LAST-MODIFIED:20250507T032210Z
UID:7189-1748887200-1748892600@ut501st.com
SUMMARY:Braden Beat Cancer!!!
DESCRIPTION:This Event was run through the Legion event coordinators for approval\, which they gave.\nBraden is 6 years old and just finishing up treatment for leukemia. We are having a big party to celebrate him still being in remission and finishing over 2 years of cancer treatment. He recently became obsessed with Star Wars and the Mandalorian and would be beyond excited if some characters showed up to his party.\nBlasters and Light sabers are ok\nSecure changing is provided next door at the LDS chapel next to the park. If it is bad weather\, the party will be inside the church
URL:https://ut501st.com/event/braden-beat-cancer/
LOCATION:spring run park\, 3382 E spring Mountain Dr\, eagle mountain\, UT\, 84005\, United States
END:VEVENT
BEGIN:VEVENT
DTSTART;TZID=America/Denver:20250604T110000
DTEND;TZID=America/Denver:20250604T150000
DTSTAMP:20260424T040730
CREATED:20250410T203556Z
LAST-MODIFIED:20250410T203556Z
UID:7138-1749034800-1749049200@ut501st.com
SUMMARY:salt lake county employee appreciation event
DESCRIPTION:  \nThis event is all about showing appreciation to County Employees for all they do for the community. There will be games\, info booths\, and food trucks. It’s space-themed\, with Star Wars music playing at one or more locations. Characters walking around the crowds for picture ops are ideal and encouraged.\nThey expect about 1\,000 attendees.\nSecure changing Yes\nNo blasters or lightsabers at this event\nThis event is at the new West Jordan Library and Memorial Park.
URL:https://ut501st.com/event/salt-lake-county-employee-appreciation-event/
LOCATION:west jordan library\, 8030 S 1825 W\, west jordan\, UT\, 84088\, United States
END:VEVENT
BEGIN:VEVENT
DTSTART;TZID=America/Denver:20250605T170000
DTEND;TZID=America/Denver:20250605T190000
DTSTAMP:20260424T040730
CREATED:20250530T173404Z
LAST-MODIFIED:20250530T173404Z
UID:7213-1749142800-1749150000@ut501st.com
SUMMARY:Kids Club Star Wars Night
DESCRIPTION:Red Shoe Productions is running a kids club community program at Station Park this summer. They would love to make there June 5th date a Star Wars night to remember. They have asked for Saber-guild to put on a training at 530pm and 630pm. and for the all the other clubs to attend and troop around. (estimated to have a bit over 1\,000 people in attendance based on the past.)\nThere will be a changing/ storage area for us to use.\,\nBlasters and lightsabers are allowed.\,\nAny questions please contact Zack Coleman on FB for more details
URL:https://ut501st.com/event/kids-club-star-wars-night/
LOCATION:Station Park\, 140 N W Union Ave\, Farmington\, UT\, 84025\, United States
END:VEVENT
BEGIN:VEVENT
DTSTART;TZID=America/Denver:20250607T081500
DTEND;TZID=America/Denver:20250607T103000
DTSTAMP:20260424T040730
CREATED:20250530T174239Z
LAST-MODIFIED:20250530T174239Z
UID:7216-1749284100-1749292200@ut501st.com
SUMMARY:Cedar Hills Parade
DESCRIPTION:Great neighborhood parade every year\, we are signed up as a walking group\, we are Group number 6\nThe parade is STARTING at Deerfield Elementary and will end at\nHeritage Park.\n– The staging area is located on Harvey Blvd\, near Deerfield Elementary.\nLook for the signs.\n– Be at the staging area NO LATER than 8:30 AM.\n– The parade will start at 9AM and end around 10AM.\n– Enter the staging area from the west.\n– Find your assigned Group # and the leader of that group will place you.\n– I have attached a map of the parade route.\n– The parade line-up\, which could change\, is attached.\n– Please plan accordingly for the weather\, sunblock\, water\, etc\n– IMPORTANT TO REMEMBER: You may not do any activity that would\nstop or pause the flow of the parade.\n–  If children participate in your entry\, they must be supervised at all times\nthroughout the duration of the parade.\n– Spotter Requirement: All entries with a vehicle or float that will be\nthrowing candy or handing out fliers must have at least two (2)\ndesignated spotters (walkers). Spotters must be at least 16 years old.\n– Safety Guidelines for Spotters: Spotters must walk along the parade\nroute next to their entry (float\, vehicle\, etc.).\n– Spotters must walk to the edge of the crowd to distribute items\nsafely. Candy and flyers may not be thrown from vehicles or floats.\n– This rule is in place to prevent children from running into the street or\napproaching moving vehicles. \nGROUP 6\nWendi Jensen\nMayne Stream Media\n501st Alpine Garrison\nHarris Orthodontics\nSky Ridge Ballroom\nRaptor Roofing \n-blasters and light sabers are ok\n– no secure changing \, change at your car
URL:https://ut501st.com/event/cedar-hills-parade/
LOCATION:Cedar Hills Parade\, 4252 W Harvey Blvd\, Cedar Hills\, UT\, 84062\, United States
END:VEVENT
BEGIN:VEVENT
DTSTART;TZID=America/Denver:20250608T100000
DTEND;TZID=America/Denver:20250608T130000
DTSTAMP:20260424T040730
CREATED:20250314T005250Z
LAST-MODIFIED:20250314T005250Z
UID:7103-1749376800-1749387600@ut501st.com
SUMMARY:Utah Pride Parade 2025
DESCRIPTION:Pride 2025 is coming up! We will be operating as we have done in the past. As such. Here are some guidelines that have we need to adhere to: \n-NO PROMOTIONAL ITEMS\, HAND OUTS\, OR CANDY. We will not be tossing out or giving items out to the crowd. \n-NO RESTRICTED ITEMS. This will include our prop weapons. \n-SIGNS\, BANNERS\, & COMMUNICATION. We will need a sign or banner that tells people who we are. Our flags should work just fine. Number markers will also need to be carried by someone near the beginning of our entry. \nOur estimated number of participants will be around 60 people based on last year’s attendance. We will plan on having two vehicles pulling two trailers for costumers to ride on. \nThere will be a virtual orientation meeting on May 22nd from 1-2 PM.  If anyone would like to join the meeting\, feel free to reach out to James Beveridge.  Placards will be available for pickup on May 28th from 2-7 PM. \nAlso. 10:00 AM is the KICKOFF time\, not arrival. Please arrive at least 30 mins-1 hour beforehand so that you are prepared to start marching. Please stay hydrated as we will be in summer. Once we have more information regarding where we will be staging\, event details will be updated here and on the Discord event page
URL:https://ut501st.com/event/utah-pride-parade-2025/
LOCATION:148 W 200 S\, Salt Lake City\, UT\, 84101\, 148 W 200 S\, Salt Lake City\, UT\, 84101\, United States
END:VEVENT
BEGIN:VEVENT
DTSTART;TZID=America/Denver:20250610T090000
DTEND;TZID=America/Denver:20250610T120000
DTSTAMP:20260424T040730
CREATED:20250523T170638Z
LAST-MODIFIED:20250523T170638Z
UID:7208-1749546000-1749556800@ut501st.com
SUMMARY:Star Wars day at Parkdale Health and Rehab
DESCRIPTION:  \nWe have been invited to Parkdale Nursing and Rehab to come and make the residents smile for a couple hours. They have a secure changing room for us. Blasters and Lightsabers are ok. They will position us in a day room and bring residents and staff to us.\nsecure changing is providedblasters and lightsabers are ok\n 
URL:https://ut501st.com/event/star-wars-day-at-parkdale-health-and-rehab/
LOCATION:parkdale health and rehab\, 250 east 600 north\, price\, UT\, 84501\, United States
END:VEVENT
BEGIN:VEVENT
DTSTART;TZID=America/Denver:20250610T133000
DTEND;TZID=America/Denver:20250610T163000
DTSTAMP:20260424T040730
CREATED:20250523T170130Z
LAST-MODIFIED:20250523T170130Z
UID:7204-1749562200-1749573000@ut501st.com
SUMMARY:Star Wars at Pinnacle Nursing and Rehab
DESCRIPTION:Pinnacle nursing and rehab has invited us to come and get pictures with their residents. Blasters and Lightsabers are ok. There is a secure changing area for us. We will be in the dining room and the residents will be brought to us to get their picture taken. \nsecure changing area provided \nJake putnam is the contact for this event
URL:https://ut501st.com/event/star-wars-at-pinnacle-nursing-and-rehab/
LOCATION:pinnnacle nursing home\, 1340 East 300 north\, price\, UT\, 84501\, United States
END:VEVENT
BEGIN:VEVENT
DTSTART;TZID=America/Denver:20250613T170000
DTEND;TZID=America/Denver:20250613T193000
DTSTAMP:20260424T040730
CREATED:20250605T011759Z
LAST-MODIFIED:20250605T011759Z
UID:7224-1749834000-1749843000@ut501st.com
SUMMARY:Coats for Kids Car Show 2025
DESCRIPTION:A fundraising car show to help provide winter wear for local kids and families during the cold months. Meet and greet style with photo opportunities for attendees. \n– Staging/changing area will be provided\n– Blasters and sabers are ok for this event
URL:https://ut501st.com/event/coats-for-kids-car-show-2025/
LOCATION:Bountiful Car Show\, 255 S 100 W\, Bountiful\, UT\, 84010\, United States
END:VEVENT
BEGIN:VEVENT
DTSTART;TZID=America/Denver:20250620T180000
DTEND;TZID=America/Denver:20250620T200000
DTSTAMP:20260424T040730
CREATED:20250605T010410Z
LAST-MODIFIED:20250605T010410Z
UID:7220-1750442400-1750449600@ut501st.com
SUMMARY:South Ogden Days Family Night
DESCRIPTION:From the contact: “South Ogden City is holding our annual family night event on Friday\, June 20th as part of our South Ogden Days festivities. The character group we partnered with last year has since closed. I’ve worked with your organization many a times with other events and wanted to see if we might be able to have you participate in this one. \nThe event consists of some interactive community booths\, and we give away free ice cream and everything is free (including attendance) except for the fire department selling hot dogs for those interested. If you have a pop-up canopy\, your group is welcome to hang out under it for character photo ops and promote what you do in general. Or roaming is fine but it does get warm.” \nWe are looking into getting a canopy for this event for a staging/changing? area. Blasters and lightsabers are ok for the event.
URL:https://ut501st.com/event/south-ogden-days-family-night/
LOCATION:South Ogden Days\, 4300 Madison Ave\, Ogden\, UT\, 84403\, United States
END:VEVENT
BEGIN:VEVENT
DTSTART;TZID=America/Denver:20250621T170000
DTEND;TZID=America/Denver:20250621T190000
DTSTAMP:20260424T040730
CREATED:20250605T014057Z
LAST-MODIFIED:20250605T014057Z
UID:7228-1750525200-1750532400@ut501st.com
SUMMARY:Kickin' Cancer Fundraiser
DESCRIPTION:From the event contact: We are holding a Kickin’ Cancer event T.E.A.M. Dojo for Eli and his dad Bryce who fighting cancer. Karate students from across the state are invited to do a kick off (going to door-to-door to raise funds before the event to benefit the Buckley Special Needs Trust). For event 20 cents students earn\, they will throw 1 kick ($20 dollars is 100 kicks). \nEli loves Star Wars and will be thrilled to get pictures with you guys. We plan to have an area with shade tents\, chairs\, water bottles\, snacks\, and a photo area for cosplayers.\nBlasters and sabers are ok for this event.
URL:https://ut501st.com/event/kickin-cancer-fundraiser/
LOCATION:Tobin’s Elite Academy of Martial Arts\, 510 E 1700 S Ste 303\, Clearfield\, UT\, 84015\, United States
END:VEVENT
BEGIN:VEVENT
DTSTART;TZID=America/Denver:20250621T173000
DTEND;TZID=America/Denver:20250621T203000
DTSTAMP:20260424T040730
CREATED:20250208T173017Z
LAST-MODIFIED:20250208T173017Z
UID:7065-1750527000-1750537800@ut501st.com
SUMMARY:Summer Festival at Wheeler Historic Farm
DESCRIPTION:From the requestor: We are holding the Summer Festival and Walk to not only raise funds and epilepsy awareness\, but to offer a fun summer evening event to the families in SLC. We will have vendors\, games\, food trucks\, music\, face painters\, etc. in addition to a casual 1 mile walk. \nBlasters and sabers are allowed and a small “party house” will be available for costume changing with bathrooms close by.
URL:https://ut501st.com/event/summer-festival-at-wheeler-historic-farm/
LOCATION:Wheeler Farm\, 6351 S 900 E\, Murray\, UT\, 84121\, United States
END:VEVENT
BEGIN:VEVENT
DTSTART;TZID=America/Denver:20250630T183000
DTEND;TZID=America/Denver:20250630T203000
DTSTAMP:20260424T040730
CREATED:20250522T203608Z
LAST-MODIFIED:20250522T203608Z
UID:7200-1751308200-1751315400@ut501st.com
SUMMARY:Bountiful Philharmonia Orchestra Summer Concert
DESCRIPTION:MON Jun 30th\, Bountiful City has asked the Bountiful Philharmonia Orchestra to be the official group to kick off the 4th of July Celebration for Bountiful. We will be performing some Star Wars\, Harry Potter\, and Cowboy music\, so we will have various costumed characters in and around the park to enhance the event and interact with the audience. \nLast year was a huge success\, and people are interested in having you guys back if you can make it. The concert will start @ 7pm\, and go for approx. 1.5 hours. \nI can get the same changing area for you guys\, and I’ll provide some light refreshments and water/gatorade for the customers. \napprox. 2000 in attendance\, open-air concert. \nThe audience loved you guys last year. We will be in a slightly different location- just about 200 yards further west from where we were last year. \nBlasters and lightsabers are ok\nSecure changing area north of the concert area\, same as last year.
URL:https://ut501st.com/event/bountiful-philharmonia-orchestra-summer-concert/
LOCATION:bountiful city park\, 200 w 400 n\, bountiful\, UT\, 84010\, United States
END:VEVENT
END:VCALENDAR