BEGIN:VCALENDAR
VERSION:2.0
PRODID:-//Alpine Garrison - ECPv6.15.17.1//NONSGML v1.0//EN
CALSCALE:GREGORIAN
METHOD:PUBLISH
X-WR-CALNAME:Alpine Garrison
X-ORIGINAL-URL:https://ut501st.com
X-WR-CALDESC:Events for Alpine Garrison
REFRESH-INTERVAL;VALUE=DURATION:PT1H
X-Robots-Tag:noindex
X-PUBLISHED-TTL:PT1H
BEGIN:VTIMEZONE
TZID:America/Denver
BEGIN:DAYLIGHT
TZOFFSETFROM:-0700
TZOFFSETTO:-0600
TZNAME:MDT
DTSTART:20240310T090000
END:DAYLIGHT
BEGIN:STANDARD
TZOFFSETFROM:-0600
TZOFFSETTO:-0700
TZNAME:MST
DTSTART:20241103T080000
END:STANDARD
BEGIN:DAYLIGHT
TZOFFSETFROM:-0700
TZOFFSETTO:-0600
TZNAME:MDT
DTSTART:20250309T090000
END:DAYLIGHT
BEGIN:STANDARD
TZOFFSETFROM:-0600
TZOFFSETTO:-0700
TZNAME:MST
DTSTART:20251102T080000
END:STANDARD
BEGIN:DAYLIGHT
TZOFFSETFROM:-0700
TZOFFSETTO:-0600
TZNAME:MDT
DTSTART:20260308T090000
END:DAYLIGHT
BEGIN:STANDARD
TZOFFSETFROM:-0600
TZOFFSETTO:-0700
TZNAME:MST
DTSTART:20261101T080000
END:STANDARD
END:VTIMEZONE
BEGIN:VEVENT
DTSTART;TZID=America/Denver:20250307T130000
DTEND;TZID=America/Denver:20250307T150000
DTSTAMP:20260424T095018
CREATED:20250220T035139Z
LAST-MODIFIED:20250220T035139Z
UID:7076-1741352400-1741359600@ut501st.com
SUMMARY:North Ogden Elementary Fundraiser Reward
DESCRIPTION:This is a reward event for PTA fundraising for the kids to mingle with Star Wars characters\, ask questions and take photos. Secure changing area; blasters and saber OK. Would like costumers to show up early 1:15/1:30 and be ready to go by 2pm. \nContact person: Andy Chastain TK-54141 (801) 726-5741 \nSecure changing YES \nBlasters and Lightsabers YES
URL:https://ut501st.com/event/north-ogden-elementary-fundraiser-reward/
LOCATION:North Ogden Elementary\, 530 East 2650 North\, Ogden\, UT\, 84414\, United States
END:VEVENT
BEGIN:VEVENT
DTSTART;TZID=America/Denver:20250314T190000
DTEND;TZID=America/Denver:20250314T203000
DTSTAMP:20260424T095018
CREATED:20250208T170845Z
LAST-MODIFIED:20250208T170845Z
UID:7059-1741978800-1741984200@ut501st.com
SUMMARY:Davis County Celebration Orchestra
DESCRIPTION:From the requestor: The Davis County Celebration (DCCO) is a non-profit organization. We are holding our Spring Concert with an Oscar theme. \nThey will be performing a Star Wars number at the end of the concert and would like to have us there before and after to mingle with guests and children and take pictures on their red carpet set. The event contact requests no blasters and sabers. This is may be a change-at-car event but they will look into securing a room for changing for those going
URL:https://ut501st.com/event/davis-county-celebration-orchestra/
LOCATION:Weber State University Davis Campus\, 2750 University Park blvd\, Layton\, 84041\, United States
END:VEVENT
BEGIN:VEVENT
DTSTART;TZID=America/Denver:20250325T150000
DTEND;TZID=America/Denver:20250325T190000
DTSTAMP:20260424T095018
CREATED:20240830T212245Z
LAST-MODIFIED:20240830T212245Z
UID:6947-1742914800-1742929200@ut501st.com
SUMMARY:Conservice St. Baldricks Event
DESCRIPTION:From the event contact:\nI would like to invite the 501st to participate in our upcoming St. Baldrick’s Foundation head-shaving event on March 25\, 2025 at Conservice in Cache Valley! \nAll Star Wars groups welcome\, changing/staging area will be provided\, and lightsabers and blasters permitted. Contact requested a max of 5 characters
URL:https://ut501st.com/event/conservice-st-baldricks-event/
LOCATION:760 Gateway Drive\, 760 Gateway Drive\, River Heights\, UT\, 84321\, United States
END:VEVENT
BEGIN:VEVENT
DTSTART;TZID=America/Denver:20250325T180000
DTEND;TZID=America/Denver:20250325T193000
DTSTAMP:20260424T095018
CREATED:20250225T050545Z
LAST-MODIFIED:20250225T050545Z
UID:7087-1742925600-1742931000@ut501st.com
SUMMARY:park lane stem night
DESCRIPTION:This is our community STEM night where families come to do different experiments at stations. We would love to have Star Wars characters come to support the sciences with our students!\nWe are happy to provide dinner and water to those who come to volunteer their time.\nNo light sabers or blasterssecure changing is available on-site\nThe approximate attendees is 250\ncontact is Rebecca Gunderson: 801-440-4062
URL:https://ut501st.com/event/park-lane-stem-night/
LOCATION:park lane\, 9955 S 2300 E\, sandy\, UT\, 84092\, United States
END:VEVENT
END:VCALENDAR