BEGIN:VCALENDAR
VERSION:2.0
PRODID:-//Alpine Garrison - ECPv6.15.17.1//NONSGML v1.0//EN
CALSCALE:GREGORIAN
METHOD:PUBLISH
X-WR-CALNAME:Alpine Garrison
X-ORIGINAL-URL:https://ut501st.com
X-WR-CALDESC:Events for Alpine Garrison
REFRESH-INTERVAL;VALUE=DURATION:PT1H
X-Robots-Tag:noindex
X-PUBLISHED-TTL:PT1H
BEGIN:VTIMEZONE
TZID:America/Denver
BEGIN:DAYLIGHT
TZOFFSETFROM:-0700
TZOFFSETTO:-0600
TZNAME:MDT
DTSTART:20240310T090000
END:DAYLIGHT
BEGIN:STANDARD
TZOFFSETFROM:-0600
TZOFFSETTO:-0700
TZNAME:MST
DTSTART:20241103T080000
END:STANDARD
BEGIN:DAYLIGHT
TZOFFSETFROM:-0700
TZOFFSETTO:-0600
TZNAME:MDT
DTSTART:20250309T090000
END:DAYLIGHT
BEGIN:STANDARD
TZOFFSETFROM:-0600
TZOFFSETTO:-0700
TZNAME:MST
DTSTART:20251102T080000
END:STANDARD
BEGIN:DAYLIGHT
TZOFFSETFROM:-0700
TZOFFSETTO:-0600
TZNAME:MDT
DTSTART:20260308T090000
END:DAYLIGHT
BEGIN:STANDARD
TZOFFSETFROM:-0600
TZOFFSETTO:-0700
TZNAME:MST
DTSTART:20261101T080000
END:STANDARD
END:VTIMEZONE
BEGIN:VEVENT
DTSTART;TZID=America/Denver:20250131T183000
DTEND;TZID=America/Denver:20250131T213000
DTSTAMP:20260424T131357
CREATED:20250131T232324Z
LAST-MODIFIED:20250131T232324Z
UID:7047-1738348200-1738359000@ut501st.com
SUMMARY:One Man Star Wars
DESCRIPTION:Onstage Ogden is hosting the One Man Star Wars event at the Egyptian Theatre and invited the 501st to be there to do photos with guests in the lobby before (*between 6:30-7:30) and then after the show (runs about an hour long). They will be providing a changing area and box seats for those to watch the show. If you have any questions\, reach out to BJ Whimpey for more details.\nThis is a 501st-only event per their request and they would like to have 4 troopers and Vader at max because the changing area won’t have enough room for more than that.
URL:https://ut501st.com/event/one-man-star-wars/
LOCATION:Peery’s Egyptian Theater\, 2415 Washington Blvd\, Ogden\, UT\, 84401\, United States
END:VEVENT
END:VCALENDAR