BEGIN:VCALENDAR
VERSION:2.0
PRODID:-//Alpine Garrison - ECPv6.15.17.1//NONSGML v1.0//EN
CALSCALE:GREGORIAN
METHOD:PUBLISH
X-ORIGINAL-URL:https://ut501st.com
X-WR-CALDESC:Events for Alpine Garrison
REFRESH-INTERVAL;VALUE=DURATION:PT1H
X-Robots-Tag:noindex
X-PUBLISHED-TTL:PT1H
BEGIN:VTIMEZONE
TZID:America/Denver
BEGIN:DAYLIGHT
TZOFFSETFROM:-0700
TZOFFSETTO:-0600
TZNAME:MDT
DTSTART:20230312T090000
END:DAYLIGHT
BEGIN:STANDARD
TZOFFSETFROM:-0600
TZOFFSETTO:-0700
TZNAME:MST
DTSTART:20231105T080000
END:STANDARD
BEGIN:DAYLIGHT
TZOFFSETFROM:-0700
TZOFFSETTO:-0600
TZNAME:MDT
DTSTART:20240310T090000
END:DAYLIGHT
BEGIN:STANDARD
TZOFFSETFROM:-0600
TZOFFSETTO:-0700
TZNAME:MST
DTSTART:20241103T080000
END:STANDARD
BEGIN:DAYLIGHT
TZOFFSETFROM:-0700
TZOFFSETTO:-0600
TZNAME:MDT
DTSTART:20250309T090000
END:DAYLIGHT
BEGIN:STANDARD
TZOFFSETFROM:-0600
TZOFFSETTO:-0700
TZNAME:MST
DTSTART:20251102T080000
END:STANDARD
END:VTIMEZONE
BEGIN:VEVENT
DTSTART;TZID=America/Denver:20241101T120000
DTEND;TZID=America/Denver:20241101T140000
DTSTAMP:20260424T163014
CREATED:20241017T033618Z
LAST-MODIFIED:20241030T184747Z
UID:6992-1730462400-1730469600@ut501st.com
SUMMARY:make a wish at lagoon
DESCRIPTION:America First Credit Union and Laguna are hosting a Make-A-Wish proclamation for a little boy named Braden\, who loves Star Wars and amusement parks. We would love to have you and your team join us to make it extra special for him as he continues to fight for his life. We will walk around with him in the park.\n\nLightsabers are ok\, as well as blasters\nSecure changing will be provided\, as well as parking\nMore details on the exact parking and entrance for us will come as we get closer.\n375 N Lagoon DrFarmington\, UT 84075
URL:https://ut501st.com/event/make-a-wish-at-lagoon/
LOCATION:375 N Lagoon drive\, 375 N Lagoon drive\, farmington\, UT\, 84075\, United States
END:VEVENT
BEGIN:VEVENT
DTSTART;TZID=America/Denver:20241115T183000
DTEND;TZID=America/Denver:20241115T210000
DTSTAMP:20260424T163014
CREATED:20241031T035135Z
LAST-MODIFIED:20241031T035135Z
UID:7009-1731695400-1731704400@ut501st.com
SUMMARY:mount logan symphony community concert
DESCRIPTION:We are a new community orchestra that partners with Utah State University to bring free\, fun\, family-friendly concerts to the public. We have approximately 50 members and a nice-sized stage and auditorium. We will be performing “Star Wars Epic—Part II—Princess Leia’s Theme\, The Imperial March (Darth Vader’s Theme)\, and the Main Title Star Wars.”\nThey would like the members to mingle before and come in during the playing of the Star Wars pieces.\n\nContact is Elizabeth Simmons 385-522-3279\nthey will have food and beverages for those who attend\,\nsecure changing area YESNo blasters allowedlight sabers YES\nparking is available\nabout 300 to 350 attendees\n5 to 8 characters desired.
URL:https://ut501st.com/event/mount-logan-symphony-community-concert/
LOCATION:mount logan middle school\, 875 N 200 E\, Logan\, UT\, 84321\, United States
END:VEVENT
BEGIN:VEVENT
DTSTART;TZID=America/Denver:20241125T080000
DTEND;TZID=America/Denver:20241125T100000
DTSTAMP:20260424T163014
CREATED:20241119T164249Z
LAST-MODIFIED:20241119T164249Z
UID:7031-1732521600-1732528800@ut501st.com
SUMMARY:Nibley Elementary Reading Goal
DESCRIPTION:Nibley Elementary wants us to come out to visit the kids for reaching a reading goal. \nLightsabers are ok; they are still deciding about blasters. Be ready to leave them in your totes 🙂 \nBe dressed and ready by 8:30 please 🙂 \nSecure changing is available \nContact is Austin Lindley\n435-554-4807
URL:https://ut501st.com/event/nibley-elementary-reading-goal/
LOCATION:Nibley Elementary\, 2545 S 660 W\, Logan\, UT\, 84321\, United States
CATEGORIES:School Event
END:VEVENT
BEGIN:VEVENT
DTSTART;TZID=America/Denver:20241130T160000
DTEND;TZID=America/Denver:20241130T210000
DTSTAMP:20260424T163014
CREATED:20241107T013607Z
LAST-MODIFIED:20241107T013607Z
UID:7018-1732982400-1733000400@ut501st.com
SUMMARY:Ogden Lights Parade
DESCRIPTION:MORE DETAILS TO COME!!!\nOur parade submission for this year’s parade has been accepted. Here’s what we can tell you:\n* Parade line-up is from 4 PM to 5 PM.\n* Parade goes from 22nd to 27th street\, disbanding happens between 27th to 29th street.\n* This is an outdoor walking event. Vehicles with Trailers are allowed (up to 3). If you want to volunteer your vehicle/trailer\, please post below.\nNEEDED:\n* Plenty of costumed personnel. Decorating your cistumes with lights and holiday items is HIGHLY encouraged! 😁 NO FULL SANTA OUTFITS!\n* Spotters and Handlers–we need you as guides and safety personnel.
URL:https://ut501st.com/event/ogden-lights-parade/
LOCATION:Ogden Light Parade\, 2100 Washington Blvd\, Ogden\, UT\, 84401\, United States
END:VEVENT
END:VCALENDAR