BEGIN:VCALENDAR
VERSION:2.0
PRODID:-//Alpine Garrison - ECPv6.15.17.1//NONSGML v1.0//EN
CALSCALE:GREGORIAN
METHOD:PUBLISH
X-ORIGINAL-URL:https://ut501st.com
X-WR-CALDESC:Events for Alpine Garrison
REFRESH-INTERVAL;VALUE=DURATION:PT1H
X-Robots-Tag:noindex
X-PUBLISHED-TTL:PT1H
BEGIN:VTIMEZONE
TZID:America/Denver
BEGIN:DAYLIGHT
TZOFFSETFROM:-0700
TZOFFSETTO:-0600
TZNAME:MDT
DTSTART:20230312T090000
END:DAYLIGHT
BEGIN:STANDARD
TZOFFSETFROM:-0600
TZOFFSETTO:-0700
TZNAME:MST
DTSTART:20231105T080000
END:STANDARD
BEGIN:DAYLIGHT
TZOFFSETFROM:-0700
TZOFFSETTO:-0600
TZNAME:MDT
DTSTART:20240310T090000
END:DAYLIGHT
BEGIN:STANDARD
TZOFFSETFROM:-0600
TZOFFSETTO:-0700
TZNAME:MST
DTSTART:20241103T080000
END:STANDARD
BEGIN:DAYLIGHT
TZOFFSETFROM:-0700
TZOFFSETTO:-0600
TZNAME:MDT
DTSTART:20250309T090000
END:DAYLIGHT
BEGIN:STANDARD
TZOFFSETFROM:-0600
TZOFFSETTO:-0700
TZNAME:MST
DTSTART:20251102T080000
END:STANDARD
END:VTIMEZONE
BEGIN:VEVENT
DTSTART;TZID=America/Denver:20240902T080000
DTEND;TZID=America/Denver:20240902T120000
DTSTAMP:20260424T192616
CREATED:20240722T190411Z
LAST-MODIFIED:20240722T190411Z
UID:6918-1725264000-1725278400@ut501st.com
SUMMARY:wellsville Labor day parade
DESCRIPTION:Once again we have been invited to the parade. Changing addresses will be provided soon. We will change at a car. A trailer will be provided for those who want to ride it.\nexact meeting location will be updated as it gets closer\nmax characters 20\nchange at your car\nlight sabers and blasters are allowedcontact person is Austin Lindley \n\ncheck at the sign up page for all the groups for updated address as it gets closer
URL:https://ut501st.com/event/wellsville-labor-day-parade-3/
LOCATION:Wellsville\, 300 N 300 E\, Wellsville\, UT\, 84339\, United States
END:VEVENT
BEGIN:VEVENT
DTSTART;TZID=America/Denver:20240907T110000
DTEND;TZID=America/Denver:20240907T130000
DTSTAMP:20260424T192616
CREATED:20240811T045148Z
LAST-MODIFIED:20240811T045148Z
UID:6930-1725706800-1725714000@ut501st.com
SUMMARY:5th annual cleft family picnic
DESCRIPTION:This is the 5th annual cleft family picnic put on by Primary Children’s Hospital Cleft team and parent group Cleft Strong Utah. This is a picnic for children who were born with cleft lip and/or palate as well as their families. Being born with facial differences\, it is important for these kids to get together and meet other people like them in a fun environment. The kids loved having us at their event last time and are hoping for us to come again.\nThis year it is at murray park pavilion 1. Change at your car. I will have a cooler with water and Gatorade. As well as some granola bars. It can get hot. I might have a staging area but I’m not sure yet.\nlightsabers and blasters ok\nchange at your car\n\nmurray park pavillion #1
URL:https://ut501st.com/event/5th-annual-cleft-family-picnic/
LOCATION:Murray City Park\, 292 E Murray Park Avenue\, Murray\, UT\, 84107\, United States
END:VEVENT
BEGIN:VEVENT
DTSTART;TZID=America/Denver:20240914T120000
DTEND;TZID=America/Denver:20240914T183000
DTSTAMP:20260424T192616
CREATED:20240917T184101Z
LAST-MODIFIED:20240917T184101Z
UID:6956-1726315200-1726338600@ut501st.com
SUMMARY:Back to School Pride Night
DESCRIPTION:The purpose of the even to connect LGBTQ+ and allied BYU students and faculty with resources and community at the start of the school year. This is usually the first pride event many of the attendees have ever been to.\nSchedule is being finalized but about 12-1:30pm\, folks will gather in\, hear speeches\, and go on a march around the park. Upon returning\, 60 vendors of various types\, including artisans\, non-profits\, local businesses\, and food trucks will be available. 5 local bands will play throughout the day\, and at about 6:30om\, the vendors will shut down for the evening’s final performances.\nWe are a registered 501(c)3 non-profit\n——————————————————————\nAll local Star Wars groups are welcome\, blasters and sabers permitted\, and a secure staging/changing area will be provided. More details to come from the event contact about the schedule as we get closer to the date.
URL:https://ut501st.com/event/back-to-school-pride-night/
LOCATION:Kiwanis Park\, 1019 N 1100 E\, Provo\, UT\, 84604\, United States
END:VEVENT
BEGIN:VEVENT
DTSTART;TZID=America/Denver:20240920T183000
DTEND;TZID=America/Denver:20240920T203000
DTSTAMP:20260424T192616
CREATED:20240920T033831Z
LAST-MODIFIED:20240920T033831Z
UID:6960-1726857000-1726864200@ut501st.com
SUMMARY:Teen Mini Comic-Con
DESCRIPTION:From the requestor: This will be an after-hours teen event at the library for ages 13-18. It is meant to provide some of the fun of a comic-con or FanX event for teens who may be unable to attend one for financial or other reasons. We plan on having a variety of activities including some local authors and illustrators\n——————————————————————\nSecure staging/changing will be provided\, blasters and sabers are permitted. They did put in the request that the venue is not very accessible to those with limited mobility (*I can ask for details if needed) but make a note of this if you are considering to go and this is of concern to you.
URL:https://ut501st.com/event/teen-mini-comic-con/
LOCATION:Payson Library\, 66 S Main St\, Payson\, UT\, 84651\, United States
END:VEVENT
BEGIN:VEVENT
DTSTART;TZID=America/Denver:20240921T170000
DTEND;TZID=America/Denver:20240921T200000
DTSTAMP:20260424T192616
CREATED:20240514T192007Z
LAST-MODIFIED:20240514T192007Z
UID:6868-1726938000-1726948800@ut501st.com
SUMMARY:Shine a light Nf walk
DESCRIPTION:Our event is a celebration of our NF ( Neurofibromatosis ) Heroes and their families. We have face painters\, games\, live music\, and other activities for everyone to do starting at 5 PM when registration opens. Then around 6:00 PM we will have a short program before we have our physical walk. Afterwards\, we will have snacks and more fun before everyone heads home. In the past\, the characters have helped send our walkers off and then greeted them when they have returned.\n\nThis is a change at your car event\nblasters and light sabers are ok\nwater and snacks provided\nthis is a public park and restrooms are available but they are public restrooms not secure chaning areas  there are places to park away from that pavillion and a short walk over if you dont want to change right there.
URL:https://ut501st.com/event/shine-a-light-nf-walk/
LOCATION:Sugarhouse park\, 1330 east 2100 south\, Salt Lake City\, UT\, 84106\, United States
END:VEVENT
BEGIN:VEVENT
DTSTART;VALUE=DATE:20240926
DTEND;VALUE=DATE:20240927
DTSTAMP:20260424T192616
CREATED:20241001T203532Z
LAST-MODIFIED:20241001T203532Z
UID:6964-1727308800-1727395199@ut501st.com
SUMMARY:FanX 2024 - Day 1
DESCRIPTION:
URL:https://ut501st.com/event/fanx-2024-day-1/
LOCATION:Salt Palace\, 90 South West Temple\, Salt Lake City\, UT
END:VEVENT
BEGIN:VEVENT
DTSTART;VALUE=DATE:20240927
DTEND;VALUE=DATE:20240928
DTSTAMP:20260424T192616
CREATED:20241001T203642Z
LAST-MODIFIED:20241001T203642Z
UID:6966-1727395200-1727481599@ut501st.com
SUMMARY:FanX 2024 - Day 2
DESCRIPTION:
URL:https://ut501st.com/event/fanx-2024-day-2/
LOCATION:Salt Palace\, 90 South West Temple\, Salt Lake City\, UT
END:VEVENT
BEGIN:VEVENT
DTSTART;VALUE=DATE:20240928
DTEND;VALUE=DATE:20240929
DTSTAMP:20260424T192616
CREATED:20241001T203735Z
LAST-MODIFIED:20241001T203735Z
UID:6970-1727481600-1727567999@ut501st.com
SUMMARY:FanX 2024 - Day 3
DESCRIPTION:
URL:https://ut501st.com/event/fanx-2024-day-3/
LOCATION:UT
END:VEVENT
BEGIN:VEVENT
DTSTART;TZID=America/Denver:20240928T090000
DTEND;TZID=America/Denver:20240928T113000
DTSTAMP:20260424T192616
CREATED:20240702T191305Z
LAST-MODIFIED:20240702T191305Z
UID:6911-1727514000-1727523000@ut501st.com
SUMMARY:walk to end alzheimers
DESCRIPTION:The Walk to End Alzheimer’s is an uplifting\, family-friendly event to support families in Salt Lake County living with Alzheimer’s and dementia. THe first hour participants visit booths before our program starts and they walk around the stadium interacting with people.\napprox. 500+ people\nsecure changing area : Yesblasters and lightsabers ok: Yes\nhttps://act.alz.org/site/TR/Walk2024/UT-Utah?pg=entry…\n\nas it gets closer we will have more info anout parking\, more than likley west of the stadium like normal.
URL:https://ut501st.com/event/walk-to-end-alzheimers/
LOCATION:America First Field\, 9256 south State Street\, Sandy\, UT\, 84070\, United States
END:VEVENT
END:VCALENDAR