BEGIN:VCALENDAR
VERSION:2.0
PRODID:-//Alpine Garrison - ECPv6.15.17.1//NONSGML v1.0//EN
CALSCALE:GREGORIAN
METHOD:PUBLISH
X-WR-CALNAME:Alpine Garrison
X-ORIGINAL-URL:https://ut501st.com
X-WR-CALDESC:Events for Alpine Garrison
REFRESH-INTERVAL;VALUE=DURATION:PT1H
X-Robots-Tag:noindex
X-PUBLISHED-TTL:PT1H
BEGIN:VTIMEZONE
TZID:America/Denver
BEGIN:DAYLIGHT
TZOFFSETFROM:-0700
TZOFFSETTO:-0600
TZNAME:MDT
DTSTART:20230312T090000
END:DAYLIGHT
BEGIN:STANDARD
TZOFFSETFROM:-0600
TZOFFSETTO:-0700
TZNAME:MST
DTSTART:20231105T080000
END:STANDARD
BEGIN:DAYLIGHT
TZOFFSETFROM:-0700
TZOFFSETTO:-0600
TZNAME:MDT
DTSTART:20240310T090000
END:DAYLIGHT
BEGIN:STANDARD
TZOFFSETFROM:-0600
TZOFFSETTO:-0700
TZNAME:MST
DTSTART:20241103T080000
END:STANDARD
BEGIN:DAYLIGHT
TZOFFSETFROM:-0700
TZOFFSETTO:-0600
TZNAME:MDT
DTSTART:20250309T090000
END:DAYLIGHT
BEGIN:STANDARD
TZOFFSETFROM:-0600
TZOFFSETTO:-0700
TZNAME:MST
DTSTART:20251102T080000
END:STANDARD
END:VTIMEZONE
BEGIN:VEVENT
DTSTART;TZID=America/Denver:20240802T160000
DTEND;TZID=America/Denver:20240802T200000
DTSTAMP:20260424T205253
CREATED:20240624T181459Z
LAST-MODIFIED:20240624T181459Z
UID:6908-1722614400-1722628800@ut501st.com
SUMMARY:Paws for a Cause
DESCRIPTION:We are hosting what we believe will be the largest pet adoption and fundraising event in the southwest valley. We will have at least a dozen\, if not two dozen\, shelters and rescues from across the state trying to adopt out dogs and cats. We will also have vendor\, booths\, food trucks\, entertainment\, raffles\, and more. We love the idea of having the 501st Legion to add additional entertainment value for our good cause.\n\nAt this time they are not sure about secure changing area\, as of right now it is a change at your car event\nlight sabers and blasters are ok
URL:https://ut501st.com/event/paws-for-a-cause/
LOCATION:paws for a cause\, 5373 W Main street\, herriman\, UT\, 84096\, United States
END:VEVENT
BEGIN:VEVENT
DTSTART;TZID=America/Denver:20240806T083000
DTEND;TZID=America/Denver:20240806T140000
DTSTAMP:20260424T205253
CREATED:20240226T033929Z
LAST-MODIFIED:20240226T033929Z
UID:6671-1722933000-1722952800@ut501st.com
SUMMARY:Camp Valor - Utah Hemophilia Foundation
DESCRIPTION:Utah Hemophilia Foundation. We hold a summer camp for kids’ with Hemophilia (bleeding disorder) in Utah every summer. The duration of the camp is one week. We are planning on the camp theme as Star Wars.  We think it would be cool to have people dressed up in costume coming and helping our kids get more excited about Star Wars and the theme as well as participating in the activities \n  \nsmall changing area in the arts lodge \nblasters and lightsabers are ok
URL:https://ut501st.com/event/camp-valor-utah-hemophilia-foundation/
LOCATION:1600 S Left Hand Fork Rd. Settlement Canyon Tooele\, UT 84074
END:VEVENT
BEGIN:VEVENT
DTSTART;TZID=America/Denver:20240831T110000
DTEND;TZID=America/Denver:20240831T190000
DTSTAMP:20260424T205253
CREATED:20240827T194912Z
LAST-MODIFIED:20240827T194912Z
UID:6941-1725102000-1725130800@ut501st.com
SUMMARY:FestEvil
DESCRIPTION:From the requestor: A show about bad guys. Similiar setup to JanuArty earlier this year. Vendors\, panels (please let me know if you have people who would like to do one)\, activities. Test run for Blast-a-trooper (laser tag edition). Have been working with Marial on ideas. Additional activities announced on Facebook and website as they are confirmed. Free to the public. Event focuesed on bad guys\, but lighter-side folks are welcome to attend. \nBlasters and sabers allowed. Changing room/staging area will be provided.
URL:https://ut501st.com/event/festevil/
LOCATION:Valley Fair Mall\, 3601 S 2700 W\, West Valley City\, UT\, 84119\, United States
END:VEVENT
END:VCALENDAR