BEGIN:VCALENDAR
VERSION:2.0
PRODID:-//Alpine Garrison - ECPv6.15.17.1//NONSGML v1.0//EN
CALSCALE:GREGORIAN
METHOD:PUBLISH
X-WR-CALNAME:Alpine Garrison
X-ORIGINAL-URL:https://ut501st.com
X-WR-CALDESC:Events for Alpine Garrison
REFRESH-INTERVAL;VALUE=DURATION:PT1H
X-Robots-Tag:noindex
X-PUBLISHED-TTL:PT1H
BEGIN:VTIMEZONE
TZID:America/Denver
BEGIN:DAYLIGHT
TZOFFSETFROM:-0700
TZOFFSETTO:-0600
TZNAME:MDT
DTSTART:20220313T090000
END:DAYLIGHT
BEGIN:STANDARD
TZOFFSETFROM:-0600
TZOFFSETTO:-0700
TZNAME:MST
DTSTART:20221106T080000
END:STANDARD
BEGIN:DAYLIGHT
TZOFFSETFROM:-0700
TZOFFSETTO:-0600
TZNAME:MDT
DTSTART:20230312T090000
END:DAYLIGHT
BEGIN:STANDARD
TZOFFSETFROM:-0600
TZOFFSETTO:-0700
TZNAME:MST
DTSTART:20231105T080000
END:STANDARD
BEGIN:DAYLIGHT
TZOFFSETFROM:-0700
TZOFFSETTO:-0600
TZNAME:MDT
DTSTART:20240310T090000
END:DAYLIGHT
BEGIN:STANDARD
TZOFFSETFROM:-0600
TZOFFSETTO:-0700
TZNAME:MST
DTSTART:20241103T080000
END:STANDARD
END:VTIMEZONE
BEGIN:VEVENT
DTSTART;VALUE=DATE:20230401
DTEND;VALUE=DATE:20230403
DTSTAMP:20260425T222235
CREATED:20230405T172509Z
LAST-MODIFIED:20230405T172509Z
UID:6213-1680307200-1680479999@ut501st.com
SUMMARY:Gem State Comic Con (2023)
DESCRIPTION:
URL:https://ut501st.com/event/gem-state-comic-con-2023/
LOCATION:UT
END:VEVENT
BEGIN:VEVENT
DTSTART;TZID=America/Denver:20230415T100000
DTEND;TZID=America/Denver:20230415T190000
DTSTAMP:20260425T222235
CREATED:20230408T142305Z
LAST-MODIFIED:20230408T143223Z
UID:6216-1681552800-1681585200@ut501st.com
SUMMARY:Whatspoppinutah day 1
DESCRIPTION:Whatspoppinutah is a community-based convention centered around Funko Pops. This year Amy Allen\, who played Aayla Secura in the prequels\, is a special guest. \nThe plan would be to remain in one area for photo ops. No need to stay the entire time\, but please plan on staying at least 2 hours if possible. Please refrain from taking pictures with vendors. Also please ensure we do NOT wander the mall. We must remain within Utah Arts Alliance’s space while in costume. A photo op with Amy Allen will also be happening\, more to come on that. \nWater and snacks will be provided. Lunch will be provided for those trooping around lunchtime. Secure changing/storage will also be provided.
URL:https://ut501st.com/event/whatspoppinutah-day-1/
LOCATION:Utah Arts Alliance Sandy Campus\, 10450 S State St\, Ste. 2320\, Sandy\, UT\, 84070\, United States
END:VEVENT
BEGIN:VEVENT
DTSTART;TZID=America/Denver:20230416T100000
DTEND;TZID=America/Denver:20230416T170000
DTSTAMP:20260425T222235
CREATED:20230408T142540Z
LAST-MODIFIED:20230408T143221Z
UID:6219-1681639200-1681664400@ut501st.com
SUMMARY:Whatspoppinutah day 2
DESCRIPTION:Whatspoppinutah is a community-based convention centered around Funko Pops. This year Amy Allen\, who played Aayla Secura in the prequels\, is a special guest. \nThe plan would be to remain in one area for photo ops. No need to stay the entire time\, but please plan on staying at least 2 hours if possible. Please refrain from taking pictures with vendors. Also please ensure we do NOT wander the mall. We must remain within Utah Arts Alliance’s space while in costume. \nA photo op with Amy Allen will also be happening\, more to come on that. \nWater and snacks will be provided. Lunch will be provided for those trooping around lunchtime. Secure changing/storage will also be provided.
URL:https://ut501st.com/event/whatspoppinutah-day-2/
LOCATION:Utah Arts Alliance Sandy Campus\, 10450 S State St\, Ste. 2320\, Sandy\, UT\, 84070\, United States
END:VEVENT
BEGIN:VEVENT
DTSTART;TZID=America/Denver:20230421T170000
DTEND;TZID=America/Denver:20230421T200000
DTSTAMP:20260425T222235
CREATED:20230410T144902Z
LAST-MODIFIED:20230410T145343Z
UID:6226-1682096400-1682107200@ut501st.com
SUMMARY:Lehi High School Make-A-Wish Carnival
DESCRIPTION:This is Lehi High School’s charity carnival to raise money for Make a Wish. Each club at our school is doing a booth\, and our characters are being requested to help with their Photo Op booth. All clubs are invited.\n\nOur contacts are asking for no more than 10 characters for their event from 6 PM to 8PM. As this is an event at a public school\, they have requested the following:\n\n* No Blasters or any prop resembling a real firearm. Lightsabers are permitted.\n* Family friendly/Modest costumes only. Examples of costumes the event contacts consider inappropriate for their venue are Huttslayer Leia\, Aayla Secura\, and some of Ahsoka Tano’s outfits.\n\nThere will be a changing area provided in one of their classrooms. Our call time is 5 PM. Parking is provided.\n\nEvent Contacts:\nEmma McCallister\n8018226080\nemmajaemcallister@gmail.com\n\nPreston Ward\n8016888038\nprestonward0210@gmail.com
URL:https://ut501st.com/event/lehi-high-school-make-a-wish-carnival/
LOCATION:Lehi High School\, 180 N\, 500 E\,\, Lehi\, UT\, 84043\, United States
END:VEVENT
BEGIN:VEVENT
DTSTART;TZID=America/Denver:20230421T173000
DTEND;TZID=America/Denver:20230421T213000
DTSTAMP:20260425T222235
CREATED:20230410T145233Z
LAST-MODIFIED:20230410T145233Z
UID:6228-1682098200-1682112600@ut501st.com
SUMMARY:Las Vegas Aviators Star Wars Night
DESCRIPTION:What: Aviators Star Wars Night\nWhen: Two Shifts!\nShift 1: 5:30 PM – 8:30 PM\nShift 2: 7 PM – 9:30 PM\nLead for Coruscant Base: Celeste Proudfoot\nLead for Event: James Noice\n\nMore info:\nWe are back for another Star Wars night at the Ballpark! This event is very popular with the fans and has been a sellout crowd every year. Due to the number of events on the weekend of April 29\, there are now two shifts so people can spend a shorter time at the Ball Park.\n\nWe will be participating in a Make A Wish reveal at the start of the game and as always\, we will be taking sign ups for anyone who would like to be part of the on the field activities during the game.\n\nOther than that we will be splitting up into small groups and interacting with the guests and taking pictures. We will try to take a large group shot between 7-8pm when the shifts overlap.\n\nWe have (7) Spots for costumed characters for both shifts. Let me know which shift you want to attend. We are giving priority to costumed characters\, but if you want to handle for this event please let me know. \n\nEnter the Ballpark will be from the east side of the stadium through the Loading Dock door. We will have a spot to change and restrooms and food and drink will be provided.\n\n*Duplicate characters are OK ( Chewbacca/Darth Vader/Princess Leia) but will need to be spaced out.\n* Blasters are OK\n*Lightsabers are OK
URL:https://ut501st.com/event/las-vegas-aviators-star-wars-night/
LOCATION:las Vegas Ballpark\, 1650 S Pavilion Center Drive\, Las Vegas\, NV\, 89135\, United States
END:VEVENT
BEGIN:VEVENT
DTSTART;TZID=America/Denver:20230424T173000
DTEND;TZID=America/Denver:20230424T203000
DTSTAMP:20260425T222235
CREATED:20230420T180841Z
LAST-MODIFIED:20230420T180841Z
UID:6263-1682357400-1682368200@ut501st.com
SUMMARY:Hazel's Wish Proclamation
DESCRIPTION:Hazel and her oldest sister are celebrating their wish proclamation and have invited us to join them. Hazel took a trip to Disney World were she met many characters and befriended Chewbacca.
URL:https://ut501st.com/event/hazels-wish-proclamation/
LOCATION:Riverwoods Conference Center\, 615 Riverwoods Pkwy\, Logan\, UT\, 84321\, United States
END:VEVENT
BEGIN:VEVENT
DTSTART;TZID=America/Denver:20230428T173000
DTEND;TZID=America/Denver:20230428T193000
DTSTAMP:20260425T222235
CREATED:20230427T041402Z
LAST-MODIFIED:20230427T041402Z
UID:6272-1682703000-1682710200@ut501st.com
SUMMARY:ROTJ Screening Jordan Commons Megaplex
DESCRIPTION:This is for people going to Jordan Commons for the Friday Screening. This troop will be similar to the Rogue One screening last year in that we’ll be hanging in the lobby and taking pictures with guests. Do not ask for or expect anything free from the theater. NO FREE TICKETS! You will need to purchase your own if you wish to watch the film.
URL:https://ut501st.com/event/rotj-screening-jordan-commons-megaplex/
LOCATION:Megaplex Jordan Commons\, 9335 State St\, Sandy\, UT\, 84070\, United States
END:VEVENT
BEGIN:VEVENT
DTSTART;TZID=America/Denver:20230428T173000
DTEND;TZID=America/Denver:20230428T193000
DTSTAMP:20260425T222235
CREATED:20230427T041807Z
LAST-MODIFIED:20230427T041807Z
UID:6275-1682703000-1682710200@ut501st.com
SUMMARY:ROTJ Screening Legacy Crossing Megaplex
DESCRIPTION:This is for people going to Legacy Crossing Megaplex for the Friday Screening. This troop will be similar to the Rogue One screening last year in that we’ll be hanging in the lobby and taking pictures with guests. Do not ask for or expect anything free from the theater. NO FREE TICKETS! You will need to purchase your own if you wish to watch the film
URL:https://ut501st.com/event/rotj-screening-legacy-crossing-megaplex/
LOCATION:Legacy Crossing Megaplex\, 1075 Legacy Crossing Blvd\, Centerville\, UT\, 84014\, United States
END:VEVENT
BEGIN:VEVENT
DTSTART;TZID=America/Denver:20230428T173000
DTEND;TZID=America/Denver:20230428T193000
DTSTAMP:20260425T222235
CREATED:20230427T042139Z
LAST-MODIFIED:20230427T042139Z
UID:6278-1682703000-1682710200@ut501st.com
SUMMARY:ROTJ Screening Geneva Megaplex
DESCRIPTION:This is for people going to Geneva Megaplex for the Friday Screening. This troop will be similar to the Rogue One screening last year in that we’ll be hanging in the lobby and taking pictures with guests. Do not ask for or expect anything free from the theater. NO FREE TICKETS! You will need to purchase your own if you wish to watch the film.
URL:https://ut501st.com/event/rotj-screening-geneva-megaplex/
LOCATION:Megaplex Geneva\, 600 N Mill Road\, Vineyard\, UT\, 84058\, United States
END:VEVENT
BEGIN:VEVENT
DTSTART;TZID=America/Denver:20230428T173000
DTEND;TZID=America/Denver:20230428T193000
DTSTAMP:20260425T222235
CREATED:20230427T042458Z
LAST-MODIFIED:20230427T042458Z
UID:6281-1682703000-1682710200@ut501st.com
SUMMARY:ROTJ Screening Valley Fair Megaplex
DESCRIPTION:This is for people going to Valley Fair for the Friday Screening. This troop will be similar to the Rogue One screening last year in that we’ll be hanging in the lobby and taking pictures with guests. Do not ask for or expect anything free from the theater. NO FREE TICKETS! You will need to purchase your own if you wish to watch the film.
URL:https://ut501st.com/event/rotj-screening-valley-fair-megaplex/
LOCATION:Megaplex Valley Fair\, 3601 S 2400 W\, West Valley City\, UT\, 84119\, United States
END:VEVENT
BEGIN:VEVENT
DTSTART;TZID=America/Denver:20230428T173000
DTEND;TZID=America/Denver:20230428T193000
DTSTAMP:20260425T222235
CREATED:20230427T042804Z
LAST-MODIFIED:20230427T042804Z
UID:6284-1682703000-1682710200@ut501st.com
SUMMARY:ROTJ Screening Thanksgiving Point Megaplex
DESCRIPTION:This is for people going to Thanksgiving Point for the Friday Screening. This troop will be similar to the Rogue One screening last year in that we’ll be hanging in the lobby and taking pictures with guests. Do not ask for or expect anything free from the theater. NO FREE TICKETS! You will need to purchase your own if you wish to watch the film.
URL:https://ut501st.com/event/rotj-screening-thanksgiving-point-megaplex/
LOCATION:Megaplex Thanksgiving Point\, 2935 N Thanksgiving Way\, Lehi\, UT\, 84043\, United States
END:VEVENT
BEGIN:VEVENT
DTSTART;TZID=America/Denver:20230429T090000
DTEND;TZID=America/Denver:20230429T170000
DTSTAMP:20260425T222235
CREATED:20230308T231941Z
LAST-MODIFIED:20230308T231941Z
UID:6130-1682758800-1682787600@ut501st.com
SUMMARY:Minefest
DESCRIPTION:This is an all-day event\, please plan on attending at least 2 hours if you commit. We will have a small info table and changing area. \nCalling all Minecrafters! Experience brand new Minecraft-inspired attractions including our legendary Battle Stage\, Escape Rooms and much more! Meet some of your favorite YouTubers and participate in costume contests! From live PvP tournaments to educational workshops\, Minefest is sure to have something for everyone!
URL:https://ut501st.com/event/minefest/
LOCATION:Salt Palace\, 90 South West Temple\, Salt Lake City\, UT
END:VEVENT
BEGIN:VEVENT
DTSTART;TZID=America/Denver:20230429T173000
DTEND;TZID=America/Denver:20230429T193000
DTSTAMP:20260425T222235
CREATED:20230427T043449Z
LAST-MODIFIED:20230427T043449Z
UID:6287-1682789400-1682796600@ut501st.com
SUMMARY:ROTJ - Saturday Legacy Crossing
DESCRIPTION:This is for people going to Legacy Crossing Megaplex for the Saturday Screening. This troop will be similar to the Rogue One screening last year in that we’ll be hanging in the lobby and taking pictures with guests. Do not ask for or expect anything free from the theater. NO FREE TICKETS! You will need to purchase your own if you wish to watch the film.
URL:https://ut501st.com/event/rotj-saturday-legacy-crossing/
LOCATION:Legacy Crossing Megaplex\, 1075 Legacy Crossing Blvd\, Centerville\, UT\, 84014\, United States
END:VEVENT
BEGIN:VEVENT
DTSTART;TZID=America/Denver:20230429T173000
DTEND;TZID=America/Denver:20230429T193000
DTSTAMP:20260425T222235
CREATED:20230427T043643Z
LAST-MODIFIED:20230427T043643Z
UID:6289-1682789400-1682796600@ut501st.com
SUMMARY:ROTJ - Saturday Jordan Commons
DESCRIPTION:This is for people going to Jordan Commons Megaplex for the Saturday Screening. This troop will be similar to the Rogue One screening last year in that we’ll be hanging in the lobby and taking pictures with guests. Do not ask for or expect anything free from the theater. NO FREE TICKETS! You will need to purchase your own if you wish to watch the film.
URL:https://ut501st.com/event/rotj-saturday-jordan-commons/
LOCATION:Megaplex Jordan Commons\, 9335 State St\, Sandy\, UT\, 84070\, United States
END:VEVENT
BEGIN:VEVENT
DTSTART;TZID=America/Denver:20230429T173000
DTEND;TZID=America/Denver:20230429T193000
DTSTAMP:20260425T222235
CREATED:20230427T043915Z
LAST-MODIFIED:20230427T043934Z
UID:6291-1682789400-1682796600@ut501st.com
SUMMARY:ROTJ - Saturday Thanksgiving Point Megaplex
DESCRIPTION:This is for people going to Thanksgiving Point Megaplex for the Saturday Screening. This troop will be similar to the Rogue One screening last year in that we’ll be hanging in the lobby and taking pictures with guests. Do not ask for or expect anything free from the theater. NO FREE TICKETS! You will need to purchase your own if you wish to watch the film.
URL:https://ut501st.com/event/rotj-saturday-thanksgiving-point-megaplex/
LOCATION:Megaplex Thanksgiving Point\, 2935 N Thanksgiving Way\, Lehi\, UT\, 84043\, United States
END:VEVENT
BEGIN:VEVENT
DTSTART;TZID=America/Denver:20230429T173000
DTEND;TZID=America/Denver:20230429T193000
DTSTAMP:20260425T222235
CREATED:20230427T044131Z
LAST-MODIFIED:20230427T044131Z
UID:6293-1682789400-1682796600@ut501st.com
SUMMARY:ROTJ - Saturday Valley Fair Megaplex
DESCRIPTION:This is for people going to Valley Fair Megaplex for the Saturday Screening. This troop will be similar to the Rogue One screening last year in that we’ll be hanging in the lobby and taking pictures with guests. Do not ask for or expect anything free from the theater. NO FREE TICKETS! You will need to purchase your own if you wish to watch the film.
URL:https://ut501st.com/event/rotj-saturday-valley-fair-megaplex/
LOCATION:Megaplex Valley Fair\, 3601 S 2400 W\, West Valley City\, UT\, 84119\, United States
END:VEVENT
BEGIN:VEVENT
DTSTART;TZID=America/Denver:20230429T173000
DTEND;TZID=America/Denver:20230429T193000
DTSTAMP:20260425T222235
CREATED:20230427T044322Z
LAST-MODIFIED:20230427T044322Z
UID:6295-1682789400-1682796600@ut501st.com
SUMMARY:ROTJ - Saturday Geneva
DESCRIPTION:This is for people going to Geneva Megaplex for the Saturday Screening. This troop will be similar to the Rogue One screening last year in that we’ll be hanging in the lobby and taking pictures with guests. Do not ask for or expect anything free from the theater. NO FREE TICKETS! You will need to purchase your own if you wish to watch the film.
URL:https://ut501st.com/event/rotj-saturday-geneva/
LOCATION:Megaplex Geneva\, 600 N Mill Road\, Vineyard\, UT\, 84058\, United States
END:VEVENT
END:VCALENDAR