BEGIN:VCALENDAR
VERSION:2.0
PRODID:-//Alpine Garrison - ECPv6.15.17.1//NONSGML v1.0//EN
CALSCALE:GREGORIAN
METHOD:PUBLISH
X-WR-CALNAME:Alpine Garrison
X-ORIGINAL-URL:https://ut501st.com
X-WR-CALDESC:Events for Alpine Garrison
REFRESH-INTERVAL;VALUE=DURATION:PT1H
X-Robots-Tag:noindex
X-PUBLISHED-TTL:PT1H
BEGIN:VTIMEZONE
TZID:America/Denver
BEGIN:DAYLIGHT
TZOFFSETFROM:-0700
TZOFFSETTO:-0600
TZNAME:MDT
DTSTART:20240310T090000
END:DAYLIGHT
BEGIN:STANDARD
TZOFFSETFROM:-0600
TZOFFSETTO:-0700
TZNAME:MST
DTSTART:20241103T080000
END:STANDARD
BEGIN:DAYLIGHT
TZOFFSETFROM:-0700
TZOFFSETTO:-0600
TZNAME:MDT
DTSTART:20250309T090000
END:DAYLIGHT
BEGIN:STANDARD
TZOFFSETFROM:-0600
TZOFFSETTO:-0700
TZNAME:MST
DTSTART:20251102T080000
END:STANDARD
BEGIN:DAYLIGHT
TZOFFSETFROM:-0700
TZOFFSETTO:-0600
TZNAME:MDT
DTSTART:20260308T090000
END:DAYLIGHT
BEGIN:STANDARD
TZOFFSETFROM:-0600
TZOFFSETTO:-0700
TZNAME:MST
DTSTART:20261101T080000
END:STANDARD
END:VTIMEZONE
BEGIN:VEVENT
DTSTART;TZID=America/Denver:20250503T090000
DTEND;TZID=America/Denver:20250503T120000
DTSTAMP:20260425T080600
CREATED:20250319T231338Z
LAST-MODIFIED:20250319T231746Z
UID:7105-1746262800-1746273600@ut501st.com
SUMMARY:Moving Day - A Walk for Parkinson's
DESCRIPTION:From the event contact: This is a fundraiser for the Parkinson’s Foundation. From 9-10:30am we have various vendor booths and entertainment from our main stage. At 10:30\, participants walk around the park and then we close the event around noon. This event is meant to inspire and empower those living with Parkinson’s disease and their loved ones. The more community support we can show and bring fun elements like character appearances\, the better! We hope you can attend! \n-Blasters and lightsabers are ok\n-This will be a change-at-car event
URL:https://ut501st.com/event/moving-day-a-walk-for-parkinsons/
LOCATION:Liberty Park\, 700 E 900 S\, Salt Lake city\, UT\, 84105\, United States
END:VEVENT
BEGIN:VEVENT
DTSTART;TZID=America/Denver:20250503T100000
DTEND;TZID=America/Denver:20250503T120000
DTSTAMP:20260425T080600
CREATED:20250407T035708Z
LAST-MODIFIED:20250407T035708Z
UID:7131-1746266400-1746273600@ut501st.com
SUMMARY:star wars day at payson VA
DESCRIPTION:The Payson Veterans Home (Bennion Veterans Facility) has invited us to spend time with their residents. They would like us to be ready by 10:30\, and they will be bringing people into their large day room to come see us as they have in years past.\nThe maximum number of characters is 8\, served on a first-come\, first-served basis.\nsecure changing area YesLightsabers and blasters are ok.\ncontact person Jake Putnam 801-548-0493
URL:https://ut501st.com/event/star-wars-day-at-payson-va/
LOCATION:Payson Veterans Home\, 1551 N Main St\, Payson\, UT\, 84651
END:VEVENT
BEGIN:VEVENT
DTSTART;TZID=America/Denver:20250503T130000
DTEND;TZID=America/Denver:20250503T170000
DTSTAMP:20260425T080600
CREATED:20250428T232417Z
LAST-MODIFIED:20250428T232417Z
UID:7179-1746277200-1746291600@ut501st.com
SUMMARY:Craft Fair and Market
DESCRIPTION:We are celebrating Star Wars and Mother’s Day at this market. Event is 1-5pm. Come when you can and leave when you need. We have approximately 50-60 vendors attending as well. We have free drawings and photo ops set up.\nshow up when you can\nThis is the same craft and maker market that used to be at the South Towne Mall.\nThey are checking on a secure changing area; as of right now\, it is changing at your car.\nBlasters and lightsabers are ok for this event.\nContact person is: Jalene Ingersoll 801-505-2427
URL:https://ut501st.com/event/craft-fair-and-market/
LOCATION:salt lake masonic temple\, 799 east South temple\, Salt Lake City\, UT\, 84102\, United States
END:VEVENT
BEGIN:VEVENT
DTSTART;TZID=America/Denver:20250504T120000
DTEND;TZID=America/Denver:20250504T150000
DTSTAMP:20260425T080600
CREATED:20250208T164018Z
LAST-MODIFIED:20250503T034942Z
UID:7051-1746360000-1746370800@ut501st.com
SUMMARY:Clark Planetarium - May the 4th
DESCRIPTION:Clark Planetarium has invited us back for their annual May the 4th event. Details are the same as always: Staging and changing area will be in the 3rd floor classroom. Blasters and sabers are allowed
URL:https://ut501st.com/event/clark-planetarium-may-the-4th-2/
LOCATION:Clark Planetarium\, 110 s. 400 w.\, Salt Lake City\, UT\, 84101\, United States
END:VEVENT
BEGIN:VEVENT
DTSTART;TZID=America/Denver:20250504T150000
DTEND;TZID=America/Denver:20250504T180000
DTSTAMP:20260425T080600
CREATED:20250427T011057Z
LAST-MODIFIED:20250427T011057Z
UID:7167-1746370800-1746381600@ut501st.com
SUMMARY:planetarium afterparty dr volts and arts gallery
DESCRIPTION:  \nUrban Arts Gallery and Dr volts would like us to come and mingle after the planetarium event on May 4th.\nBlasters and light sabers are ok\, and they have some room to change in as well\, but most will already be in kit
URL:https://ut501st.com/event/planetarium-afterparty-dr-volts-and-arts-gallery/
LOCATION:Urban Arts Gallery\, 116 S Rio Grande St\, Salt Lake City\, UT\, 84101\, United States
END:VEVENT
BEGIN:VEVENT
DTSTART;TZID=America/Denver:20250505T093000
DTEND;TZID=America/Denver:20250505T110000
DTSTAMP:20260425T080600
CREATED:20250228T021530Z
LAST-MODIFIED:20250228T021530Z
UID:7092-1746437400-1746442800@ut501st.com
SUMMARY:West Kearns RISE Celebration
DESCRIPTION:From the event contact: We at West Kearns prepare our students to take the state test and prepare them with lessons themed around Star Wars. After our big review lesson\, we do a Star Wars theme party with all of our third graders. We have previously worked with you and you guys have always done an amazing job with interacting with the students and playing with them \n-Lightsabers\, blasters and prop weapons are allowed\n-Changing/staging room will be provided
URL:https://ut501st.com/event/west-kearns-rise-celebration-2/
LOCATION:west kearns elementary\, 4900 south 4620 west\, Kearns\, UT\, 84118\, United States
END:VEVENT
BEGIN:VEVENT
DTSTART;TZID=America/Denver:20250505T130000
DTEND;TZID=America/Denver:20250505T140000
DTSTAMP:20260425T080600
CREATED:20250225T045021Z
LAST-MODIFIED:20250225T045021Z
UID:7085-1746450000-1746453600@ut501st.com
SUMMARY:reading strikes back
DESCRIPTION:We are hosting our 4th annual Star Wars reading event! The theme is “Reading Strikes Back!” We would love to have as many characters for our assembly. We will provide lunch\, a dedicated changing room and a free t-shirt that has our theme on it. The assembly will be a short 20 minutes and then the remaining 40 minutes will be walking around and doing photos with students.\nBe ready prior to 1pm dressed.\nNo light sabers or blasterssecure changing area is available on-site\nJessica Smith is the contact : 801-737-8133
URL:https://ut501st.com/event/reading-strikes-back/
LOCATION:New Bridge Elementary\, 2150 Jefferson Ave\, Ogden\, UT\, 84401\, United States
END:VEVENT
BEGIN:VEVENT
DTSTART;TZID=America/Denver:20250505T180000
DTEND;TZID=America/Denver:20250505T203000
DTSTAMP:20260425T080600
CREATED:20250405T234640Z
LAST-MODIFIED:20250405T234640Z
UID:7127-1746468000-1746477000@ut501st.com
SUMMARY:PG Library may the 4th
DESCRIPTION:Sith Training and Various activities will be set up around the library\, inside and outside. Kids will defend the AT-AT from attack (balls thrown at them- hopefully by our school baseball team) with light sabers\, trivia (good guy/bad guy\, general Star Wars)\, target the x-wing\, speeder bike run\, can you shoot better than a stormtrooper\, whack-a-ewok\, and a craft or two. It will be so much fun.It will be better with you all.\n6:30 is the actual start time\, 6pm gives us time to change and get ready\n\nchanging area is provided\nLight sabers and blasters are ok
URL:https://ut501st.com/event/pg-library-may-the-4th/
LOCATION:Pleasant Grove Library\, 30 E Center St\, Pleasant Grove\, UT\, 84062\, United States
END:VEVENT
BEGIN:VEVENT
DTSTART;TZID=America/Denver:20250506T130000
DTEND;TZID=America/Denver:20250506T143000
DTSTAMP:20260425T080600
CREATED:20250424T015625Z
LAST-MODIFIED:20250424T015625Z
UID:7151-1746536400-1746541800@ut501st.com
SUMMARY:logan library story timeTuesday
DESCRIPTION:We plan a regular storytime for May the 4th. This year it is on the Revenge of the Sixth and we would love anybody local to come and meet some little kiddos for a photo shoot.\nNo blasters\, yes to light sabersyes to secure storage\nThey are asking for 3 costumed characters and one or 2 spotters\, if one more character showed up that is ok \nLaura is the contact: 436-716-9134
URL:https://ut501st.com/event/logan-library-story-timetuesday/
LOCATION:logan library\, 285 North Main\, Logan\, UT\, 84321\, United States
END:VEVENT
BEGIN:VEVENT
DTSTART;TZID=America/Denver:20250507T110000
DTEND;TZID=America/Denver:20250507T123000
DTSTAMP:20260425T080600
CREATED:20250424T015828Z
LAST-MODIFIED:20250424T015828Z
UID:7154-1746615600-1746621000@ut501st.com
SUMMARY:logan library story time wednesday
DESCRIPTION:We plan a regular storytime for May the 4th. This year it is on the Revenge of the Sixth on the 7th and we would love anybody local to come and meet some little kiddos for a photo shoot.\nNo blasters\, yes to light sabersyes to secure storage\nThey are asking for 3 costumed characters and one or 2 spotters\, if one more character showed up that is ok \nLaura is the contact: 436-716-9134
URL:https://ut501st.com/event/logan-library-story-time-wednesday/
LOCATION:logan library\, 285 North Main\, Logan\, UT\, 84321\, United States
END:VEVENT
BEGIN:VEVENT
DTSTART;TZID=America/Denver:20250507T130000
DTEND;TZID=America/Denver:20250507T150000
DTSTAMP:20260425T080600
CREATED:20250409T235630Z
LAST-MODIFIED:20250409T235630Z
UID:7135-1746622800-1746630000@ut501st.com
SUMMARY:primary childrens hospital lehi star wars month bash
DESCRIPTION:Primary Children’s Hospital\, Lehi Campus\, would like us to come back and play games like last time\, bingo\, visit\, etc.\nSecure changing area\, yes.\nblasters nolightsabers yes\nThe same rules always apply to the hospitals: No pictures taken home from us with children\, and no asking about why they are there.\nMake sure your kits are clean\, plastic wiped down\, fabric washed\, etc. No BO\, my friends \nSmiles checkgood attitude check
URL:https://ut501st.com/event/primary-childrens-hospital-lehi-star-wars-month-bash/
LOCATION:2250 N Miller\, 2250 N Miller drive\, lehi\, UT\, 84043\, United States
END:VEVENT
BEGIN:VEVENT
DTSTART;TZID=America/Denver:20250514T173000
DTEND;TZID=America/Denver:20250514T203000
DTSTAMP:20260425T080600
CREATED:20250428T234414Z
LAST-MODIFIED:20250428T234414Z
UID:7181-1747243800-1747254600@ut501st.com
SUMMARY:Star Wars Night - RSL 2025
DESCRIPTION:– Location: America First Field – 9256 s State St\, Sandy\, UT 84070\n– Event start time & approx. end time: 6:00PM – 9:30PM\n– Call time: 5:00PM – Doors open at 6:00\n– Changing room details: A designated changing room will be available with snacks.\n– Blasters and Light sabers are ok.
URL:https://ut501st.com/event/star-wars-night-rsl-2025/
LOCATION:America First Field\, 9256 south State Street\, Sandy\, UT\, 84070\, United States
END:VEVENT
BEGIN:VEVENT
DTSTART;TZID=America/Denver:20250516T090000
DTEND;TZID=America/Denver:20250516T103000
DTSTAMP:20260425T080600
CREATED:20250417T174833Z
LAST-MODIFIED:20250417T174833Z
UID:7142-1747386000-1747391400@ut501st.com
SUMMARY:Whiteside elementary walkthrough
DESCRIPTION:Start at 9:30\, walking through the elementary school with a guide to each classroom.\nSecure changing area provided.\nBlasters and Lightsabers are allowed for this event
URL:https://ut501st.com/event/whiteside-elementary-walkthrough/
LOCATION:Whitesides Elementary\, 233 N Colonial Ave.\, Layton\, UT\, 84043\, United States
END:VEVENT
BEGIN:VEVENT
DTSTART;TZID=America/Denver:20250516T160000
DTEND;TZID=America/Denver:20250516T180000
DTSTAMP:20260425T080600
CREATED:20250404T001000Z
LAST-MODIFIED:20250404T001000Z
UID:7122-1747411200-1747418400@ut501st.com
SUMMARY:Make-a-Wish Proclamation in Logan
DESCRIPTION:Make-a-Wish Utah has invited us to a Wish Proclamation in Logan for a young boy that will be going to Disney World for the first time. He loves Star Wars and Darth Vader as his favorite character. They’ll be having a Make-a-Wish reveal party for him with friends and family and we’ll be there to support that wish proclamation\, interact and take photos with those in attendance. They would love to see Vader and Stormtroopers\, but this will be an open invite for all characters. \n– Blasters and sabers allowed\n– Secure staging/changing area will be provided
URL:https://ut501st.com/event/make-a-wish-proclamation-in-logan/
LOCATION:Fox Pest Control\, 755 Main Street\, Logan\, UT\, 84321\, United States
END:VEVENT
BEGIN:VEVENT
DTSTART;TZID=America/Denver:20250517T080000
DTEND;TZID=America/Denver:20250517T120000
DTSTAMP:20260425T080600
CREATED:20250208T165847Z
LAST-MODIFIED:20250208T165847Z
UID:7057-1747468800-1747483200@ut501st.com
SUMMARY:Breakthrough T1D One Walk
DESCRIPTION:This is the JDRF Foundation (*rebranded as Breakthrough T1D) that invites us each year to the walk for Type 1 Diabetes to raise money for research to mingle and interact with families at the event. Blasters and sabers are allowed. A 10’x10′ pop-up tent will be provided for staging/changing
URL:https://ut501st.com/event/breakthrough-t1d-one-walk/
LOCATION:The Shops at South Town\, 10450 S State St\, Sandy\, UT\, 84070\, United States
END:VEVENT
BEGIN:VEVENT
DTSTART;TZID=America/Denver:20250517T120000
DTEND;TZID=America/Denver:20250517T150000
DTSTAMP:20260425T080600
CREATED:20250418T022725Z
LAST-MODIFIED:20250418T022725Z
UID:7145-1747483200-1747494000@ut501st.com
SUMMARY:Ride the Brainwave
DESCRIPTION:A fundraising event for Children and the Earth\, a 501c3\, that supports families with children who have severe disabilities or illnesses. The money goes back to the families to help cover any medical or living expenses they may have as well as final Dream Lists for the kids. \nWe are doing a “fun run” around the promenade in afternoon so having you guys there from like 12 to 3 would be amazing. \nChanging/staging space will be provided \nBlasters and sabers allowed
URL:https://ut501st.com/event/ride-the-brainwave-4/
LOCATION:Sandy City Promenade\, 173 W Sego Lily Drive\, Sandy\, UT\, 84070\, United States
END:VEVENT
BEGIN:VEVENT
DTSTART;TZID=America/Denver:20250517T170000
DTEND;TZID=America/Denver:20250517T203000
DTSTAMP:20260425T080600
CREATED:20250401T203724Z
LAST-MODIFIED:20250401T203724Z
UID:7114-1747501200-1747513800@ut501st.com
SUMMARY:Walk to Cure Arthritis 2025
DESCRIPTION:We’ve been invited back to the Arthritis Foundation’s Walk to Cure Arthritis event for this year at the Riverton City Park. We’ll be there to interact and take photos with families in attendance\, and support and cheer them on as they kick off the walk around the park. \n– No secure changing/staging\, this is a change-at-car event.\n– Blasters and sabers are allowed
URL:https://ut501st.com/event/walk-to-cure-arthritis-2025/
LOCATION:1452 w 12600 s riverton utah 84065\, 1452 w 12600 s\, riverton\, UT\, 84065\, United States
END:VEVENT
BEGIN:VEVENT
DTSTART;TZID=America/Denver:20250519T133000
DTEND;TZID=America/Denver:20250519T150000
DTSTAMP:20260425T080600
CREATED:20250213T012302Z
LAST-MODIFIED:20250213T012302Z
UID:7071-1747661400-1747666800@ut501st.com
SUMMARY:north park elementary reading celebration
DESCRIPTION:No blasters at schoolLightsabers are oksecure changing available on-site\nNorth Park Reading Celebration! They would love for some Star Wars characters to come and be part of their awards party and help hand out awards\, mingle with the families\, etc…\nMust be ready by 1:45 \nJolyn Emerson is the contact 801-452-4340\napproximate number of people attending 600
URL:https://ut501st.com/event/north-park-elementary-reading-celebration/
LOCATION:4046 S 2175 W roy utah 84067\, 4046 S 2175 W\, Roy\, UT\, 84067\, United States
END:VEVENT
BEGIN:VEVENT
DTSTART;TZID=America/Denver:20250522T173000
DTEND;TZID=America/Denver:20250522T190000
DTSTAMP:20260425T080600
CREATED:20250516T214650Z
LAST-MODIFIED:20250516T214650Z
UID:7195-1747935000-1747940400@ut501st.com
SUMMARY:Cyprus Hogh School Comic Concert
DESCRIPTION:  \nIt is a high school band and orchestra concert. We will essentially be performing music inspired by the fandoms found at a typical convention- i.e. Star Wars\, Disney\, Superheroes\, and the like. I am an avid Star Wars fan and have wanted to invite y’all to an event like this before and I am just getting around to it. I know my students and the community would love y’all there for photos and meet and greets before the show.P.S. My principal says that the “space weapons” are okay. \nconcert starts at 7pm\, they would like us there and ready at 6pm to meet and greet/photo opps with them as they come into the high school\n700 attendeessecure changing provided at the high schoolLight sabers and blasters are ok at this event\nShould be a great event!!!
URL:https://ut501st.com/event/cyprus-hogh-school-comic-concert/
LOCATION:cyprus high school\, 8623 W 3000 S\, magna\, UT\, 84044\, United States
END:VEVENT
BEGIN:VEVENT
DTSTART;TZID=America/Denver:20250530T180000
DTEND;TZID=America/Denver:20250530T200000
DTSTAMP:20260425T080600
CREATED:20250406T001810Z
LAST-MODIFIED:20250406T001810Z
UID:7129-1748628000-1748635200@ut501st.com
SUMMARY:willow creek wipeout
DESCRIPTION:This Event has been approved by the 501st ( we ran it through before posting )\n\nThis is a neighborhood street block party for families and children on the last day of school\, with approximately 300 people in attendance. The event includes dinner\, bounce houses\, a rock wall\, outdoor games\, and face painting. It is a favorite event for the children and adding the characters would be amazing.\nA secure changing area is provided\nLightsabers and Blasters are ok.
URL:https://ut501st.com/event/willow-creek-wipeout/
LOCATION:8843 S Willow Green Dr\, Sandy\, UT\, 8843 S Willow Green Dr\, Sandy\, UT\, 84093\, United States
END:VEVENT
BEGIN:VEVENT
DTSTART;TZID=America/Denver:20250531T093000
DTEND;TZID=America/Denver:20250531T133000
DTSTAMP:20260425T080600
CREATED:20250516T233555Z
LAST-MODIFIED:20250516T233555Z
UID:7198-1748683800-1748698200@ut501st.com
SUMMARY:walk with angels
DESCRIPTION:  \nWalk With Angels is an advocacy event and fundraiser for United Angels Foundation\, a nonprofit that provides programs\, services and events for families raising children with special needs.\nLight sabers and blasters are ok\nsecure changing area will be provided\nhttp://www.walkwithangels.com/\nContact is Sylvia Lamapprox attendees 900
URL:https://ut501st.com/event/walk-with-angels-6/
LOCATION:Margaret Wines Park\, 500 N 100 E\, Lehi\, UT\, 84043\, United States
END:VEVENT
BEGIN:VEVENT
DTSTART;TZID=America/Denver:20250602T180000
DTEND;TZID=America/Denver:20250602T193000
DTSTAMP:20260425T080600
CREATED:20250507T032210Z
LAST-MODIFIED:20250507T032210Z
UID:7189-1748887200-1748892600@ut501st.com
SUMMARY:Braden Beat Cancer!!!
DESCRIPTION:This Event was run through the Legion event coordinators for approval\, which they gave.\nBraden is 6 years old and just finishing up treatment for leukemia. We are having a big party to celebrate him still being in remission and finishing over 2 years of cancer treatment. He recently became obsessed with Star Wars and the Mandalorian and would be beyond excited if some characters showed up to his party.\nBlasters and Light sabers are ok\nSecure changing is provided next door at the LDS chapel next to the park. If it is bad weather\, the party will be inside the church
URL:https://ut501st.com/event/braden-beat-cancer/
LOCATION:spring run park\, 3382 E spring Mountain Dr\, eagle mountain\, UT\, 84005\, United States
END:VEVENT
BEGIN:VEVENT
DTSTART;TZID=America/Denver:20250604T110000
DTEND;TZID=America/Denver:20250604T150000
DTSTAMP:20260425T080600
CREATED:20250410T203556Z
LAST-MODIFIED:20250410T203556Z
UID:7138-1749034800-1749049200@ut501st.com
SUMMARY:salt lake county employee appreciation event
DESCRIPTION:  \nThis event is all about showing appreciation to County Employees for all they do for the community. There will be games\, info booths\, and food trucks. It’s space-themed\, with Star Wars music playing at one or more locations. Characters walking around the crowds for picture ops are ideal and encouraged.\nThey expect about 1\,000 attendees.\nSecure changing Yes\nNo blasters or lightsabers at this event\nThis event is at the new West Jordan Library and Memorial Park.
URL:https://ut501st.com/event/salt-lake-county-employee-appreciation-event/
LOCATION:west jordan library\, 8030 S 1825 W\, west jordan\, UT\, 84088\, United States
END:VEVENT
BEGIN:VEVENT
DTSTART;TZID=America/Denver:20250605T170000
DTEND;TZID=America/Denver:20250605T190000
DTSTAMP:20260425T080600
CREATED:20250530T173404Z
LAST-MODIFIED:20250530T173404Z
UID:7213-1749142800-1749150000@ut501st.com
SUMMARY:Kids Club Star Wars Night
DESCRIPTION:Red Shoe Productions is running a kids club community program at Station Park this summer. They would love to make there June 5th date a Star Wars night to remember. They have asked for Saber-guild to put on a training at 530pm and 630pm. and for the all the other clubs to attend and troop around. (estimated to have a bit over 1\,000 people in attendance based on the past.)\nThere will be a changing/ storage area for us to use.\,\nBlasters and lightsabers are allowed.\,\nAny questions please contact Zack Coleman on FB for more details
URL:https://ut501st.com/event/kids-club-star-wars-night/
LOCATION:Station Park\, 140 N W Union Ave\, Farmington\, UT\, 84025\, United States
END:VEVENT
BEGIN:VEVENT
DTSTART;TZID=America/Denver:20250607T081500
DTEND;TZID=America/Denver:20250607T103000
DTSTAMP:20260425T080600
CREATED:20250530T174239Z
LAST-MODIFIED:20250530T174239Z
UID:7216-1749284100-1749292200@ut501st.com
SUMMARY:Cedar Hills Parade
DESCRIPTION:Great neighborhood parade every year\, we are signed up as a walking group\, we are Group number 6\nThe parade is STARTING at Deerfield Elementary and will end at\nHeritage Park.\n– The staging area is located on Harvey Blvd\, near Deerfield Elementary.\nLook for the signs.\n– Be at the staging area NO LATER than 8:30 AM.\n– The parade will start at 9AM and end around 10AM.\n– Enter the staging area from the west.\n– Find your assigned Group # and the leader of that group will place you.\n– I have attached a map of the parade route.\n– The parade line-up\, which could change\, is attached.\n– Please plan accordingly for the weather\, sunblock\, water\, etc\n– IMPORTANT TO REMEMBER: You may not do any activity that would\nstop or pause the flow of the parade.\n–  If children participate in your entry\, they must be supervised at all times\nthroughout the duration of the parade.\n– Spotter Requirement: All entries with a vehicle or float that will be\nthrowing candy or handing out fliers must have at least two (2)\ndesignated spotters (walkers). Spotters must be at least 16 years old.\n– Safety Guidelines for Spotters: Spotters must walk along the parade\nroute next to their entry (float\, vehicle\, etc.).\n– Spotters must walk to the edge of the crowd to distribute items\nsafely. Candy and flyers may not be thrown from vehicles or floats.\n– This rule is in place to prevent children from running into the street or\napproaching moving vehicles. \nGROUP 6\nWendi Jensen\nMayne Stream Media\n501st Alpine Garrison\nHarris Orthodontics\nSky Ridge Ballroom\nRaptor Roofing \n-blasters and light sabers are ok\n– no secure changing \, change at your car
URL:https://ut501st.com/event/cedar-hills-parade/
LOCATION:Cedar Hills Parade\, 4252 W Harvey Blvd\, Cedar Hills\, UT\, 84062\, United States
END:VEVENT
BEGIN:VEVENT
DTSTART;TZID=America/Denver:20250608T100000
DTEND;TZID=America/Denver:20250608T130000
DTSTAMP:20260425T080600
CREATED:20250314T005250Z
LAST-MODIFIED:20250314T005250Z
UID:7103-1749376800-1749387600@ut501st.com
SUMMARY:Utah Pride Parade 2025
DESCRIPTION:Pride 2025 is coming up! We will be operating as we have done in the past. As such. Here are some guidelines that have we need to adhere to: \n-NO PROMOTIONAL ITEMS\, HAND OUTS\, OR CANDY. We will not be tossing out or giving items out to the crowd. \n-NO RESTRICTED ITEMS. This will include our prop weapons. \n-SIGNS\, BANNERS\, & COMMUNICATION. We will need a sign or banner that tells people who we are. Our flags should work just fine. Number markers will also need to be carried by someone near the beginning of our entry. \nOur estimated number of participants will be around 60 people based on last year’s attendance. We will plan on having two vehicles pulling two trailers for costumers to ride on. \nThere will be a virtual orientation meeting on May 22nd from 1-2 PM.  If anyone would like to join the meeting\, feel free to reach out to James Beveridge.  Placards will be available for pickup on May 28th from 2-7 PM. \nAlso. 10:00 AM is the KICKOFF time\, not arrival. Please arrive at least 30 mins-1 hour beforehand so that you are prepared to start marching. Please stay hydrated as we will be in summer. Once we have more information regarding where we will be staging\, event details will be updated here and on the Discord event page
URL:https://ut501st.com/event/utah-pride-parade-2025/
LOCATION:148 W 200 S\, Salt Lake City\, UT\, 84101\, 148 W 200 S\, Salt Lake City\, UT\, 84101\, United States
END:VEVENT
BEGIN:VEVENT
DTSTART;TZID=America/Denver:20250610T090000
DTEND;TZID=America/Denver:20250610T120000
DTSTAMP:20260425T080600
CREATED:20250523T170638Z
LAST-MODIFIED:20250523T170638Z
UID:7208-1749546000-1749556800@ut501st.com
SUMMARY:Star Wars day at Parkdale Health and Rehab
DESCRIPTION:  \nWe have been invited to Parkdale Nursing and Rehab to come and make the residents smile for a couple hours. They have a secure changing room for us. Blasters and Lightsabers are ok. They will position us in a day room and bring residents and staff to us.\nsecure changing is providedblasters and lightsabers are ok\n 
URL:https://ut501st.com/event/star-wars-day-at-parkdale-health-and-rehab/
LOCATION:parkdale health and rehab\, 250 east 600 north\, price\, UT\, 84501\, United States
END:VEVENT
BEGIN:VEVENT
DTSTART;TZID=America/Denver:20250610T133000
DTEND;TZID=America/Denver:20250610T163000
DTSTAMP:20260425T080600
CREATED:20250523T170130Z
LAST-MODIFIED:20250523T170130Z
UID:7204-1749562200-1749573000@ut501st.com
SUMMARY:Star Wars at Pinnacle Nursing and Rehab
DESCRIPTION:Pinnacle nursing and rehab has invited us to come and get pictures with their residents. Blasters and Lightsabers are ok. There is a secure changing area for us. We will be in the dining room and the residents will be brought to us to get their picture taken. \nsecure changing area provided \nJake putnam is the contact for this event
URL:https://ut501st.com/event/star-wars-at-pinnacle-nursing-and-rehab/
LOCATION:pinnnacle nursing home\, 1340 East 300 north\, price\, UT\, 84501\, United States
END:VEVENT
BEGIN:VEVENT
DTSTART;TZID=America/Denver:20250613T170000
DTEND;TZID=America/Denver:20250613T193000
DTSTAMP:20260425T080600
CREATED:20250605T011759Z
LAST-MODIFIED:20250605T011759Z
UID:7224-1749834000-1749843000@ut501st.com
SUMMARY:Coats for Kids Car Show 2025
DESCRIPTION:A fundraising car show to help provide winter wear for local kids and families during the cold months. Meet and greet style with photo opportunities for attendees. \n– Staging/changing area will be provided\n– Blasters and sabers are ok for this event
URL:https://ut501st.com/event/coats-for-kids-car-show-2025/
LOCATION:Bountiful Car Show\, 255 S 100 W\, Bountiful\, UT\, 84010\, United States
END:VEVENT
BEGIN:VEVENT
DTSTART;TZID=America/Denver:20250620T180000
DTEND;TZID=America/Denver:20250620T200000
DTSTAMP:20260425T080600
CREATED:20250605T010410Z
LAST-MODIFIED:20250605T010410Z
UID:7220-1750442400-1750449600@ut501st.com
SUMMARY:South Ogden Days Family Night
DESCRIPTION:From the contact: “South Ogden City is holding our annual family night event on Friday\, June 20th as part of our South Ogden Days festivities. The character group we partnered with last year has since closed. I’ve worked with your organization many a times with other events and wanted to see if we might be able to have you participate in this one. \nThe event consists of some interactive community booths\, and we give away free ice cream and everything is free (including attendance) except for the fire department selling hot dogs for those interested. If you have a pop-up canopy\, your group is welcome to hang out under it for character photo ops and promote what you do in general. Or roaming is fine but it does get warm.” \nWe are looking into getting a canopy for this event for a staging/changing? area. Blasters and lightsabers are ok for the event.
URL:https://ut501st.com/event/south-ogden-days-family-night/
LOCATION:South Ogden Days\, 4300 Madison Ave\, Ogden\, UT\, 84403\, United States
END:VEVENT
END:VCALENDAR