BEGIN:VCALENDAR
VERSION:2.0
PRODID:-//Alpine Garrison - ECPv6.15.17.1//NONSGML v1.0//EN
CALSCALE:GREGORIAN
METHOD:PUBLISH
X-WR-CALNAME:Alpine Garrison
X-ORIGINAL-URL:https://ut501st.com
X-WR-CALDESC:Events for Alpine Garrison
REFRESH-INTERVAL;VALUE=DURATION:PT1H
X-Robots-Tag:noindex
X-PUBLISHED-TTL:PT1H
BEGIN:VTIMEZONE
TZID:America/Denver
BEGIN:DAYLIGHT
TZOFFSETFROM:-0700
TZOFFSETTO:-0600
TZNAME:MDT
DTSTART:20230312T090000
END:DAYLIGHT
BEGIN:STANDARD
TZOFFSETFROM:-0600
TZOFFSETTO:-0700
TZNAME:MST
DTSTART:20231105T080000
END:STANDARD
BEGIN:DAYLIGHT
TZOFFSETFROM:-0700
TZOFFSETTO:-0600
TZNAME:MDT
DTSTART:20240310T090000
END:DAYLIGHT
BEGIN:STANDARD
TZOFFSETFROM:-0600
TZOFFSETTO:-0700
TZNAME:MST
DTSTART:20241103T080000
END:STANDARD
BEGIN:DAYLIGHT
TZOFFSETFROM:-0700
TZOFFSETTO:-0600
TZNAME:MDT
DTSTART:20250309T090000
END:DAYLIGHT
BEGIN:STANDARD
TZOFFSETFROM:-0600
TZOFFSETTO:-0700
TZNAME:MST
DTSTART:20251102T080000
END:STANDARD
END:VTIMEZONE
BEGIN:VEVENT
DTSTART;TZID=America/Denver:20240701T190000
DTEND;TZID=America/Denver:20240701T204500
DTSTAMP:20260425T080831
CREATED:20240620T002104Z
LAST-MODIFIED:20240620T002104Z
UID:6904-1719860400-1719866700@ut501st.com
SUMMARY:Bountiful Philharmonia Orchestra family concert
DESCRIPTION:  \nNon-profit 501c3 Bountiful Philharmonia Orchestra family concert- High quality professional level group performing music from stage and screen- featured performance of the 25 min Original full film music (not an arrangement) of the John Williams Star wars suite. Entire concert will be about 1 hr\, 25 min- also performing patriotic and musical (Oklahoma!\, Wizard of Oz\, etc..)\nMovements are:\n1. Star Wars original title music\n2. Princess Leia Theme\n3. Imperial March\n4. Yoda’s Theme\n5. Throne Room music and finale \nThey are trying to get a changing area approved\, but as of right now it is a change at your car event \nlight sabers and blasters are allowed \napprox. attendance 500+ for the concert \nhttps://bountiphil.org/news/] \nthey were hoping for a Darth vader of course 🙂 but any other star wars characters that would like to come are welcome. \nhwere is the link to the exact place where the concert will be held in the park \nhttps://maps.app.goo.gl/spxjJybFChLLLtan6 \nthey will have some refreshments for those attending as well \n 
URL:https://ut501st.com/event/bountiful-philharmonia-orchestra-family-concert/
LOCATION:400 north 200 west bountiful utah 84010\, 400 north 200 west\, bountiful\, UT\, 84010\, United States
END:VEVENT
BEGIN:VEVENT
DTSTART;TZID=America/Denver:20240626T183000
DTEND;TZID=America/Denver:20240626T210000
DTSTAMP:20260425T080831
CREATED:20240612T030429Z
LAST-MODIFIED:20240612T030429Z
UID:6892-1719426600-1719435600@ut501st.com
SUMMARY:Hogel Zoo Dream Nights
DESCRIPTION:“Dream Night\,” which lets physically challenged\, chronically ill or special-needs children and their families enjoy a complimentary evening at Utah’s Hogle Zoo\, will run from 6:30 to 9 p.m. \nNo restrictions on numbers\nlight sabers are allowed and blasters\nSecure changing room will be provided like usual \nThe only issue last year was some of the voice changers and speakers do work around the wild cats\, please dont go into the wil;d cats if you have a voice changer .\nthey will have more information for everyone at the event so we know how and where to go that will benefit the animals ( and not freak them out ).\nShould be a fun night 
URL:https://ut501st.com/event/hogel-zoo-dream-nights/
LOCATION:Hogle Zoo\, 2600 Sunnyside Ave\, Salt Lake City\, UT\, 84108\, United States
END:VEVENT
BEGIN:VEVENT
DTSTART;TZID=America/Denver:20240622T170000
DTEND;TZID=America/Denver:20240624T193000
DTSTAMP:20260425T080831
CREATED:20240522T022209Z
LAST-MODIFIED:20240623T051014Z
UID:6875-1719075600-1719257400@ut501st.com
SUMMARY:Bees baseball star wars night
DESCRIPTION:Bees baseball game\nsecure changing are : Yes\nlight sabers are okblasters are ok\nwe will be getting some maps in the near future with areas to park at and where to go when arriving to the stadium\nno Max on characters for this event
URL:https://ut501st.com/event/bees-baseball-star-wars-night/
LOCATION:Smiths ballpark\, 77 w. 1300 S.\, Salt Lake City\, UT\, 84115\, United States
END:VEVENT
BEGIN:VEVENT
DTSTART;TZID=America/Denver:20240622T110000
DTEND;TZID=America/Denver:20240622T130000
DTSTAMP:20260425T080831
CREATED:20240615T193658Z
LAST-MODIFIED:20240618T233351Z
UID:6894-1719054000-1719061200@ut501st.com
SUMMARY:Celebration of Life for Emmett Bleyle
DESCRIPTION:Emmett is one of the Mascot Miracle Association’s superhero kids. He gained his wings (passed away) last week\, and his family has asked that the Mascots and the Star Wars clubs attend his celebration of life on the 22nd\, at Miracle Bowling in Orem\nPlan right now for a change at your car event\, they said unsure if a room is available\, so we will update that if it changes\nno blasters\, no lightsabers allowed for this event
URL:https://ut501st.com/event/celebration-of-life-for-emmett-bleyle/
LOCATION:miracle bowl\, 1585 S State Street\, Orem\, 84097\, United States
END:VEVENT
BEGIN:VEVENT
DTSTART;TZID=America/Denver:20240622T090000
DTEND;TZID=America/Denver:20240622T150000
DTSTAMP:20260425T080831
CREATED:20240417T195819Z
LAST-MODIFIED:20240417T195819Z
UID:6796-1719046800-1719068400@ut501st.com
SUMMARY:Ride the Brainwave
DESCRIPTION:  \nRide the Brainwave is Children and the Earth’s annual fundraiser to help support families with children who have severe disabilities and/or illnesses. It includes a 5K\, motorcycle/Jeed/UTV rally\, Kids carnival area\, car show\, concerts\, food trucks\, vendors\, etc. All money after associated costs with the event goes directly back to the families for every day expenses (housing\, groceries\, gas\, etc)\, medical bills or helping with a child’s final Wish List. \nsecure changing yes \nblasters and lightsabers are both ok \n 
URL:https://ut501st.com/event/ride-the-brainwave-3/
LOCATION:173 west sego lily drive\, 173 west sego lily drive\, sandy\, UT\, 84070\, United States
END:VEVENT
BEGIN:VEVENT
DTSTART;TZID=America/Denver:20240615T173000
DTEND;TZID=America/Denver:20240615T203000
DTSTAMP:20260425T080831
CREATED:20240604T165441Z
LAST-MODIFIED:20240604T165441Z
UID:6884-1718472600-1718483400@ut501st.com
SUMMARY:Walk to End Epilepsy
DESCRIPTION:From the requestor:  \nThis is annual fundraiser/community event to support the programs and services of the Epilepsy Fundation Utah. The event will include a face painter\, balloon artist\, 3 mile walk followed by pizza. Have worked with you on this event in past years.  \nSecure staging/changing area will be provided. Blasters and sabers are permitted.
URL:https://ut501st.com/event/walk-to-end-epilepsy-2/
LOCATION:Wheeler Farm\, 6351 S 900 E\, Murray\, UT\, 84121\, United States
END:VEVENT
BEGIN:VEVENT
DTSTART;TZID=America/Denver:20240615T080000
DTEND;TZID=America/Denver:20240615T120000
DTSTAMP:20260425T080831
CREATED:20240201T041521Z
LAST-MODIFIED:20240311T215838Z
UID:6636-1718438400-1718452800@ut501st.com
SUMMARY:Millie's Princess Run
DESCRIPTION:Each year we hold the annual Millie’s Princess Run\, our largest event of the year\, in support of two local families. The morning begins with a 5K and KidsK\, followed by a carnival including bounce houses\, rope courses\, balloon animals\, dancing\, and food\, with the highlight being all of the characters who come to support the run and enjoy the party after. Each run has been larger than the last with over 1\,000 runners registered and even more people attending the carnival after. The run is organized and operated completely by volunteers\, allowing for all funds raised during the day to go directly to the two families.\nblasters and light sabers are ok at this event\nlike normal they are saying unsure about changing but it has been a change in the parking lot type event in the past\nthe race start right at 8am\, would be best if you wanted to run it or cheer them on be there by 7:30 am ready to go\nthe park is called the electric light park at thanksgiving point\n  \n 
URL:https://ut501st.com/event/millies-princess-rub/
LOCATION:Thanksgiving Point Electric Park\, 3003 Thanksgiving Way\, Lehi\, UT\, 84043\, United States
END:VEVENT
BEGIN:VEVENT
DTSTART;TZID=America/Denver:20240614T180000
DTEND;TZID=America/Denver:20240614T200000
DTSTAMP:20260425T080831
CREATED:20240605T191619Z
LAST-MODIFIED:20240605T191619Z
UID:6888-1718388000-1718395200@ut501st.com
SUMMARY:coats for kids car show
DESCRIPTION:A fun event to raise funds to provide winter wear for kids. Changing location the the fire department at 255 S 100 W Bountiful Ut\nwe have done this event for several years and it is a huge community event with thousands of people attending. Very fun and a very good cause.\n\nlight sabers and blasters are ok\n\nsecure changing at the firehouse right close by to the event. easy access.
URL:https://ut501st.com/event/coats-for-kids-car-show-3/
LOCATION:200 s main st bountiful 84010\, 200 s main st bountiful utah 84010\, bountiful\, UT\, 84010\, United States
END:VEVENT
BEGIN:VEVENT
DTSTART;TZID=America/Denver:20240608T100000
DTEND;TZID=America/Denver:20240608T140000
DTSTAMP:20260425T080831
CREATED:20240523T020357Z
LAST-MODIFIED:20240523T020357Z
UID:6878-1717840800-1717855200@ut501st.com
SUMMARY:Special Olympics Utah 2024
DESCRIPTION:Special olympics 2024\ncome out and make some people very happy\, they love star wars characters!!! We have a lot of Star Wars fans\, and I know our athletes would enjoy having the opportunity to mix and mingle and take photos with the Star Wars characters\n\nSecure changing YesLight sabers yesblasters no\nthis event is at granger high school in west valley city utah\, last year was very fun\, the participants love you guys!!!
URL:https://ut501st.com/event/special-olympics-utah-2024/
LOCATION:Granger High School\, 3690 S 3600 W\, West Valley City\, UT\, 84119\, United States
END:VEVENT
BEGIN:VEVENT
DTSTART;TZID=America/Denver:20240608T090000
DTEND;TZID=America/Denver:20240608T113000
DTSTAMP:20260425T080831
CREATED:20240305T234234Z
LAST-MODIFIED:20240305T234234Z
UID:6687-1717837200-1717846200@ut501st.com
SUMMARY:Intermountain Healing Hearts - Walk for Healing Hearts
DESCRIPTION:This is an annual walk to support families with heart defects. There is also an angel ceremony to remember those who have passed away. There will be family games\, a walk\, and a small silent auction. \nSecure staging/changing area will be provided. Lightsabers and blasters permitted.
URL:https://ut501st.com/event/intermountain-healing-hearts-walk-for-healing-hearts/
LOCATION:Flat Iron Mesa Park\, 1765 E 8600 S\, Sandy\, UT\, 84093\, United States
END:VEVENT
BEGIN:VEVENT
DTSTART;TZID=America/Denver:20240608T083000
DTEND;TZID=America/Denver:20240608T110000
DTSTAMP:20260425T080831
CREATED:20240311T215559Z
LAST-MODIFIED:20240311T215559Z
UID:6723-1717835400-1717844400@ut501st.com
SUMMARY:Cedar hills family festival parade 2024
DESCRIPTION:Cedar hills parade\, we did this one last year and it seemed to be a big hit and good turn out\, we are allowed one vehicle with a trailer and members can also walk the route. ( its not a huge parade route ) This is a change at your car event.\nthe parade starts at 9am\, members should be ready 30 minutes before hand.\nlight sabers and blasters are ok\, they mentioned they have water stations\, however we should make sure we have water and be hydrated before hand and have water on our trailer.\nAll groups are invited \, more details as to our place in line will come as we get closer
URL:https://ut501st.com/event/cedar-hills-family-festival-parade-2024/
LOCATION:cedar hills utah
END:VEVENT
BEGIN:VEVENT
DTSTART;TZID=America/Denver:20240603T093000
DTEND;TZID=America/Denver:20240604T113000
DTSTAMP:20260425T080831
CREATED:20240311T220605Z
LAST-MODIFIED:20240603T180903Z
UID:6727-1717407000-1717500600@ut501st.com
SUMMARY:weber county library reading kick off
DESCRIPTION:Each library will be holding their event from 10:30am-12:00pm on a different day during the first full week of June. These events are always very well-attended with approximately 300-500 people (children and their families). The theme for our Summer Reading program this year is “Adventure Begins at Your Library”\, and we thought it would be fun for the families to get to do a brief meet and greet and photo with some adventurous characters\, such as those from Star Wars \nsecure changing provided \nblasters and light sabers are ok \n 
URL:https://ut501st.com/event/weber-county-library-reading-kick-off/
LOCATION:UT
END:VEVENT
BEGIN:VEVENT
DTSTART;VALUE=DATE:20240602
DTEND;VALUE=DATE:20240603
DTSTAMP:20260425T080831
CREATED:20240405T152930Z
LAST-MODIFIED:20240405T152930Z
UID:6745-1717286400-1717372799@ut501st.com
SUMMARY:Utah Pride 2024
DESCRIPTION:Pride 2024 is coming up! We will be operating as we have done in the past. As such. Here are some guidelines that have we need to adhere to:\n-NO PROMITIONAL ITEMS\, HAND OUTS\, OR CANDY. We will not be tossing out or giving items out to the crow.\n-NO RESTRICTED ITEMS. This will include our prop weapons. Sorry folks. \n-SIGNS\, BANNERS\, & COMMUNICATION. We will need a sign or banner that tells people who we are. Our flags should work just fine. Number markers will also need to be carried by someone near the beginning of our entry.\n-HANDRAILS\, VEHICLES\, AND TRAILERS. We will most likely be using trailers again\, so we just need to make sure that they have handrails for our participants if they ride. REMEMBER: ONCE YOU ARE ON A TRAILER\, YOU MUST STAY ON FOR THE REMAINDER OF THE PARADE. IF THERE IS AN EMERGENCY\, WE WILL GET ONE OF OUR CROWD CONTROL PERSONELL TO ASSIST. VICE VERSA FOR WALKERS. Walkers must also be either in front or behind our vehicles. NO WALKING ON THE SIDES.\nWe will be attending a parade and safety meeting for more information regarding the parade. That will be held on May 25th at 10:00 AM.\nAlso. 10:00 AM is the KICKOFF time\, not arrival. Please arrive at least 30 mins-1 hour beforehand so that you are prepared to start marching. Please stay hydrated as we will be in summer. Once we have more information regarding where we will be staging\, I will update this page with that info.\nAs the famed Roger Elizabeth DeBris and his production team once stated: If at the end you want them to cheer\, KEEP IT GAY\, KEEP IT GAY\, KEEP IT GAY!!
URL:https://ut501st.com/event/utah-pride-2024/
LOCATION:148 W 200 S\, Salt Lake City\, UT\, 84101\, 148 W 200 S\, Salt Lake City\, UT\, 84101\, United States
END:VEVENT
BEGIN:VEVENT
DTSTART;TZID=America/Denver:20240601T100000
DTEND;TZID=America/Denver:20240601T140000
DTSTAMP:20260425T080831
CREATED:20240206T215602Z
LAST-MODIFIED:20240206T215602Z
UID:6647-1717236000-1717250400@ut501st.com
SUMMARY:Grinch Fest 2024 Car Show
DESCRIPTION:Grinch Fest 2024 car show is one of the most popular car shows in Utah\, drawing over 3\,000 people last year and is a major source of funds for the Giving Grinch. The Giving Grinch is a non-profit charity that provides Christmas to children that otherwise would not have gifts. We also look for opportunities throughout the year to support our community\, elderly residents and first responders.\nThis event we hope to have a costumers interact with attendees\, take pictures and do the great things the 501st Legion does to make events great.\nThey did say they have a trailer where kit boxes can be stored\, but we may want to expect kit at your car for the event.
URL:https://ut501st.com/event/grinch-fest-2024-car-show/
LOCATION:USU Bastian Agricultural Center\, 2100 West 11400 South\, South Jordan\, UT\, 84095\, United States
END:VEVENT
BEGIN:VEVENT
DTSTART;TZID=America/Denver:20240601T093000
DTEND;TZID=America/Denver:20240601T110000
DTSTAMP:20260425T080831
CREATED:20240214T045529Z
LAST-MODIFIED:20240214T045529Z
UID:6657-1717234200-1717239600@ut501st.com
SUMMARY:Walk with Angels
DESCRIPTION:Walk With Angels is an advocacy event that celebrates children with special needs.  We would love characters to come out and interact with the kids\, take photos and help cheer them on as they begin their walk.  Time is approx. 9:30am-11:00am \nStorage and changing area will be provided. Blasters and lightsabers permitted.
URL:https://ut501st.com/event/walk-with-angels-5/
LOCATION:Margaret Wines Park\, 500 N 100 E\, Lehi\, UT\, 84043\, United States
END:VEVENT
BEGIN:VEVENT
DTSTART;TZID=America/Denver:20240525T133000
DTEND;TZID=America/Denver:20240525T160000
DTSTAMP:20260425T080831
CREATED:20240509T185145Z
LAST-MODIFIED:20240509T185145Z
UID:6859-1716643800-1716652800@ut501st.com
SUMMARY:Star Wars at Provo Rehab
DESCRIPTION:We have been invited back to Provo Rehab to walk around the facility\, visit residents\, and have their pictures taken with costumers. We will be parking in the back of the facility and changing at vehicles. Blasters and sabers are allowed. \nIf anyone has questions\, direct them to Jake Putnam
URL:https://ut501st.com/event/star-wars-at-provo-rehab-2/
LOCATION:Provo Rehab and Nursing\, 1001 North 500 West\, Provo\, UT\, 84604\, United States
END:VEVENT
BEGIN:VEVENT
DTSTART;TZID=America/Denver:20240525T093000
DTEND;TZID=America/Denver:20240525T120000
DTSTAMP:20260425T080831
CREATED:20240509T183919Z
LAST-MODIFIED:20240509T183919Z
UID:6847-1716629400-1716638400@ut501st.com
SUMMARY:Star Wars at Orchard Park Nursing and Rehab
DESCRIPTION:Orchard Park has invited us back to their facility and are excited to have again. This will be a change-at-car event. We will be going to visit the residents to have pictures taken with the costumers. \nContact Jake Putnam for details if you have questions about the event.
URL:https://ut501st.com/event/star-wars-at-orchard-park-nursing-and-rehab/
LOCATION:Cascades at Orchard Park\, 740 North 300 East\, Orem\, UT\, 84057\, United States
END:VEVENT
BEGIN:VEVENT
DTSTART;TZID=America/Denver:20240518T173000
DTEND;TZID=America/Denver:20240518T200000
DTSTAMP:20260425T080831
CREATED:20240417T030608Z
LAST-MODIFIED:20240417T030608Z
UID:6790-1716053400-1716062400@ut501st.com
SUMMARY:Skate for Cancer
DESCRIPTION:You guys have always been great to support us at Millie’s Princess Run. We partner with Skate for Cancer every year to help a local cancer child. Millie’s Princess Foundation matches $5\,000 toward the family\, and this year Dough Smith Subaru will match up to $12\,500. The child that we will help this year\, Quinn\, loves Star Wars\, so we thought it would be amazing if some of you could come.\nhttps://milliespf.org/skate-for-cancer\nlight sabers and blasters are ok.\nsecure changing area on site: Yes\nlocation is peaks ice arena in provo. Start time is 5:30\, arrive as needed to kit up  \nSee less
URL:https://ut501st.com/event/skate-for-cancer/
LOCATION:peaks ice arena\, 100 N Seven Peaks Blvd\, provo\, UT\, 84606\, United States
END:VEVENT
BEGIN:VEVENT
DTSTART;TZID=America/Denver:20240518T133000
DTEND;TZID=America/Denver:20240518T160000
DTSTAMP:20260425T080831
CREATED:20240409T195604Z
LAST-MODIFIED:20240409T195604Z
UID:6773-1716039000-1716048000@ut501st.com
SUMMARY:Star Wars Day at Bennion Veterans Home
DESCRIPTION:We are reinvited to the Payson Veterans Home this year to visit with veterans of the armed forces. Last year they had such a good time that they decided to have us back\, the activity director let me know that we would probably visit in the same format we did last year\, they will bring us into a large assembly room and bring the veterans to us and we will take pictures and she will have small activities for us to be engaged with the service members\n\n\n\nIf you have any questions please dm Jake Putnam
URL:https://ut501st.com/event/star-wars-day-at-bennion-veterans-home/
LOCATION:Central Utah Veterans Home\, 1551 North Main Street\, Payson\, UT\, 84651\, United States
END:VEVENT
BEGIN:VEVENT
DTSTART;TZID=America/Denver:20240518T090000
DTEND;TZID=America/Denver:20240518T230000
DTSTAMP:20260425T080831
CREATED:20240506T041158Z
LAST-MODIFIED:20240506T041158Z
UID:6833-1716022800-1716073200@ut501st.com
SUMMARY:walt to cure arthritis
DESCRIPTION:  \n  \nThis is a walk to support those young and old living with arthritis. We would like the utah  Garrisons to be there to interact with the kids before the walk starts and help kick off the walk.
URL:https://ut501st.com/event/walt-to-cure-arthritis/
LOCATION:1452 w 12600 s riverton utah 84065\, 1452 w 12600 s\, riverton\, UT\, 84065\, United States
END:VEVENT
BEGIN:VEVENT
DTSTART;TZID=America/Denver:20240518T080000
DTEND;TZID=America/Denver:20240518T120000
DTSTAMP:20260425T080831
CREATED:20240325T034426Z
LAST-MODIFIED:20240325T034426Z
UID:6734-1716019200-1716033600@ut501st.com
SUMMARY:JDRF One Walk
DESCRIPTION:Utah JDRF One Walk is an annual event to help raise funds for juvenile diabetes research. The walk attracts more than 2\,000 participants from around the state of Utah who come together for community and encouragement. \n  \nNo blasters \nNo Lightsabers \nsecure changing area: yes \nfree parking : Yes \nFUN: Yes
URL:https://ut501st.com/event/jdrf-one-walk/
LOCATION:The Shops at South Town\, 10450 S State St\, Sandy\, UT\, 84070\, United States
END:VEVENT
BEGIN:VEVENT
DTSTART;TZID=America/Denver:20240514T173000
DTEND;TZID=America/Denver:20240514T190000
DTSTAMP:20260425T080831
CREATED:20240428T223403Z
LAST-MODIFIED:20240428T223403Z
UID:6809-1715707800-1715713200@ut501st.com
SUMMARY:Acers make a wish event
DESCRIPTION:This is Acer’s Proclamation with Make-A-Wish Utah learning they will be traveling to Galaxy’s Edge to build droids for their wish!\nHe loves Bad guys\, especially General Grievous is his favorite\, any good or bad guys are requested \nBoth blasters and lightsabers are ok\nsecure changing area is provided with a couple bathrooms if you need privacy and water will be available\nIt starts at 5:30\, show up and be ready before that time\, you determine how long that needs to be for your individual kit 
URL:https://ut501st.com/event/acers-make-a-wish-event/
LOCATION:Make-A-Wish Utah\, 771 E Winchester Street\, Murray\, UT\, 84107\, United States
END:VEVENT
BEGIN:VEVENT
DTSTART;TZID=America/Denver:20240511T140000
DTEND;TZID=America/Denver:20240511T163000
DTSTAMP:20260425T080831
CREATED:20240509T182757Z
LAST-MODIFIED:20240509T182757Z
UID:6844-1715436000-1715445000@ut501st.com
SUMMARY:star wars geneva troop
DESCRIPTION:last troop for phanom menace at geneva
URL:https://ut501st.com/event/star-wars-geneva-troop/
LOCATION:UT
END:VEVENT
BEGIN:VEVENT
DTSTART;TZID=America/Denver:20240511T130000
DTEND;TZID=America/Denver:20240511T160000
DTSTAMP:20260425T080831
CREATED:20240509T182634Z
LAST-MODIFIED:20240509T182634Z
UID:6842-1715432400-1715443200@ut501st.com
SUMMARY:megaplex providence phantom menace
DESCRIPTION:last troop for star wars phantom menace \n  \nI have been told this is a change at your car location
URL:https://ut501st.com/event/megaplex-providence-phantom-menace/
LOCATION:Providence Megaplex Theater\, 535 W 100 N\, Providence\, UT\, 84332\, United States
END:VEVENT
BEGIN:VEVENT
DTSTART;TZID=America/Denver:20240511T130000
DTEND;TZID=America/Denver:20240511T160000
DTSTAMP:20260425T080831
CREATED:20240509T182412Z
LAST-MODIFIED:20240509T182412Z
UID:6840-1715432400-1715443200@ut501st.com
SUMMARY:jordan commons phantom mence
DESCRIPTION:last troop for jordan commons \n  \n 
URL:https://ut501st.com/event/jordan-commons-phantom-mence/
LOCATION:Megaplex Jordan Commons\, 9335 State St\, Sandy\, UT\, 84070\, United States
END:VEVENT
BEGIN:VEVENT
DTSTART;TZID=America/Denver:20240510T193000
DTEND;TZID=America/Denver:20240510T213000
DTSTAMP:20260425T080831
CREATED:20240511T135938Z
LAST-MODIFIED:20240511T135938Z
UID:6866-1715369400-1715376600@ut501st.com
SUMMARY:North Logan Library Space Event
DESCRIPTION:We will have games and crafts related to space. We will have a star viewing party in our backyard with the Cache Valley Astronomical Society joining us. They will provide telescopes for our guests to explore the stars. We would have you wander around the library and take photos with the guests and just have fun interacting with them. \nSecure changing area is available\nlight sabers are ok\nblasters are ok
URL:https://ut501st.com/event/north-logan-library-space-event/
LOCATION:North Logan Library\, 475 E 2500 N\, North Logan\, UT\, 84341\, United States
END:VEVENT
BEGIN:VEVENT
DTSTART;TZID=America/Denver:20240509T180000
DTEND;TZID=America/Denver:20240509T200000
DTSTAMP:20260425T080831
CREATED:20240330T015723Z
LAST-MODIFIED:20240330T015723Z
UID:6736-1715277600-1715284800@ut501st.com
SUMMARY:Ronald McDonald fundraiser in Lehi
DESCRIPTION:we are doing a fundraising carnival for the Ronald McDonald house in our school Commons\, and we would like some of your volunteers to come and take pictures with the guests at the carnival.\napproximate attendees 300\ncharacters 7-10\nwe went last year for a make a wish fundraiser and they did a great job.\nsecure changing is available\nNo blasters\nno light sabers\nwater and food will be provided
URL:https://ut501st.com/event/ronald-mcdonald-fundraiser-in-lehi/
LOCATION:Lehi High School\, 180 N\, 500 E\,\, Lehi\, UT\, 84043\, United States
END:VEVENT
BEGIN:VEVENT
DTSTART;TZID=America/Denver:20240506T093000
DTEND;TZID=America/Denver:20240506T113000
DTSTAMP:20260425T080831
CREATED:20231030T150750Z
LAST-MODIFIED:20231030T150750Z
UID:6556-1714987800-1714995000@ut501st.com
SUMMARY:Invasion of Carbon High School
DESCRIPTION:From our requestor: \nI’m a public school teacher and a huge Star Wars fan and Rebel Force Radio listener. It’s been a dream of mine to organize an event where the Empire invades our high school. I would of course brief our faculty and staff about the event well in advance\, but here’s what I imagine the event could be… That Monday morning we could hopefully set you up to change into wardrobe in our trailers behind the school. Then\, during our Advisory period the Empire would invade the school. Stormtroopers and Imp Officers would go in pairs to each classroom and order the students and teachers to go to the gym. Once everyone has gathered in the gym you guys could do an assembly where you talk about the history of the 501st and all the charitable work the organization does. Once the assembly is over\, the 501st would line up shoulder to shoulder in two rows with an isle between. Lord Vader would then dismiss everyone back to class and students would exit the gym walking down the isle the 501st had created. \nChanging area still to be determined.  Leave weapons in totes as this is a school area. \n501st ONLY!!!
URL:https://ut501st.com/event/invasion-of-carbon-high-school/
LOCATION:Carbon High School\, 750 East 400 North\, Price\, UT\, 84501\, United States
END:VEVENT
BEGIN:VEVENT
DTSTART;TZID=America/Denver:20240504T183000
DTEND;TZID=America/Denver:20240504T203000
DTSTAMP:20260425T080831
CREATED:20240504T053808Z
LAST-MODIFIED:20240504T053808Z
UID:6827-1714847400-1714854600@ut501st.com
SUMMARY:urban arts gallery
DESCRIPTION:  \n  \nJoin us at Urban Arts Gallery for a Star Wars Celebration!\nEnjoy themed snacks\, including Blue Milk. The event starts at 6 pm with a Cosplay Contest registration starting at 7 pm.\n\nshort walk from the planatarium
URL:https://ut501st.com/event/urban-arts-gallery-2/
LOCATION:UT
END:VEVENT
BEGIN:VEVENT
DTSTART;TZID=America/Denver:20240504T173000
DTEND;TZID=America/Denver:20240504T200000
DTSTAMP:20260425T080831
CREATED:20240410T234726Z
LAST-MODIFIED:20240410T234726Z
UID:6776-1714843800-1714852800@ut501st.com
SUMMARY:Real Salt lake star wars 2024
DESCRIPTION:Real salt lake star wars night\, come and roam engaging with fans \, they will also have an area for stationary photo taking in the stadium and also activities outside the front area of the stadium to interact with fans.\nwe will be given 6 parking spots in the area behind the stadium\, the week before we will given the location for these spots.\nsecure changing in a locker room ( if you have been before\, it will be the same area ) more details on exact portal and contact person will come as the event gets closer.\nlight sabers and blasters they said were both ok\nThey would like us to be ready by 6pm outside engaging fans
URL:https://ut501st.com/event/real-salt-lake-star-wars-2024/
LOCATION:Real soccer stadium sandy utah\, 9256 South State street\, Sandy\, 84074\, United States
END:VEVENT
END:VCALENDAR