BEGIN:VCALENDAR
VERSION:2.0
PRODID:-//Alpine Garrison - ECPv6.15.17.1//NONSGML v1.0//EN
CALSCALE:GREGORIAN
METHOD:PUBLISH
X-WR-CALNAME:Alpine Garrison
X-ORIGINAL-URL:https://ut501st.com
X-WR-CALDESC:Events for Alpine Garrison
REFRESH-INTERVAL;VALUE=DURATION:PT1H
X-Robots-Tag:noindex
X-PUBLISHED-TTL:PT1H
BEGIN:VTIMEZONE
TZID:America/Denver
BEGIN:DAYLIGHT
TZOFFSETFROM:-0700
TZOFFSETTO:-0600
TZNAME:MDT
DTSTART:20210314T090000
END:DAYLIGHT
BEGIN:STANDARD
TZOFFSETFROM:-0600
TZOFFSETTO:-0700
TZNAME:MST
DTSTART:20211107T080000
END:STANDARD
BEGIN:DAYLIGHT
TZOFFSETFROM:-0700
TZOFFSETTO:-0600
TZNAME:MDT
DTSTART:20220313T090000
END:DAYLIGHT
BEGIN:STANDARD
TZOFFSETFROM:-0600
TZOFFSETTO:-0700
TZNAME:MST
DTSTART:20221106T080000
END:STANDARD
BEGIN:DAYLIGHT
TZOFFSETFROM:-0700
TZOFFSETTO:-0600
TZNAME:MDT
DTSTART:20230312T090000
END:DAYLIGHT
BEGIN:STANDARD
TZOFFSETFROM:-0600
TZOFFSETTO:-0700
TZNAME:MST
DTSTART:20231105T080000
END:STANDARD
END:VTIMEZONE
BEGIN:VEVENT
DTSTART;VALUE=DATE:20220924
DTEND;VALUE=DATE:20220925
DTSTAMP:20260425T205937
CREATED:20221028T182633Z
LAST-MODIFIED:20221028T182633Z
UID:5802-1663977600-1664063999@ut501st.com
SUMMARY:FanX 2022 - Garrison Photo
DESCRIPTION:
URL:https://ut501st.com/event/fanx-2022-garrison-photo/
END:VEVENT
BEGIN:VEVENT
DTSTART;VALUE=DATE:20220924
DTEND;VALUE=DATE:20220925
DTSTAMP:20260425T205937
CREATED:20221028T182558Z
LAST-MODIFIED:20221028T182558Z
UID:5801-1663977600-1664063999@ut501st.com
SUMMARY:FanX 2022 - Load Out
DESCRIPTION:
URL:https://ut501st.com/event/fanx-2022-load-out/
END:VEVENT
BEGIN:VEVENT
DTSTART;VALUE=DATE:20220924
DTEND;VALUE=DATE:20220925
DTSTAMP:20260425T205937
CREATED:20221002T155827Z
LAST-MODIFIED:20221028T182312Z
UID:5757-1663977600-1664063999@ut501st.com
SUMMARY:FanX 2022 - Day 3
DESCRIPTION:FanX Attendence tracking.
URL:https://ut501st.com/event/fanx-2022/
END:VEVENT
BEGIN:VEVENT
DTSTART;VALUE=DATE:20220923
DTEND;VALUE=DATE:20220924
DTSTAMP:20260425T205937
CREATED:20221028T182333Z
LAST-MODIFIED:20221028T182333Z
UID:5796-1663891200-1663977599@ut501st.com
SUMMARY:FanX 2022 - Day 2
DESCRIPTION:
URL:https://ut501st.com/event/fanx-2022-day-2/
END:VEVENT
BEGIN:VEVENT
DTSTART;VALUE=DATE:20220922
DTEND;VALUE=DATE:20220923
DTSTAMP:20260425T205937
CREATED:20221028T182449Z
LAST-MODIFIED:20221028T182449Z
UID:5799-1663804800-1663891199@ut501st.com
SUMMARY:FanX 2022 - Day 1
DESCRIPTION:
URL:https://ut501st.com/event/fanx-2022-day-1/
END:VEVENT
BEGIN:VEVENT
DTSTART;VALUE=DATE:20220921
DTEND;VALUE=DATE:20220922
DTSTAMP:20260425T205937
CREATED:20221028T182531Z
LAST-MODIFIED:20221028T182531Z
UID:5800-1663718400-1663804799@ut501st.com
SUMMARY:FanX 2022 - Build Day
DESCRIPTION:
URL:https://ut501st.com/event/fanx-2022-build-day/
END:VEVENT
BEGIN:VEVENT
DTSTART;TZID=America/Denver:20220917T130000
DTEND;TZID=America/Denver:20220917T160000
DTSTAMP:20260425T205937
CREATED:20220904T155423Z
LAST-MODIFIED:20220904T155423Z
UID:5726-1663419600-1663430400@ut501st.com
SUMMARY:Star Wars Day at The Lodge
DESCRIPTION:The Lodge loved our characters visiting them earlier this year so much\, they want to do it again. There will be an area to dress in. The event type is walking to different rooms to get pictures with the residents and take pictures with residents and staff in the hallways.\nIf there are any questions about the event pose them to Jake Putnam. \n6 Characters Max
URL:https://ut501st.com/event/star-wars-day-at-the-lodge/
LOCATION:The Lodge\, 544 E 1200 S\, Heber City\, UT\, 84032\, United States
END:VEVENT
BEGIN:VEVENT
DTSTART;TZID=America/Denver:20220910T180000
DTEND;TZID=America/Denver:20220910T200000
DTSTAMP:20260425T205937
CREATED:20220615T014756Z
LAST-MODIFIED:20220615T015007Z
UID:5666-1662832800-1662840000@ut501st.com
SUMMARY:Spring Gardens Mapleton Star Wars Night
DESCRIPTION:We are an assisted living facility in Mapleton UT\, we would love to throw a Star Wars themed party for our elderly residents. Many of our residents were in their 30’s when the original movie was released\, and we thought having some characters from the original trilogy would be fun. \nMax Number of Characters 25 \nThey are requesting mainly Original Trilogy characters that will be recognizable to the residents.
URL:https://ut501st.com/event/spring-gardens-mapleton-star-wars-night/
LOCATION:Spring Gardens\, 1483 W 800 S\, Mapleton\, UT\, 84664\, United States
END:VEVENT
BEGIN:VEVENT
DTSTART;TZID=America/Denver:20220905T090000
DTEND;TZID=America/Denver:20220905T120000
DTSTAMP:20260425T205937
CREATED:20220621T010058Z
LAST-MODIFIED:20220621T010058Z
UID:5680-1662368400-1662379200@ut501st.com
SUMMARY:Wellsville Labor Day Parade
DESCRIPTION:The parade is about a mile long.\nWe will need to be lined up by 9 am. The parade starts at 10.\nThere will be a bit of shade along the route. Spotters will be needed to help guide people with helmets around anything in the street. \nAttendance must be in by August 1st. \nChange at car event.
URL:https://ut501st.com/event/wellsville-labor-day-parade/
END:VEVENT
BEGIN:VEVENT
DTSTART;TZID=America/Denver:20220830T180000
DTEND;TZID=America/Denver:20220830T210000
DTSTAMP:20260425T205937
CREATED:20220817T024235Z
LAST-MODIFIED:20220817T024235Z
UID:5718-1661882400-1661893200@ut501st.com
SUMMARY:Loveland Living Planet Aquarium
DESCRIPTION:Mascot Miracles has invited the local Star Wars groups (Alpine Garrison\, Rebel Legion\, Krayt Clan\, Saber Guild\, Rocky Mountain Droid Builders) to join them in their Dare To Dream event. This event has been an annual event until Covid-19 and we are thrilled it is back.\nFamilies with children who have disabilities from all over the Utah will be attending this event. If you are sick please do not attend.\nSome areas of the aquarium will not be available to costumed characters as the costumes can be traumatizing to some of the animals\, but there are plenty of areas for costumers to mingle with guests. \n 
URL:https://ut501st.com/event/loveland-living-planet-aquarium/
LOCATION:Loveland Living Aquarium\, 12033 S Lone Peak Pkwy\, Draper\, UT\, 84020\, United States
END:VEVENT
BEGIN:VEVENT
DTSTART;TZID=America/Denver:20220826T173000
DTEND;TZID=America/Denver:20220826T220000
DTSTAMP:20260425T205937
CREATED:20220824T005617Z
LAST-MODIFIED:20220824T005617Z
UID:5723-1661535000-1661551200@ut501st.com
SUMMARY:Rouge One at The District
DESCRIPTION:They would like us at The District for the Rouge One screenings Friday only. They want us there and ready about 30-45 minutes before the 6:15 (5:30)  and 9:40 (8:55)  showings. Please indicate which one or both you will be at. \nChanging and storage space will be available. \nPlease do not ask any staff for free movie passes.
URL:https://ut501st.com/event/rouge-one-at-the-district/
LOCATION:Megaplex at The District\, 3761 W Parkway Plaza Dr\, South Jordan\, UT\, 84095
END:VEVENT
BEGIN:VEVENT
DTSTART;TZID=America/Denver:20220813T180000
DTEND;TZID=America/Denver:20220813T193000
DTSTAMP:20260425T205937
CREATED:20220810T004612Z
LAST-MODIFIED:20220810T005009Z
UID:5704-1660413600-1660419000@ut501st.com
SUMMARY:SSCA youth summer strings camp
DESCRIPTION:A youth summer strings camp is putting on an orchestra concert that is free to the public. The camp itself supports two charities: Matt’s Place (autism awareness) and\nUtah’s Easy to Love (undiagnosed).They will be performing songs from Star Wars and Pirates of the Caribbean. The organizer is hoping to have a good mix of characters Imperial and Rebel.  Members are free to leave after the Star Wars portion or remain to interact with the crowd after the concert.They have requested that no Darth Maul be in attendance.
URL:https://ut501st.com/event/ssca-youth-summer-strings-camp/
LOCATION:Ed Kenley Amphitheater\, 403 N Wasatch Dr\, Layton\, UT\, 84041\, United States
END:VEVENT
BEGIN:VEVENT
DTSTART;TZID=America/Denver:20220810T163000
DTEND;TZID=America/Denver:20220810T183000
DTSTAMP:20260425T205937
CREATED:20220805T015448Z
LAST-MODIFIED:20220805T015546Z
UID:5700-1660149000-1660156200@ut501st.com
SUMMARY:Make a Wish Proclamation Party
DESCRIPTION:We are holding a wish proclamation party for a family that will be going to Disneyland\, and we’d love the Star Wars groups to send a few characters to come help us run some parts of the event. Thanks so much! \nThere will be parking available. We’d like the characters to be ready before 5\, so the ideal arrival time is 4 or 4:30. \n  \n10 characters max
URL:https://ut501st.com/event/make-a-wish-proclamation-party/
LOCATION:Disruptive Advertising\, 1064 S N County Blvd Ste 400\, Pleasant grove\, UT\, 84062\, United States
END:VEVENT
BEGIN:VEVENT
DTSTART;VALUE=DATE:20220807
DTEND;VALUE=DATE:20220808
DTSTAMP:20260425T205937
CREATED:20220814T025649Z
LAST-MODIFIED:20220814T025649Z
UID:5709-1659830400-1659916799@ut501st.com
SUMMARY:Camp Nah Nah Mah camp for Burn Survivor Children
DESCRIPTION:
URL:https://ut501st.com/event/camp-nah-nah-mah-camp-for-burn-survivor-children/
END:VEVENT
BEGIN:VEVENT
DTSTART;TZID=America/Denver:20220806T083000
DTEND;TZID=America/Denver:20220806T120000
DTSTAMP:20260425T205937
CREATED:20220708T002229Z
LAST-MODIFIED:20220708T002229Z
UID:5692-1659774600-1659787200@ut501st.com
SUMMARY:Price International Days Grand Parade
DESCRIPTION:It is Price Utah’s largest community event of the year and is a celebration of our international heritage. The parade is an opportunity for everyone to share their passion for life and our community. Please join us in sharing our love for Star Wars! \n 
URL:https://ut501st.com/event/price-international-days-grand-parade/
LOCATION:Price Main Street\, Main street\, Price\, UT\, 84501\, United States
END:VEVENT
BEGIN:VEVENT
DTSTART;VALUE=DATE:20220806
DTEND;VALUE=DATE:20220807
DTSTAMP:20260425T205937
CREATED:20221028T213233Z
LAST-MODIFIED:20221028T213233Z
UID:5807-1659744000-1659830399@ut501st.com
SUMMARY:Ammon Days (Ammon\, ID)
DESCRIPTION:
URL:https://ut501st.com/event/ammon-days-ammon-id/
END:VEVENT
BEGIN:VEVENT
DTSTART;TZID=America/Denver:20220704T080000
DTEND;TZID=America/Denver:20220704T120000
DTSTAMP:20260425T205937
CREATED:20220623T005758Z
LAST-MODIFIED:20220623T005758Z
UID:5683-1656921600-1656936000@ut501st.com
SUMMARY:Layton Liberty Days Flag Raising and Parade
DESCRIPTION:We are so excited to have you all come to our events that day. We’d love to have 501st\, Rebel Base\, Mandalorian mercs\, for the Flag Raising at Ed Kenley Amphitheater at 8:00 am. We’d love them to interact with patrons and invite them into the amphitheater. Then walk around the breakfast nearby and make people happy!
URL:https://ut501st.com/event/layton-liberty-days-flag-raising-and-parade/
LOCATION:Ed Kenley Amphitheater\, 403 N Wasatch Dr\, Layton\, UT\, 84041\, United States
END:VEVENT
BEGIN:VEVENT
DTSTART;TZID=America/Denver:20220625T170000
DTEND;TZID=America/Denver:20220625T200000
DTSTAMP:20260425T205937
CREATED:20220424T183729Z
LAST-MODIFIED:20220424T183729Z
UID:5517-1656176400-1656187200@ut501st.com
SUMMARY:The Shine a Light NF Walk
DESCRIPTION:The Shine a Light NF Walk is a fundraising event to benefit the Children’s Tumor Foundation and help end NF (neurofibromatosis)\, a genetic disorder that affects millions worldwide. The Shine a Light NF Walk brings together the community in support of the individuals and families living with NF.
URL:https://ut501st.com/event/the-shine-a-light-nf-walk/
LOCATION:Sugarhouse park\, 1330 east 2100 south\, Salt Lake City\, UT\, 84106\, United States
END:VEVENT
BEGIN:VEVENT
DTSTART;TZID=America/Denver:20220618T080000
DTEND;TZID=America/Denver:20220618T120000
DTSTAMP:20260425T205937
CREATED:20220301T220143Z
LAST-MODIFIED:20220301T220143Z
UID:5378-1655539200-1655553600@ut501st.com
SUMMARY:Millie’s Princess Run
DESCRIPTION:We decided that we will be doing Millie’s Princess Run in person this year!!! So excited. Hoping you’re not already booked for Saturday\, June 18 because we can’t do it without you!
URL:https://ut501st.com/event/millies-princess-run-3/
LOCATION:Thanksgiving Point\, 2975 N Thanksgiving Way\, Lehi\, UT\, 84043\, United States
CATEGORIES:Meet and Greet
END:VEVENT
BEGIN:VEVENT
DTSTART;TZID=America/Denver:20220617T180000
DTEND;TZID=America/Denver:20220617T200000
DTSTAMP:20260425T205937
CREATED:20220614T183946Z
LAST-MODIFIED:20220614T183946Z
UID:5662-1655488800-1655496000@ut501st.com
SUMMARY:Coats for Kids Car Show
DESCRIPTION:A fundraiser to help kids who need winter wear in the upcoming year with lots of cool cars.
URL:https://ut501st.com/event/coats-for-kids-car-show-2/
LOCATION:Bountiful Main St\, 200 S Main St\, Bountiful\, UT\, 84010\, United States
CATEGORIES:Fundraising
END:VEVENT
BEGIN:VEVENT
DTSTART;TZID=America/Denver:20220616T080000
DTEND;TZID=America/Denver:20220616T170000
DTSTAMP:20260425T205937
CREATED:20220623T190454Z
LAST-MODIFIED:20220623T190454Z
UID:5686-1655366400-1655398800@ut501st.com
SUMMARY:Hogle Zoo Dream Night
DESCRIPTION:
URL:https://ut501st.com/event/hogle-zoo-dream-night/
END:VEVENT
BEGIN:VEVENT
DTSTART;TZID=America/Denver:20220610T183000
DTEND;TZID=America/Denver:20220610T203000
DTSTAMP:20260425T205937
CREATED:20220222T025121Z
LAST-MODIFIED:20220428T005100Z
UID:5364-1654885800-1654893000@ut501st.com
SUMMARY:Summer Reading Kick-Off Party - North Logan
DESCRIPTION:We will be throwing our Kick-Off party to start off our Summer Reading Program with. We want kids to learn to love to read and be excited about it! There will be all ages attending. It is a family event. We will have bounce houses\, treats\, and performers coming to make this a fun-filled night. We hope you can join in on the fun! We would love to have your group come! \nSecure changing area available. \nEvent Contact: Heidi Taylor (435) 755-7169\, heidi@northloganlibrary.org
URL:https://ut501st.com/event/summer-reading-kick-off-party-north-logan/
LOCATION:North Logan Library\, 475 E 2500 N\, North Logan\, UT\, 84341\, United States
END:VEVENT
BEGIN:VEVENT
DTSTART;TZID=America/Denver:20220610T150000
DTEND;TZID=America/Denver:20220611T200000
DTSTAMP:20260425T205937
CREATED:20220424T232141Z
LAST-MODIFIED:20220424T232141Z
UID:5531-1654873200-1654977600@ut501st.com
SUMMARY:Summer Palooza 2022
DESCRIPTION:Summer Palooza is scheduled and in the Books!!\nWe’re happy to announce we will be hosting Summer Palooza 2022\,\nFriday and Saturday June 10 and 11 at\nThanksgiving Point’s Electric Park\nFriday: 3pm – 8pm\nSaturday: 10am – 8pm\nAnd of course\, we’ll set aside FREE tickets for each of your\ncharacter’s families to come play\, as a THANK YOU for supporting us!!\n(Tickets are good for free rock wall climbs\, ropes course\, bounce houses\, eliminator\, twin spin rides and more!!)\nThis is a change-at-car event. Since this is an even lasting most of each day\, members are encouraged to come and go as they please.
URL:https://ut501st.com/event/summer-palooza-2022/
LOCATION:Thanksgiving Point\, 2975 N Thanksgiving Way\, Lehi\, UT\, 84043\, United States
END:VEVENT
BEGIN:VEVENT
DTSTART;TZID=America/Denver:20220605T100000
DTEND;TZID=America/Denver:20220605T120000
DTSTAMP:20260425T205937
CREATED:20220521T230049Z
LAST-MODIFIED:20220529T161005Z
UID:5577-1654423200-1654430400@ut501st.com
SUMMARY:Utah Pride Parade 2022
DESCRIPTION:— We are entry #112 – Staging Area B – Color Green\n\n\n— As of now\, our staging area will enter at 300 W\, 100 S (by the Salt Palace Loading Docks)\n\n\n— We will have the trailers/vehicles in place at 8:00 am.\n\n\n— We could use some help decorating trailers morning of.\n\n\n— If you are walking/riding and not helping decorate\, plan to be in the staging area with your costume at 10:20 am.\n\n\n— This is CHANGE at CAR. There will be no place to store totes in parade vehicles/staging. Previously\, many people have parked at Squatters\, but that will be 2 blocks away from our entry area. Many roads will be closed day of parade. Please plan to carpool and do research on what will be open/closed.\n\n\n— The parade is 2 MILES this year. We will have limited truck/trailer space for people in armor\, and those with health issues.\n\n\n— Please look into under costume cooling systems\n\n\n— We need lots of spotters\, especially those with medical/first aid training. Please consider walking as a spotter\, or bringing a spotter.\n\n\n— Feel free to decorate costumes in rainbow theme. We’ll try and have an armor decoration party the day before.\n\n\n— Please watch FB the day of the parade. We will give important updates on entry procedures. If you don’t have access to FB\, please contact Brenda to get on a text list.\n\n\n— We also need volunteers with vehicles that can shuttle people back to start.\n\n\nInformation from Pride can be found in the following pdf:\nhttps://drive.google.com/file/d/1xL7kK-5epLgvSUPSpzyjScdibtBrpByV/view?usp=sharing
URL:https://ut501st.com/event/utah-pride-parade-2022/
LOCATION:100 S 300 W\, 100 S 300 W\, Salt Lake City\, UT\, United States
END:VEVENT
BEGIN:VEVENT
DTSTART;TZID=America/Denver:20220604T093000
DTEND;TZID=America/Denver:20220604T113000
DTSTAMP:20260425T205937
CREATED:20220222T030456Z
LAST-MODIFIED:20220222T030456Z
UID:5367-1654335000-1654342200@ut501st.com
SUMMARY:Walk With Angels
DESCRIPTION:The United Angels Foundation is proud to announce Walk With Angels 2022. We are excited to be back in-person to celebrate individuals with special needs and all abilities. \nJoin us at Margaret Wines Park in Lehi\, Utah on Saturday\, June 4th at 9:30am for a day of advocacy\, inclusion and community. We have many activities and performances your whole family will enjoy. \nWalk With Angels is an advocacy event and fundraiser for children with special needs.\nReferred by: We have worked with you for this event in the past
URL:https://ut501st.com/event/walk-with-angels-3/
LOCATION:Margaret Wines Park\, 500 N 100 E\, Lehi\, UT\, 84043\, United States
END:VEVENT
BEGIN:VEVENT
DTSTART;TZID=America/Denver:20220521T080000
DTEND;TZID=America/Denver:20220521T120000
DTSTAMP:20260425T205937
CREATED:20220404T232032Z
LAST-MODIFIED:20220404T232157Z
UID:5426-1653120000-1653134400@ut501st.com
SUMMARY:JDRF One Walk UT
DESCRIPTION:JDRF One Walk is a family-friendly event that is the largest gathering for type 1 diabetes (T1D) across Utah. Our goal is to raise funds aimed at curing\, preventing and treating T1D and its complications. This year we anticipating raising over $200\,000 for this cause.\nWe would love Storm Troopers to be there to take photos with families and cheer people on along the route.Please be careful about not standing in front of signs.This will be a change at your car event.
URL:https://ut501st.com/event/jdrf-one-walk-ut/
LOCATION:10450 State St Standy UT 84070\, 10450 State St\, Sandy\, UT\, 84070\, United States
CATEGORIES:Fundraising
END:VEVENT
BEGIN:VEVENT
DTSTART;TZID=America/Denver:20220520T130000
DTEND;TZID=America/Denver:20220520T160000
DTSTAMP:20260425T205937
CREATED:20220512T030244Z
LAST-MODIFIED:20220512T030244Z
UID:5569-1653051600-1653062400@ut501st.com
SUMMARY:Provo Nursing and Rehab
DESCRIPTION:Provo Rehab had so much fun last year they have invited us back to their facility for a Star Wars Day. There will be a secure room to change in. We will be going through the facility and making residents and staff smile while getting pictures.
URL:https://ut501st.com/event/provo-nursing-and-rehab/
LOCATION:Provo Rehab and Nursing\, 1001 North 500 West\, Provo\, UT\, 84604\, United States
END:VEVENT
BEGIN:VEVENT
DTSTART;TZID=America/Denver:20220515T110000
DTEND;TZID=America/Denver:20220515T160000
DTSTAMP:20260425T205937
CREATED:20220512T024650Z
LAST-MODIFIED:20220512T024650Z
UID:5566-1652612400-1652630400@ut501st.com
SUMMARY:Ogden Bizzar
DESCRIPTION:Ogden Bizzare is a once a month art festival featuring over 66 artists and is attended by 1000+ attendees. Every month has a different theme and May’s theme is Star Wars. They’d love for us to set up and do photo ops to raise money for an Ogden based charity of our choice. \n  \nThe Charity picked is Youth Futures. \nSecure changing will be available inside the Marshall White center
URL:https://ut501st.com/event/ogden-bizzar/
LOCATION:222 28th St\,\, 222 28th St\, Ogden\, UT\, 84401\, United States
END:VEVENT
BEGIN:VEVENT
DTSTART;TZID=America/Denver:20220514T100000
DTEND;TZID=America/Denver:20220514T130000
DTSTAMP:20260425T205937
CREATED:20220409T174226Z
LAST-MODIFIED:20220409T174226Z
UID:5453-1652522400-1652533200@ut501st.com
SUMMARY:Ride the Brainwave
DESCRIPTION:The event itself is a huge fundraiser that has many parts over 2 days (car show\, rallys\, concert\, auctions\, food trucks\, races\, carnival/games) to help families with children who have lifelong severe and /or terminal conditions and illnesses raise money for everything from medical care to mortgages and utilities. The kids (and let’s be honest the adults) would be so excited to have your characters there.
URL:https://ut501st.com/event/ride-the-brainwave/
LOCATION:South Jourdan Equestrain Center\, 11400 south 2100 west\, South Jourdan\, UT\, 84095\, United States
END:VEVENT
BEGIN:VEVENT
DTSTART;TZID=America/Denver:20220514T083000
DTEND;TZID=America/Denver:20220514T103000
DTSTAMP:20260425T205937
CREATED:20220222T021516Z
LAST-MODIFIED:20220222T021516Z
UID:5360-1652517000-1652524200@ut501st.com
SUMMARY:Head for the Cure
DESCRIPTION:Head for the Cure and the Utah Brain Tumor Alliance are in partnership to bring you Go Grey in May 5K to support vital brain cancer research both locally at Huntsman Cancer Institute and nationally at the BTTC. Folks suffering from brain cancer have the opportunity to gather their friends and family for a morning of inspiring hope for a cure for this deadly disease. \nAt Liberty Park. Change at your car. \nEvent Contact:  Maggie Haynes maggie@headforthecure.org
URL:https://ut501st.com/event/head-for-the-cure/
LOCATION:Liberty Park\, 700 E 900 S\, Salt Lake city\, UT\, 84105\, United States
END:VEVENT
END:VCALENDAR