BEGIN:VCALENDAR
VERSION:2.0
PRODID:-//Alpine Garrison - ECPv6.15.17.1//NONSGML v1.0//EN
CALSCALE:GREGORIAN
METHOD:PUBLISH
X-WR-CALNAME:Alpine Garrison
X-ORIGINAL-URL:https://ut501st.com
X-WR-CALDESC:Events for Alpine Garrison
REFRESH-INTERVAL;VALUE=DURATION:PT1H
X-Robots-Tag:noindex
X-PUBLISHED-TTL:PT1H
BEGIN:VTIMEZONE
TZID:America/Denver
BEGIN:DAYLIGHT
TZOFFSETFROM:-0700
TZOFFSETTO:-0600
TZNAME:MDT
DTSTART:20220313T090000
END:DAYLIGHT
BEGIN:STANDARD
TZOFFSETFROM:-0600
TZOFFSETTO:-0700
TZNAME:MST
DTSTART:20221106T080000
END:STANDARD
BEGIN:DAYLIGHT
TZOFFSETFROM:-0700
TZOFFSETTO:-0600
TZNAME:MDT
DTSTART:20230312T090000
END:DAYLIGHT
BEGIN:STANDARD
TZOFFSETFROM:-0600
TZOFFSETTO:-0700
TZNAME:MST
DTSTART:20231105T080000
END:STANDARD
BEGIN:DAYLIGHT
TZOFFSETFROM:-0700
TZOFFSETTO:-0600
TZNAME:MDT
DTSTART:20240310T090000
END:DAYLIGHT
BEGIN:STANDARD
TZOFFSETFROM:-0600
TZOFFSETTO:-0700
TZNAME:MST
DTSTART:20241103T080000
END:STANDARD
BEGIN:DAYLIGHT
TZOFFSETFROM:-0700
TZOFFSETTO:-0600
TZNAME:MDT
DTSTART:20250309T090000
END:DAYLIGHT
BEGIN:STANDARD
TZOFFSETFROM:-0600
TZOFFSETTO:-0700
TZNAME:MST
DTSTART:20251102T080000
END:STANDARD
END:VTIMEZONE
BEGIN:VEVENT
DTSTART;TZID=America/Denver:20240329T153000
DTEND;TZID=America/Denver:20240329T170000
DTSTAMP:20260425T095828
CREATED:20240313T051244Z
LAST-MODIFIED:20240313T051244Z
UID:6729-1711726200-1711731600@ut501st.com
SUMMARY:UVU make a wish on campus
DESCRIPTION:Utah Valley University\, we are participating in the Wish Makers on Campus program through Make-A-Wish Utah chapter. Our kid loves Star Wars and so as part of our efforts to help support him and in raising money we are throwing a parade on March 29 in his honor which will be Star Wars themed \n  \non site changing area provided \nlight sabers and blasters are allowed \nmaps for coming look for it on the facebook page 🙂
URL:https://ut501st.com/event/uvu-make-a-wish-on-campus/
LOCATION:UT
END:VEVENT
BEGIN:VEVENT
DTSTART;TZID=America/Denver:20240323T100000
DTEND;TZID=America/Denver:20240323T150000
DTSTAMP:20260425T095828
CREATED:20240310T001421Z
LAST-MODIFIED:20240310T001434Z
UID:6708-1711188000-1711206000@ut501st.com
SUMMARY:Empire Strikes Back Bowl for Kids' Sake (Day 1)
DESCRIPTION:*This is the first of three days they have scheduled for this event (March 23rd\, April 20th\, and April 27th)\n\nFrom the requestor: We would LOVE to have you at any/all of our events that you are available for. Our first one is on Saturday\, March 23. We have 2 sessions – 10am-12pm and 12:30pm-2:3-pm. I’d love to have people stop by for both sessions\, or maybe just overlap between the two?\n\n\nThis is a change-at-car event. Parking will be available and blasters and lightsabers are permitted. \nSee less
URL:https://ut501st.com/event/empire-strikes-back-bowl-for-kids-sake/
LOCATION:Olympus Hills Lanes\, 4015 S Wasatch Blvd\, Salt Lake City\, UT\, 84124\, United States
END:VEVENT
BEGIN:VEVENT
DTSTART;TZID=America/Denver:20240224T100000
DTEND;TZID=America/Denver:20240224T170000
DTSTAMP:20260425T095828
CREATED:20240216T024603Z
LAST-MODIFIED:20240216T024603Z
UID:6662-1708768800-1708794000@ut501st.com
SUMMARY:Crossroads FandomFest
DESCRIPTION:Experience Utah local pop culture with two days of toys\, Funko Pops\, Pokémon\, video games\, music\, sports cards\, celebrity signers\, art\, cosplay\, and more! \n  \nStephen Constantion who was a gamorean guard will be there signing as well. \nsecure changing area \n  \nlight sabers and blasters are ok \ncome as you can and mingle with the crowd and take pictures \n 
URL:https://ut501st.com/event/crossroads-fandomfest/
LOCATION:The Shops at South Town\, 10450 S State St\, Sandy\, UT\, 84070\, United States
END:VEVENT
BEGIN:VEVENT
DTSTART;TZID=America/Denver:20240120T110000
DTEND;TZID=America/Denver:20240120T190000
DTSTAMP:20260425T095828
CREATED:20240115T041959Z
LAST-MODIFIED:20240115T041959Z
UID:6614-1705748400-1705777200@ut501st.com
SUMMARY:JanuArty Jan 20th
DESCRIPTION:JanuArty is a community event focused on local creators. We’re fundraising for Primary Children’s Hospital with a (two) screening of The Prince of Egypt for its 25th anniversary with Thomas Estrada (worked on Moses). Thomas and Adrian Ropp (honorary member) will also be doing panels\, along with other artists.\nOther activities include face painting\, a cosplay contest\, art contest\, and more are in the works (hoping for a LEGO MOC contest\, scavenger hunt\, and photos\nStart time is 11am this event goes till 7pm.\nat this time they are unsure of a secure changing room\, we will update as we get more information\, as well as the exact meeting location within the mall
URL:https://ut501st.com/event/januarty-jan-20th/
LOCATION:vally fair mall\, 3601 S constituition blvd\, WVC\, 84119\, United States
END:VEVENT
BEGIN:VEVENT
DTSTART;TZID=America/Denver:20231216T093000
DTEND;TZID=America/Denver:20231216T110000
DTSTAMP:20260425T095828
CREATED:20231214T173444Z
LAST-MODIFIED:20231214T173444Z
UID:6601-1702719000-1702724400@ut501st.com
SUMMARY:Ben's Family Meet and Greet REDUX
DESCRIPTION:We have found an alternative date for Ben’s Family Meet and Greet. Address is the same\, and we will need to be ready by 9:30 AM. Then we will meet the family at 10 AM.
URL:https://ut501st.com/event/bens-family-meet-and-greet-redux-2/
LOCATION:3494 South 335 E\, South Salt Lake\, UT\, 84115\, 3494 S 335 E\, South Salt Lake\, UT\, 84115\, United States
END:VEVENT
BEGIN:VEVENT
DTSTART;TZID=America/Denver:20231213T170000
DTEND;TZID=America/Denver:20231213T190000
DTSTAMP:20260425T095828
CREATED:20231128T175644Z
LAST-MODIFIED:20231128T175644Z
UID:6577-1702486800-1702494000@ut501st.com
SUMMARY:Redwood Elementary Holiday Event
DESCRIPTION:Our school is a Title One school in West Valley. Our students come from various demographics and many (if not all of them) live under the poverty line. Each year we provide each student with a new coat\, pair of shoes and toy at our holiday event. You guys helped us last year and you were the stars of the show – the kids would LOVE to have you again! \nNO BLASTERS OR ANY PROP WEAPONS!!! \nChanging and storage will be provided.
URL:https://ut501st.com/event/redwood-elementary-holiday-event/
LOCATION:Redwood Elementary\, 2650 Redwood Road\, West Valley City\, UT\, 84119\, United States
END:VEVENT
BEGIN:VEVENT
DTSTART;TZID=America/Denver:20231209T110000
DTEND;TZID=America/Denver:20231209T170000
DTSTAMP:20260425T095828
CREATED:20231201T230815Z
LAST-MODIFIED:20231201T230815Z
UID:6582-1702119600-1702141200@ut501st.com
SUMMARY:Heroes Helping Kids Toy Drive
DESCRIPTION:Toy drive being run through heroes helping kids\, there will be celebrity guests present\, and attendees are encouraged to bring a toy with them to get signatures. \nChris Bartlett from The Mandalorian\, Book of Boba Fett\, and Ahsoka will be attending \nTBA on another Voice Actor inside the Star Wars universe\, but voice actors from the animaniacs\, rick and morty\, and other will be present. \nChanging and storage to be determined. \n 
URL:https://ut501st.com/event/heroes-helping-kids-toy-drive/
LOCATION:Dreamscapes\, 10450 State St #2128\, Sandy\, UT\, 84070\, United States
END:VEVENT
BEGIN:VEVENT
DTSTART;TZID=America/Denver:20231209T100000
DTEND;TZID=America/Denver:20231209T130000
DTSTAMP:20260425T095828
CREATED:20231006T161945Z
LAST-MODIFIED:20231006T161945Z
UID:6528-1702116000-1702126800@ut501st.com
SUMMARY:Breakfast with Santa for Utah Foster Care
DESCRIPTION: This is an annual charity event for the children and families of Utah Foster Care hosted by the Ogden Masonic Temple\, a local 501(c)(3). We are proud to host them in our event space where we provide food\, gifts\, crafts\, characters and of course\, Santa. This event is always very special and memorable for the families and children. We think that having some representation from the 501st\, even for a short time\, could mean the world to our guests.
URL:https://ut501st.com/event/breakfast-with-santa-for-utah-foster-care/
LOCATION:Ogden Masonic Temple\, 1240 E 20th St\, Ogden\, UT\, 84401\, United States
END:VEVENT
BEGIN:VEVENT
DTSTART;TZID=America/Denver:20231209T093000
DTEND;TZID=America/Denver:20231209T110000
DTSTAMP:20260425T095828
CREATED:20231205T132441Z
LAST-MODIFIED:20231205T132441Z
UID:6588-1702114200-1702119600@ut501st.com
SUMMARY:Ben's Family Meet and Greet REDUX
DESCRIPTION:We have found an alternative date for Ben’s Family Meet and Greet.  Address is the same\, and we will need to be ready by 9:30 AM.  Then we will meet the family at 10 AM. \nChange at car.
URL:https://ut501st.com/event/bens-family-meet-and-greet-redux/
LOCATION:3494 South 335 E\, South Salt Lake\, UT\, 84115\, 3494 S 335 E\, South Salt Lake\, UT\, 84115\, United States
END:VEVENT
BEGIN:VEVENT
DTSTART;TZID=America/Denver:20231205T160000
DTEND;TZID=America/Denver:20231205T190000
DTSTAMP:20260425T095828
CREATED:20231129T214229Z
LAST-MODIFIED:20231129T214229Z
UID:6579-1701792000-1701802800@ut501st.com
SUMMARY:N.E.S.S Surprise Party for Disabled Adults
DESCRIPTION:From the host: \nI would really like it if some guests could do another birthday event for 4 of my clients they all have a birthday in December and would like to get a few characters together for an event . There would be pizza and drinks and places to change costumes and such. It would be in saint George Utah at the residential house . Party would be held in the garage . My clients love star wars and would love this as a surprise! The company I work for is ness . Would be great if we could work something out. \nChange at car event.
URL:https://ut501st.com/event/n-e-s-s-surprise-party-for-disabled-adults/
LOCATION:847 S Ostler Way\, 847 S Ostler Way\, St. George\, Utah\, 84770
END:VEVENT
BEGIN:VEVENT
DTSTART;TZID=America/Denver:20231201T180000
DTEND;TZID=America/Denver:20231201T213000
DTSTAMP:20260425T095828
CREATED:20231110T234420Z
LAST-MODIFIED:20231110T234420Z
UID:6570-1701453600-1701466200@ut501st.com
SUMMARY:Salt Lake City Star Wars Night 2023
DESCRIPTION:It’s shaping up to be a wonderful holiday!  Not your normal average every day!  We’ve been invited to the Maverick Center for the Salt Lake City Stars Star Wars night!  As with previous sporting events\, this is an LFL sanctioned event\, meaning that we are bound to adhere to the guidelines regarding such events. \n\nParking will be free that day in the Maverick Center lot.  Attendees will enter through the VIP entrance\, and then be directed to the changing and storage areas.  Doors will open at 6 pm and the tip off will be at 7 pm.  Please RSVP no later than November 29th!
URL:https://ut501st.com/event/salt-lake-city-star-wars-night-2023/
LOCATION:Maverik Center\, 3200 Decker Lake Dr\, West Valley City\, UT\, 84119\, United States
END:VEVENT
BEGIN:VEVENT
DTSTART;TZID=America/Denver:20231201T090000
DTEND;TZID=America/Denver:20231201T110000
DTSTAMP:20260425T095828
CREATED:20231003T185016Z
LAST-MODIFIED:20231003T185016Z
UID:6518-1701421200-1701428400@ut501st.com
SUMMARY:Woodstock Elementary Cans for Cocoa
DESCRIPTION:Every year our elementary school hosts a can drive to supply the Cottonwood High food pantry. As a treat for their donations the PTA hands out hot cocoa to the kids and they have time to drink and mingle with one another. We would love to have some Star Wars characters there that they can mingle with and take photos with. In addition to the donations many of the kids at are school actually use the Cottonwood Food Pantry and the services that Cottonwood High has for low income families so this is a great time to celebrate our community and what makes us strong. \nChanging and storage will be provided. \nNO BLASTERS!! \nMAX CHARACTERS: 8
URL:https://ut501st.com/event/woodstock-elementary-cans-for-cocoa/
LOCATION:Woodstock Elementary School\, 6015 S 1300 E\, Murray\, UT\, 84121\, United States
END:VEVENT
BEGIN:VEVENT
DTSTART;TZID=America/Denver:20231125T163000
DTEND;TZID=America/Denver:20231125T213000
DTSTAMP:20260425T095828
CREATED:20231112T000755Z
LAST-MODIFIED:20231112T000755Z
UID:6572-1700929800-1700947800@ut501st.com
SUMMARY:Ogden Light Parade 2023
DESCRIPTION:Ogden Light Parade. Outdoor event. Change at your vehicles. Layer & dress warm. Holiday-up your costumes; especially with lights. NO SANTA SUITS. Santa hats are fine. \n  \n 
URL:https://ut501st.com/event/ogden-light-parade-2023/
LOCATION:22nd Street Washington Blvd\, 22nd Street Washington Blvd\, Ogden\, UT\, United States
END:VEVENT
BEGIN:VEVENT
DTSTART;TZID=America/Denver:20231118T110000
DTEND;TZID=America/Denver:20231118T170000
DTSTAMP:20260425T095828
CREATED:20231028T185737Z
LAST-MODIFIED:20231028T185737Z
UID:6554-1700305200-1700326800@ut501st.com
SUMMARY:Toys for Tots at Hastur Games
DESCRIPTION:We’ve been invited for a special Toys for Tots event over at Hatsur games in Midvale.  If you would like to bring a toy donation\, that would be most appreciated!  Just be sure that it’s a new toy\, unopened\, and never used.  You’re also welcome to make your costumes more festive to match the season! A changing and storage area is planned to be provided.
URL:https://ut501st.com/event/toys-for-tots-at-hastur-games/
LOCATION:Hasturs Hobby\, 6831 S State\, Midvale\, UT\, 84047\, United States
END:VEVENT
BEGIN:VEVENT
DTSTART;TZID=America/Denver:20231118T093000
DTEND;TZID=America/Denver:20231118T120000
DTSTAMP:20260425T095828
CREATED:20231107T202756Z
LAST-MODIFIED:20231107T202756Z
UID:6567-1700299800-1700308800@ut501st.com
SUMMARY:Star Wars Visit at Orchard Park Long Term Care
DESCRIPTION:We have been invited to Orchard Park in Orem to walk around their facility to take pictures with residents.  This is a change at your car event.  We have done many of these in the past and the residents always love something new happen in their lives for a change. \nMAX CHARACTERS: 8
URL:https://ut501st.com/event/star-wars-visit-at-orchard-park-long-term-care/
LOCATION:Cascades at Orchard Park\, 740 North 300 East\, Orem\, UT\, 84057\, United States
END:VEVENT
BEGIN:VEVENT
DTSTART;TZID=America/Denver:20231104T100000
DTEND;TZID=America/Denver:20231104T104500
DTSTAMP:20260425T095828
CREATED:20231103T025732Z
LAST-MODIFIED:20231103T025732Z
UID:6563-1699092000-1699094700@ut501st.com
SUMMARY:Ben's Family Meet and Greet
DESCRIPTION:Ben’s family from the Cornhole fundraiser event last October has invited us to come visit Ben at his home for a little meet and greet. If you plan on coming\, be ready by 10 am. This will be a change at car event.
URL:https://ut501st.com/event/bens-family-meet-and-greet/
LOCATION:3494 South 335 E\, South Salt Lake\, UT\, 84115\, 3494 S 335 E\, South Salt Lake\, UT\, 84115\, United States
END:VEVENT
BEGIN:VEVENT
DTSTART;TZID=America/Denver:20231030T190000
DTEND;TZID=America/Denver:20231030T203000
DTSTAMP:20260425T095828
CREATED:20230925T180546Z
LAST-MODIFIED:20230925T180546Z
UID:6513-1698692400-1698697800@ut501st.com
SUMMARY:Cosplay Concert at Syracuse High
DESCRIPTION:Our Cosplay concert will be a live 80 member orchestra playing music for as many cosplayers as we can get music for. As we play music they will come out and interact with the audience. There will be plenty of room/pic opportunity in the foyer before and after the concert too. We plan to have an area for cosplayers to rest and snacks during the concert. We would love to have any number of cosplayers to join us this evening. We usually have about 700 attendees and the concert is all volunteers and free for all to attend. Please let us know if you can come!!!
URL:https://ut501st.com/event/cosplay-concert-at-syracuse-high/
LOCATION:Syracuse High School\, 665 S 2000 W\, Syracuse\, UT\, 84075\, United States
END:VEVENT
BEGIN:VEVENT
DTSTART;TZID=America/Denver:20231030T180000
DTEND;TZID=America/Denver:20231030T200000
DTSTAMP:20260425T095828
CREATED:20231005T181717Z
LAST-MODIFIED:20231005T181717Z
UID:6525-1698688800-1698696000@ut501st.com
SUMMARY:Riverdale Halloween Carnival
DESCRIPTION:Large Halloween Event located inside in a large Community Center gymnasium. This event is a carnival setting with multiple small carnival games set. \nChanging and storage can be provided. \nMAX CHARACTERS: 2-4.
URL:https://ut501st.com/event/riverdale-halloween-carnival/
LOCATION:Riverdale City Community Center\, 4360 South Parker Drive\, Riverdale\, UT\, 84404\, United States
END:VEVENT
BEGIN:VEVENT
DTSTART;TZID=America/Denver:20231028T143000
DTEND;TZID=America/Denver:20231028T160000
DTSTAMP:20260425T095828
CREATED:20230919T180251Z
LAST-MODIFIED:20230919T180251Z
UID:6499-1698503400-1698508800@ut501st.com
SUMMARY:Mendon Library Halloween Party
DESCRIPTION:Mendon Library is hosting a  Halloween party.  It will be an open house event.  Last year’s attendance was approximately 150. \nChanging and storage is still TBD.  Will be updated once more information comes in. \nMAX LIMIT:  20
URL:https://ut501st.com/event/mendon-library-halloween-party/
LOCATION:Mendon Library\, 15 N Main St\, Mendon\, UT\, 84325\, United States
END:VEVENT
BEGIN:VEVENT
DTSTART;TZID=America/Denver:20231028T140000
DTEND;TZID=America/Denver:20231028T153000
DTSTAMP:20260425T095828
CREATED:20231018T144620Z
LAST-MODIFIED:20231018T144620Z
UID:6543-1698501600-1698507000@ut501st.com
SUMMARY:Utah Food Allergy Network Halloween Non-food Trunk or Treat
DESCRIPTION:Utah Food Allergy Network is a 501c3 nonprofit that provides support for those suffering with food allergies in Utah. This event is a non-food Halloween Trunk-or-Treat to provide a fun and safe place for kids with food allergies to enjoy the holiday that is very unsafe for them normally. \nNO BLASTERS!!! \nMAX CHARACTERS: 10 \nCHANGE AT CAR.
URL:https://ut501st.com/event/utah-food-allergy-network-halloween-non-food-trunk-or-treat/
LOCATION:Lehi High School\, 180 N\, 500 E\,\, Lehi\, UT\, 84043\, United States
END:VEVENT
BEGIN:VEVENT
DTSTART;TZID=America/Denver:20231027T180000
DTEND;TZID=America/Denver:20231027T200000
DTSTAMP:20260425T095828
CREATED:20230907T003339Z
LAST-MODIFIED:20230907T003339Z
UID:6479-1698429600-1698436800@ut501st.com
SUMMARY:Memorial Mortuary 13th Annual Trunk or Treat
DESCRIPTION:It’s that time again! \nWe’re invited once again for Memorial Mortuary’s annual Trunk or Treat here in Murray.  We’ll be walking around outside interacting with kids and their families for a fun night. Changing will be provided inside in one of the rooms. \n 
URL:https://ut501st.com/event/memorial-mortuary-13th-annual-trunk-or-treat/
LOCATION:Murray Memorial Mortuary\, 5850 S 900 E\, Murray\, UT\, 84121\, United States
END:VEVENT
BEGIN:VEVENT
DTSTART;TZID=America/Denver:20231026T183000
DTEND;TZID=America/Denver:20231026T203000
DTSTAMP:20260425T095828
CREATED:20230919T182820Z
LAST-MODIFIED:20230919T182820Z
UID:6501-1698345000-1698352200@ut501st.com
SUMMARY:Hillside Middle School Haunted Hallways Fundraiser
DESCRIPTION:A hair-raising fundraiser to support Hillside Middle School. Star Wars has participated for several years and have had great response! \nChanging and storage will be provided. \nNO BLASTERS!!!!  Lightsabers OK.
URL:https://ut501st.com/event/hillside-middle-school-haunted-hallways-fundraiser/
LOCATION:Hillside Middle School\, 1825 S. Nevada Street\, Salt Lake City\, UT\, 84108\, United States
END:VEVENT
BEGIN:VEVENT
DTSTART;TZID=America/Denver:20231025T173000
DTEND;TZID=America/Denver:20231025T203000
DTSTAMP:20260425T095828
CREATED:20231023T164633Z
LAST-MODIFIED:20231023T164633Z
UID:6551-1698255000-1698265800@ut501st.com
SUMMARY:Murray Haunted Woods Day #3
DESCRIPTION:Haunted Woods is a fundraiser for schools and prevention of child abuse. We need cosplayers to interact with people in line. We need people on Monday\, Tuesday\, and Wednesday for whatever hours you can come.
URL:https://ut501st.com/event/murray-haunted-woods-day-3/
LOCATION:Murray City Park\, 292 E Murray Park Avenue\, Murray\, UT\, 84107\, United States
END:VEVENT
BEGIN:VEVENT
DTSTART;TZID=America/Denver:20231025T170000
DTEND;TZID=America/Denver:20231025T190000
DTSTAMP:20260425T095828
CREATED:20231005T165639Z
LAST-MODIFIED:20231005T165639Z
UID:6522-1698253200-1698260400@ut501st.com
SUMMARY:Life Start
DESCRIPTION:This program helps single moms and kids get their lives started again.  Backgrounds range from domestic violence to drug abuse. \nChanging area still to be determined. \nNO BLASTERS!!! \nMAX CHARACTERS: 20
URL:https://ut501st.com/event/life-start/
LOCATION:542 West Wolfe Grove Circle\, 542 West Wolfe Grove Circle\, Midvale\, UT\, 84047\, United States
END:VEVENT
BEGIN:VEVENT
DTSTART;TZID=America/Denver:20231025T143000
DTEND;TZID=America/Denver:20231025T173000
DTSTAMP:20260425T095828
CREATED:20231010T160921Z
LAST-MODIFIED:20231010T160921Z
UID:6531-1698244200-1698255000@ut501st.com
SUMMARY:Make-A-Wish Family Trick or Treat
DESCRIPTION:We’ve got another trunk or treat at the Maverick Center again this month!  This one will be different in that we will be stationary while the families will come to us in their vehicles.  The event formally starts at 3:30 pm\, but we are asked to be in our places in the parking lot no later than 2:45 for pictures as well as to ensure a smooth starting line. \nIt would be wise for us to probably bring candy to pass out.  If you want to bring some yourself\, we would recommend bringing at least two or three bags worth to pass out. \nThis will be a change at car event\, so plan accordingly.
URL:https://ut501st.com/event/make-a-wish-family-trick-or-treat-2/
LOCATION:Maverik Center\, 3200 Decker Lake Dr\, West Valley City\, UT\, 84119\, United States
END:VEVENT
BEGIN:VEVENT
DTSTART;TZID=America/Denver:20231024T173000
DTEND;TZID=America/Denver:20231024T203000
DTSTAMP:20260425T095828
CREATED:20231023T164533Z
LAST-MODIFIED:20231023T164533Z
UID:6549-1698168600-1698179400@ut501st.com
SUMMARY:Murray Haunted Woods Day #2
DESCRIPTION:Haunted Woods is a fundraiser for schools and prevention of child abuse. We need cosplayers to interact with people in line. We need people on Monday\, Tuesday\, and Wednesday for whatever hours you can come.
URL:https://ut501st.com/event/murray-haunted-woods-day-2/
LOCATION:Murray City Park\, 292 E Murray Park Avenue\, Murray\, UT\, 84107\, United States
END:VEVENT
BEGIN:VEVENT
DTSTART;TZID=America/Denver:20231023T173000
DTEND;TZID=America/Denver:20231023T203000
DTSTAMP:20260425T095828
CREATED:20231023T164415Z
LAST-MODIFIED:20231023T164415Z
UID:6547-1698082200-1698093000@ut501st.com
SUMMARY:Murray Haunted Woods Day #1
DESCRIPTION:Haunted Woods is a fundraiser for schools and prevention of child abuse. We need cosplayers to interact with people in line. We need people on Monday\, Tuesday\, and Wednesday for whatever hours you can come.
URL:https://ut501st.com/event/murray-haunted-woods-day-1/
LOCATION:Murray City Park\, 292 E Murray Park Avenue\, Murray\, UT\, 84107\, United States
END:VEVENT
BEGIN:VEVENT
DTSTART;TZID=America/Denver:20231021T120000
DTEND;TZID=America/Denver:20231021T150000
DTSTAMP:20260425T095828
CREATED:20231013T222044Z
LAST-MODIFIED:20231020T180811Z
UID:6539-1697889600-1697900400@ut501st.com
SUMMARY:Officer's Hollow
DESCRIPTION: The Bachelor of Social Work Student Association (BSWSA) members would like us to participate in their annual Officer’s Hollow Halloween festival. \nOfficer’s Hollow is an event held every year by the BSWSA at Officer’s Circle near Fort Douglas for the students of Title-I elementary schools and their families. The festival provides children with a safe\, enjoyable Halloween experience with a variety of fun activities\, including pumpkin decorating\, trick-or-treating\, face painting\, games\, and arts and crafts. Additionally\, the students residing in Officer’s Circle decorate their homes and allow families to walk through at their leisure. \nThis event is meant to be accessible for children with a variety of needs\, such as allergies\, or disabilities that impact mobility. \n  \nWe would be walking around and interacting with the families and kids who come. As of right now\, we’re  not sure about the weapons or if there will be changing. We will hopefully have more info soon. They also said volunteers will be offered pizza.
URL:https://ut501st.com/event/officers-hollow/
LOCATION:Officer’s Circle University of Utah\, Officer's Circle\, Salt Lake City\, UT\, 84113\, United States
END:VEVENT
BEGIN:VEVENT
DTSTART;TZID=America/Denver:20231018T180000
DTEND;TZID=America/Denver:20231018T200000
DTSTAMP:20260425T095828
CREATED:20231011T143032Z
LAST-MODIFIED:20231011T143032Z
UID:6534-1697652000-1697659200@ut501st.com
SUMMARY:Brewlights at Hogle Zoo
DESCRIPTION:This is a fundraising event for Hogle Zoo. The patrons will be 21 years old or over. Alcohol will be served to them\, but per our Event Contact\, our area will be a “dry zone” of sorts\, where we can pose for pictures with patrons but they will not be allowed to bring any drinks into our area. \n  \nRegardless\, please remember our LFL/Disney guidelines. Do not hold anyone’s beverage (or any other belongings). Do not take any inappropriate photos with guests. Spotters/Support Staff that attend will need to be on the lookout for any potential risks. Our event contact is our go to person at the venue should we need any assistance. \n  \n  \n  \nEvent Contact: \nShawn Herrera \nSpecial Events Supervisor \n(801) 584-4573 \nsherrera@hoglezoo.org \n  \n  \nFrom our event contact: \n  \n“Call time: 6:00PM entering through the gates at the Rendezoo room (located west of main entrance by the wheelchair parking area) \n  \nDuration/Time event starts and ends: characters on at 6:45 and rotate off and on in Twiga Terrace from 6:45pm-8:00pm \n  \nParking Instructions: park at the west end of the main parking lot \n  \nNumber of characters (if there is a limit): no limit but the meet/greet photo area could probably hold 20 comfortably \n  \n  \nWe will make sure there is an area for guests to place their drinks so they do not appear in any photos. “
URL:https://ut501st.com/event/brewlights-at-hogle-zoo/
LOCATION:Hogle Zoo\, 2600 Sunnyside Ave\, Salt Lake City\, UT\, 84108\, United States
END:VEVENT
BEGIN:VEVENT
DTSTART;TZID=America/Denver:20231009T180000
DTEND;TZID=America/Denver:20231009T200000
DTSTAMP:20260425T095828
CREATED:20230908T164657Z
LAST-MODIFIED:20230908T164657Z
UID:6481-1696874400-1696881600@ut501st.com
SUMMARY:Farmington Fire Department Open House
DESCRIPTION:Farmington Fire Department yearly open house\, For fire prevention. \nChanging and storage will be provided.
URL:https://ut501st.com/event/farmington-fire-department-open-house/
LOCATION:Farmington Fire Department\, 82 North 100 East\, Farmington\, UT\, 84025\, United States
END:VEVENT
END:VCALENDAR