BEGIN:VCALENDAR
VERSION:2.0
PRODID:-//Alpine Garrison - ECPv6.15.17.1//NONSGML v1.0//EN
CALSCALE:GREGORIAN
METHOD:PUBLISH
X-WR-CALNAME:Alpine Garrison
X-ORIGINAL-URL:https://ut501st.com
X-WR-CALDESC:Events for Alpine Garrison
REFRESH-INTERVAL;VALUE=DURATION:PT1H
X-Robots-Tag:noindex
X-PUBLISHED-TTL:PT1H
BEGIN:VTIMEZONE
TZID:America/Denver
BEGIN:DAYLIGHT
TZOFFSETFROM:-0700
TZOFFSETTO:-0600
TZNAME:MDT
DTSTART:20250309T090000
END:DAYLIGHT
BEGIN:STANDARD
TZOFFSETFROM:-0600
TZOFFSETTO:-0700
TZNAME:MST
DTSTART:20251102T080000
END:STANDARD
BEGIN:DAYLIGHT
TZOFFSETFROM:-0700
TZOFFSETTO:-0600
TZNAME:MDT
DTSTART:20260308T090000
END:DAYLIGHT
BEGIN:STANDARD
TZOFFSETFROM:-0600
TZOFFSETTO:-0700
TZNAME:MST
DTSTART:20261101T080000
END:STANDARD
BEGIN:DAYLIGHT
TZOFFSETFROM:-0700
TZOFFSETTO:-0600
TZNAME:MDT
DTSTART:20270314T090000
END:DAYLIGHT
BEGIN:STANDARD
TZOFFSETFROM:-0600
TZOFFSETTO:-0700
TZNAME:MST
DTSTART:20271107T080000
END:STANDARD
END:VTIMEZONE
BEGIN:VEVENT
DTSTART;TZID=America/Denver:20260502T090000
DTEND;TZID=America/Denver:20260502T120000
DTSTAMP:20260423T043827
CREATED:20260316T170657Z
LAST-MODIFIED:20260316T170657Z
UID:7390-1777712400-1777723200@ut501st.com
SUMMARY:Moving Day - Salt Lake City Walk for Parkinson's
DESCRIPTION:From the contact: A fundraising walk and resource fair for people with Parkinson’s disease. We like to enhance the entertainment at the event with fun photos and character appearances that help the PD community feeling supported. \n– Blasters and sabers are allowed\n– Change at car
URL:https://ut501st.com/event/moving-day-salt-lake-city-walk-for-parkinsons/
LOCATION:Liberty Park\, 700 E 900 S\, Salt Lake city\, UT\, 84105\, United States
END:VEVENT
BEGIN:VEVENT
DTSTART;TZID=America/Denver:20260502T120000
DTEND;TZID=America/Denver:20260502T160000
DTSTAMP:20260423T043827
CREATED:20260410T033518Z
LAST-MODIFIED:20260410T033518Z
UID:7416-1777723200-1777737600@ut501st.com
SUMMARY:real sl star wars night 2026
DESCRIPTION:Call time: NOONEvent start time & approx. end time: Doors open – 1:00 PM Approx. end time – 4 PMLocation: America First Field 9256 S State St Sandy Utah 84070\nParking location and details: will come latersecure changing area YESlight sabers and blasters YES\n*****maximum characters and staff invited is 30 costumers / 5 handlers*****\nfirst come first serve.\nWe need to have names turned in 2 days before the event\, please reply to the the main post which I will start with 3 things:1 Name2. character /or support staff3. I have read and agree to abide by the Lucasfilm guidelines for\nDo not make your own thread- please reply to the thread I make only!!! one thread with your character and compliance to LFL rules  ONE THREAD ONLY which I will start please read\nOpen Invites for Fan Group participation at sports games.LFL Guidelines:\nAll SW themed events with Major and Minor league teams are now considered OPEN INVITES. This means we do not have to cast and teams do not have to pay performers. Teams must welcome all fan groups on a first come basis and cannot ask for specific characters or specific amounts. They can set a maximum limit based on accommodations. Open Invites are just that: an invitation to fan groups to show up at an event in costume. Teams cannot direct fan group members to do any activities or be anywhere specific at any specific time – they may provide the groups with a list of activities to self-organize and participate in\, but it is at fan group members’ own discretion. We strongly prefer that characters not throw out first pitches\, participate in puck drops\, sing the National Anthem or things of that nature – if they want\, fan group members may escort a child or fan to the mound\, etc.\, but must not be directed to do so. Characters should not hold\, wear\, sit in or stand on any branded item or logo\, especially with a team emblem. The fan groups are welcome to be photographed with others wearing the team logo/brands or in front of signage featuring the team logo/brand\, however. We strongly suggest that teams provide a handler/security for costumed fans during activities to ensure the safety and security of said costumed fans\, to protect them from overzealous game attendees. Costumed fan groups must be referred to as members from their respective fan groups\, and not as official SW/Disney/Lucasfilm characters.Please note that if you or your club members require a handler or handlers at the event\, you must provide them yourself and not rely on handlers from other clubs to fulfill this responsibility.
URL:https://ut501st.com/event/real-sl-star-wars-night-2026/
LOCATION:America First Field\, 9256 south State Street\, Sandy\, UT\, 84070\, United States
END:VEVENT
END:VCALENDAR