BEGIN:VCALENDAR
VERSION:2.0
PRODID:-//Alpine Garrison - ECPv6.15.17.1//NONSGML v1.0//EN
CALSCALE:GREGORIAN
METHOD:PUBLISH
X-ORIGINAL-URL:https://ut501st.com
X-WR-CALDESC:Events for Alpine Garrison
REFRESH-INTERVAL;VALUE=DURATION:PT1H
X-Robots-Tag:noindex
X-PUBLISHED-TTL:PT1H
BEGIN:VTIMEZONE
TZID:America/Denver
BEGIN:DAYLIGHT
TZOFFSETFROM:-0700
TZOFFSETTO:-0600
TZNAME:MDT
DTSTART:20250309T090000
END:DAYLIGHT
BEGIN:STANDARD
TZOFFSETFROM:-0600
TZOFFSETTO:-0700
TZNAME:MST
DTSTART:20251102T080000
END:STANDARD
BEGIN:DAYLIGHT
TZOFFSETFROM:-0700
TZOFFSETTO:-0600
TZNAME:MDT
DTSTART:20260308T090000
END:DAYLIGHT
BEGIN:STANDARD
TZOFFSETFROM:-0600
TZOFFSETTO:-0700
TZNAME:MST
DTSTART:20261101T080000
END:STANDARD
BEGIN:DAYLIGHT
TZOFFSETFROM:-0700
TZOFFSETTO:-0600
TZNAME:MDT
DTSTART:20270314T090000
END:DAYLIGHT
BEGIN:STANDARD
TZOFFSETFROM:-0600
TZOFFSETTO:-0700
TZNAME:MST
DTSTART:20271107T080000
END:STANDARD
END:VTIMEZONE
BEGIN:VEVENT
DTSTART;TZID=America/Denver:20260324T180000
DTEND;TZID=America/Denver:20260324T193000
DTSTAMP:20260423T100744
CREATED:20260303T204613Z
LAST-MODIFIED:20260303T204613Z
UID:7332-1774375200-1774380600@ut501st.com
SUMMARY:Park lane Stem Night
DESCRIPTION:  \nWe had you come to our event last year and our students LOVED it so much. We will have stations for science experiments around the gym and kids go from on station to another and like to interact. Thank you.\n\nNO weapons allowed at this event ( blasters \, knives or light sabers )\nsecure changing YES\ncontact Rebecca Gunderson
URL:https://ut501st.com/event/park-lane-stem-night-2/
LOCATION:park lane\, 9955 S 2300 E\, sandy\, UT\, 84092\, United States
END:VEVENT
END:VCALENDAR