BEGIN:VCALENDAR
VERSION:2.0
PRODID:-//Alpine Garrison - ECPv6.15.17.1//NONSGML v1.0//EN
CALSCALE:GREGORIAN
METHOD:PUBLISH
X-WR-CALNAME:Alpine Garrison
X-ORIGINAL-URL:https://ut501st.com
X-WR-CALDESC:Events for Alpine Garrison
REFRESH-INTERVAL;VALUE=DURATION:PT1H
X-Robots-Tag:noindex
X-PUBLISHED-TTL:PT1H
BEGIN:VTIMEZONE
TZID:America/Denver
BEGIN:DAYLIGHT
TZOFFSETFROM:-0700
TZOFFSETTO:-0600
TZNAME:MDT
DTSTART:20250309T090000
END:DAYLIGHT
BEGIN:STANDARD
TZOFFSETFROM:-0600
TZOFFSETTO:-0700
TZNAME:MST
DTSTART:20251102T080000
END:STANDARD
BEGIN:DAYLIGHT
TZOFFSETFROM:-0700
TZOFFSETTO:-0600
TZNAME:MDT
DTSTART:20260308T090000
END:DAYLIGHT
BEGIN:STANDARD
TZOFFSETFROM:-0600
TZOFFSETTO:-0700
TZNAME:MST
DTSTART:20261101T080000
END:STANDARD
BEGIN:DAYLIGHT
TZOFFSETFROM:-0700
TZOFFSETTO:-0600
TZNAME:MDT
DTSTART:20270314T090000
END:DAYLIGHT
BEGIN:STANDARD
TZOFFSETFROM:-0600
TZOFFSETTO:-0700
TZNAME:MST
DTSTART:20271107T080000
END:STANDARD
END:VTIMEZONE
BEGIN:VEVENT
DTSTART;TZID=America/Denver:20260320T193000
DTEND;TZID=America/Denver:20260320T210000
DTSTAMP:20260423T095111
CREATED:20260313T192128Z
LAST-MODIFIED:20260313T192128Z
UID:7361-1774035000-1774040400@ut501st.com
SUMMARY:George Little's 20 Year Heart Transplant Anniversary
DESCRIPTION:We are celebrating my son’s 20th anniversary of him receiving a heart transplant. The hope is that Darth Vader and or a few other characters could show up to do some lightsaber training and mingle with people / photos \n– Lightsabers and blasters are ok\n– Secure Changing yes
URL:https://ut501st.com/event/george-littles-20-year-heart-transplant-anniversary/
LOCATION:Kaysville Stake Center\, 900 S Main St.\, Kaysville\, UT\, 84037
END:VEVENT
END:VCALENDAR