BEGIN:VCALENDAR
VERSION:2.0
PRODID:-//Alpine Garrison - ECPv6.15.17.1//NONSGML v1.0//EN
CALSCALE:GREGORIAN
METHOD:PUBLISH
X-ORIGINAL-URL:https://ut501st.com
X-WR-CALDESC:Events for Alpine Garrison
REFRESH-INTERVAL;VALUE=DURATION:PT1H
X-Robots-Tag:noindex
X-PUBLISHED-TTL:PT1H
BEGIN:VTIMEZONE
TZID:America/Denver
BEGIN:DAYLIGHT
TZOFFSETFROM:-0700
TZOFFSETTO:-0600
TZNAME:MDT
DTSTART:20250309T090000
END:DAYLIGHT
BEGIN:STANDARD
TZOFFSETFROM:-0600
TZOFFSETTO:-0700
TZNAME:MST
DTSTART:20251102T080000
END:STANDARD
BEGIN:DAYLIGHT
TZOFFSETFROM:-0700
TZOFFSETTO:-0600
TZNAME:MDT
DTSTART:20260308T090000
END:DAYLIGHT
BEGIN:STANDARD
TZOFFSETFROM:-0600
TZOFFSETTO:-0700
TZNAME:MST
DTSTART:20261101T080000
END:STANDARD
BEGIN:DAYLIGHT
TZOFFSETFROM:-0700
TZOFFSETTO:-0600
TZNAME:MDT
DTSTART:20270314T090000
END:DAYLIGHT
BEGIN:STANDARD
TZOFFSETFROM:-0600
TZOFFSETTO:-0700
TZNAME:MST
DTSTART:20271107T080000
END:STANDARD
END:VTIMEZONE
BEGIN:VEVENT
DTSTART;TZID=America/Denver:20260314T100000
DTEND;TZID=America/Denver:20260314T130000
DTSTAMP:20260423T085803
CREATED:20260309T175809Z
LAST-MODIFIED:20260309T175809Z
UID:7349-1773482400-1773493200@ut501st.com
SUMMARY:SLC St. Patrick's Day Parade at Gateway Mall
DESCRIPTION:El Kalah Shriners have invited our local Star Wars groups to participate in the 49th annual St. Patricks Day parade this Saturday at the Gateway Mall. No candy or other handouts during the parade. \nParade entry is #17. Staging will begin at 10am at 600 W near 200 S\, the parade starts at 11am sharp and should finish no later than 12:30pm. \nChange at car\, blasters/sabers are permitted.
URL:https://ut501st.com/event/slc-st-patricks-day-parade-at-gateway-mall/
LOCATION:St Patrick’s Day Parade at Gateway\, 400 W 200 S\, Salt Lake City\, UT\, 84101\, United States
END:VEVENT
END:VCALENDAR