BEGIN:VCALENDAR
VERSION:2.0
PRODID:-//Alpine Garrison - ECPv6.15.17.1//NONSGML v1.0//EN
CALSCALE:GREGORIAN
METHOD:PUBLISH
X-WR-CALNAME:Alpine Garrison
X-ORIGINAL-URL:https://ut501st.com
X-WR-CALDESC:Events for Alpine Garrison
REFRESH-INTERVAL;VALUE=DURATION:PT1H
X-Robots-Tag:noindex
X-PUBLISHED-TTL:PT1H
BEGIN:VTIMEZONE
TZID:America/Denver
BEGIN:DAYLIGHT
TZOFFSETFROM:-0700
TZOFFSETTO:-0600
TZNAME:MDT
DTSTART:20240310T090000
END:DAYLIGHT
BEGIN:STANDARD
TZOFFSETFROM:-0600
TZOFFSETTO:-0700
TZNAME:MST
DTSTART:20241103T080000
END:STANDARD
BEGIN:DAYLIGHT
TZOFFSETFROM:-0700
TZOFFSETTO:-0600
TZNAME:MDT
DTSTART:20250309T090000
END:DAYLIGHT
BEGIN:STANDARD
TZOFFSETFROM:-0600
TZOFFSETTO:-0700
TZNAME:MST
DTSTART:20251102T080000
END:STANDARD
BEGIN:DAYLIGHT
TZOFFSETFROM:-0700
TZOFFSETTO:-0600
TZNAME:MDT
DTSTART:20260308T090000
END:DAYLIGHT
BEGIN:STANDARD
TZOFFSETFROM:-0600
TZOFFSETTO:-0700
TZNAME:MST
DTSTART:20261101T080000
END:STANDARD
END:VTIMEZONE
BEGIN:VEVENT
DTSTART;TZID=America/Denver:20250927T100000
DTEND;TZID=America/Denver:20250927T190000
DTSTAMP:20260424T011334
CREATED:20250729T171233Z
LAST-MODIFIED:20250729T171233Z
UID:7256-1758967200-1758999600@ut501st.com
SUMMARY:Lynden Legacy Foundation Pumpkin Patch
DESCRIPTION:Our foundation provides resources and support for friends and family of those diagnosed with Alzheimer’s and other forms of dementia. This event is one of our biggest yearly fundraisers. It is our annual Pumpkin Patch at Summerhouse Farms. I had you guys come in 2023\, and I requested you last year but unfortunately our event is the same weekend as FanX. And I totally know that it is the same as as FanX this year also but I figured I would give it a shot.\nOn Saturday we have 2 pumpkin patch sessions. The first one is from 10am-2pm and the 2nd one is from 3-7pm. I am not picky\, anytime during either session or both sessions would work for me. \nI don’t have the event website up and running yet but I provided our Foundation website (https://lyndenlegacy.com/upcoming-events) that has information about all of our current and past events. \nThanks for your consideration. \n– Blasters and sabers are allowed\n– Secure staging/changing will be provided.\n– 4 characters max
URL:https://ut501st.com/event/lynden-legacy-foundation-pumpkin-patch/
LOCATION:Summerhouse Farms\, 2001 W 1200 S\, Heber City\, UT\, 84032\, United States
END:VEVENT
BEGIN:VEVENT
DTSTART;TZID=America/Denver:20250927T100000
DTEND;TZID=America/Denver:20250927T190000
DTSTAMP:20260424T011334
CREATED:20250831T220528Z
LAST-MODIFIED:20250831T220528Z
UID:7290-1758967200-1758999600@ut501st.com
SUMMARY:fanx day 3
DESCRIPTION:Last day for FanX 2025. If you are working to volunteer at any of the display area\, please sign up on the SignUp Genius \nAt the end of the day\, we ask that anyone who is available help us with tear down of the set\, loading onto the U-Haul\, and then putting everything away back at Aubrey’s shop. \n 
URL:https://ut501st.com/event/fanx-day-3-3/
LOCATION:Salt Palace\, 90 South West Temple\, Salt Lake City\, UT
END:VEVENT
END:VCALENDAR