BEGIN:VCALENDAR
VERSION:2.0
PRODID:-//Alpine Garrison - ECPv6.15.17.1//NONSGML v1.0//EN
CALSCALE:GREGORIAN
METHOD:PUBLISH
X-WR-CALNAME:Alpine Garrison
X-ORIGINAL-URL:https://ut501st.com
X-WR-CALDESC:Events for Alpine Garrison
REFRESH-INTERVAL;VALUE=DURATION:PT1H
X-Robots-Tag:noindex
X-PUBLISHED-TTL:PT1H
BEGIN:VTIMEZONE
TZID:America/Denver
BEGIN:DAYLIGHT
TZOFFSETFROM:-0700
TZOFFSETTO:-0600
TZNAME:MDT
DTSTART:20240310T090000
END:DAYLIGHT
BEGIN:STANDARD
TZOFFSETFROM:-0600
TZOFFSETTO:-0700
TZNAME:MST
DTSTART:20241103T080000
END:STANDARD
BEGIN:DAYLIGHT
TZOFFSETFROM:-0700
TZOFFSETTO:-0600
TZNAME:MDT
DTSTART:20250309T090000
END:DAYLIGHT
BEGIN:STANDARD
TZOFFSETFROM:-0600
TZOFFSETTO:-0700
TZNAME:MST
DTSTART:20251102T080000
END:STANDARD
BEGIN:DAYLIGHT
TZOFFSETFROM:-0700
TZOFFSETTO:-0600
TZNAME:MDT
DTSTART:20260308T090000
END:DAYLIGHT
BEGIN:STANDARD
TZOFFSETFROM:-0600
TZOFFSETTO:-0700
TZNAME:MST
DTSTART:20261101T080000
END:STANDARD
END:VTIMEZONE
BEGIN:VEVENT
DTSTART;TZID=America/Denver:20250630T183000
DTEND;TZID=America/Denver:20250630T203000
DTSTAMP:20260424T040733
CREATED:20250522T203608Z
LAST-MODIFIED:20250522T203608Z
UID:7200-1751308200-1751315400@ut501st.com
SUMMARY:Bountiful Philharmonia Orchestra Summer Concert
DESCRIPTION:MON Jun 30th\, Bountiful City has asked the Bountiful Philharmonia Orchestra to be the official group to kick off the 4th of July Celebration for Bountiful. We will be performing some Star Wars\, Harry Potter\, and Cowboy music\, so we will have various costumed characters in and around the park to enhance the event and interact with the audience. \nLast year was a huge success\, and people are interested in having you guys back if you can make it. The concert will start @ 7pm\, and go for approx. 1.5 hours. \nI can get the same changing area for you guys\, and I’ll provide some light refreshments and water/gatorade for the customers. \napprox. 2000 in attendance\, open-air concert. \nThe audience loved you guys last year. We will be in a slightly different location- just about 200 yards further west from where we were last year. \nBlasters and lightsabers are ok\nSecure changing area north of the concert area\, same as last year.
URL:https://ut501st.com/event/bountiful-philharmonia-orchestra-summer-concert/
LOCATION:bountiful city park\, 200 w 400 n\, bountiful\, UT\, 84010\, United States
END:VEVENT
END:VCALENDAR