BEGIN:VCALENDAR
VERSION:2.0
PRODID:-//Alpine Garrison - ECPv6.15.17.1//NONSGML v1.0//EN
CALSCALE:GREGORIAN
METHOD:PUBLISH
X-ORIGINAL-URL:https://ut501st.com
X-WR-CALDESC:Events for Alpine Garrison
REFRESH-INTERVAL;VALUE=DURATION:PT1H
X-Robots-Tag:noindex
X-PUBLISHED-TTL:PT1H
BEGIN:VTIMEZONE
TZID:America/Denver
BEGIN:DAYLIGHT
TZOFFSETFROM:-0700
TZOFFSETTO:-0600
TZNAME:MDT
DTSTART:20240310T090000
END:DAYLIGHT
BEGIN:STANDARD
TZOFFSETFROM:-0600
TZOFFSETTO:-0700
TZNAME:MST
DTSTART:20241103T080000
END:STANDARD
BEGIN:DAYLIGHT
TZOFFSETFROM:-0700
TZOFFSETTO:-0600
TZNAME:MDT
DTSTART:20250309T090000
END:DAYLIGHT
BEGIN:STANDARD
TZOFFSETFROM:-0600
TZOFFSETTO:-0700
TZNAME:MST
DTSTART:20251102T080000
END:STANDARD
BEGIN:DAYLIGHT
TZOFFSETFROM:-0700
TZOFFSETTO:-0600
TZNAME:MDT
DTSTART:20260308T090000
END:DAYLIGHT
BEGIN:STANDARD
TZOFFSETFROM:-0600
TZOFFSETTO:-0700
TZNAME:MST
DTSTART:20261101T080000
END:STANDARD
END:VTIMEZONE
BEGIN:VEVENT
DTSTART;TZID=America/Denver:20250620T180000
DTEND;TZID=America/Denver:20250620T200000
DTSTAMP:20260424T054056
CREATED:20250605T010410Z
LAST-MODIFIED:20250605T010410Z
UID:7220-1750442400-1750449600@ut501st.com
SUMMARY:South Ogden Days Family Night
DESCRIPTION:From the contact: “South Ogden City is holding our annual family night event on Friday\, June 20th as part of our South Ogden Days festivities. The character group we partnered with last year has since closed. I’ve worked with your organization many a times with other events and wanted to see if we might be able to have you participate in this one. \nThe event consists of some interactive community booths\, and we give away free ice cream and everything is free (including attendance) except for the fire department selling hot dogs for those interested. If you have a pop-up canopy\, your group is welcome to hang out under it for character photo ops and promote what you do in general. Or roaming is fine but it does get warm.” \nWe are looking into getting a canopy for this event for a staging/changing? area. Blasters and lightsabers are ok for the event.
URL:https://ut501st.com/event/south-ogden-days-family-night/
LOCATION:South Ogden Days\, 4300 Madison Ave\, Ogden\, UT\, 84403\, United States
END:VEVENT
END:VCALENDAR