BEGIN:VCALENDAR
VERSION:2.0
PRODID:-//Alpine Garrison - ECPv6.15.17.1//NONSGML v1.0//EN
CALSCALE:GREGORIAN
METHOD:PUBLISH
X-ORIGINAL-URL:https://ut501st.com
X-WR-CALDESC:Events for Alpine Garrison
REFRESH-INTERVAL;VALUE=DURATION:PT1H
X-Robots-Tag:noindex
X-PUBLISHED-TTL:PT1H
BEGIN:VTIMEZONE
TZID:America/Denver
BEGIN:DAYLIGHT
TZOFFSETFROM:-0700
TZOFFSETTO:-0600
TZNAME:MDT
DTSTART:20240310T090000
END:DAYLIGHT
BEGIN:STANDARD
TZOFFSETFROM:-0600
TZOFFSETTO:-0700
TZNAME:MST
DTSTART:20241103T080000
END:STANDARD
BEGIN:DAYLIGHT
TZOFFSETFROM:-0700
TZOFFSETTO:-0600
TZNAME:MDT
DTSTART:20250309T090000
END:DAYLIGHT
BEGIN:STANDARD
TZOFFSETFROM:-0600
TZOFFSETTO:-0700
TZNAME:MST
DTSTART:20251102T080000
END:STANDARD
BEGIN:DAYLIGHT
TZOFFSETFROM:-0700
TZOFFSETTO:-0600
TZNAME:MDT
DTSTART:20260308T090000
END:DAYLIGHT
BEGIN:STANDARD
TZOFFSETFROM:-0600
TZOFFSETTO:-0700
TZNAME:MST
DTSTART:20261101T080000
END:STANDARD
END:VTIMEZONE
BEGIN:VEVENT
DTSTART;TZID=America/Denver:20250610T090000
DTEND;TZID=America/Denver:20250610T120000
DTSTAMP:20260424T055232
CREATED:20250523T170638Z
LAST-MODIFIED:20250523T170638Z
UID:7208-1749546000-1749556800@ut501st.com
SUMMARY:Star Wars day at Parkdale Health and Rehab
DESCRIPTION:  \nWe have been invited to Parkdale Nursing and Rehab to come and make the residents smile for a couple hours. They have a secure changing room for us. Blasters and Lightsabers are ok. They will position us in a day room and bring residents and staff to us.\nsecure changing is providedblasters and lightsabers are ok\n 
URL:https://ut501st.com/event/star-wars-day-at-parkdale-health-and-rehab/
LOCATION:parkdale health and rehab\, 250 east 600 north\, price\, UT\, 84501\, United States
END:VEVENT
BEGIN:VEVENT
DTSTART;TZID=America/Denver:20250610T133000
DTEND;TZID=America/Denver:20250610T163000
DTSTAMP:20260424T055232
CREATED:20250523T170130Z
LAST-MODIFIED:20250523T170130Z
UID:7204-1749562200-1749573000@ut501st.com
SUMMARY:Star Wars at Pinnacle Nursing and Rehab
DESCRIPTION:Pinnacle nursing and rehab has invited us to come and get pictures with their residents. Blasters and Lightsabers are ok. There is a secure changing area for us. We will be in the dining room and the residents will be brought to us to get their picture taken. \nsecure changing area provided \nJake putnam is the contact for this event
URL:https://ut501st.com/event/star-wars-at-pinnacle-nursing-and-rehab/
LOCATION:pinnnacle nursing home\, 1340 East 300 north\, price\, UT\, 84501\, United States
END:VEVENT
END:VCALENDAR