BEGIN:VCALENDAR
VERSION:2.0
PRODID:-//Alpine Garrison - ECPv6.15.17.1//NONSGML v1.0//EN
CALSCALE:GREGORIAN
METHOD:PUBLISH
X-ORIGINAL-URL:https://ut501st.com
X-WR-CALDESC:Events for Alpine Garrison
REFRESH-INTERVAL;VALUE=DURATION:PT1H
X-Robots-Tag:noindex
X-PUBLISHED-TTL:PT1H
BEGIN:VTIMEZONE
TZID:America/Denver
BEGIN:DAYLIGHT
TZOFFSETFROM:-0700
TZOFFSETTO:-0600
TZNAME:MDT
DTSTART:20240310T090000
END:DAYLIGHT
BEGIN:STANDARD
TZOFFSETFROM:-0600
TZOFFSETTO:-0700
TZNAME:MST
DTSTART:20241103T080000
END:STANDARD
BEGIN:DAYLIGHT
TZOFFSETFROM:-0700
TZOFFSETTO:-0600
TZNAME:MDT
DTSTART:20250309T090000
END:DAYLIGHT
BEGIN:STANDARD
TZOFFSETFROM:-0600
TZOFFSETTO:-0700
TZNAME:MST
DTSTART:20251102T080000
END:STANDARD
BEGIN:DAYLIGHT
TZOFFSETFROM:-0700
TZOFFSETTO:-0600
TZNAME:MDT
DTSTART:20260308T090000
END:DAYLIGHT
BEGIN:STANDARD
TZOFFSETFROM:-0600
TZOFFSETTO:-0700
TZNAME:MST
DTSTART:20261101T080000
END:STANDARD
END:VTIMEZONE
BEGIN:VEVENT
DTSTART;TZID=America/Denver:20250605T170000
DTEND;TZID=America/Denver:20250605T190000
DTSTAMP:20260424T054057
CREATED:20250530T173404Z
LAST-MODIFIED:20250530T173404Z
UID:7213-1749142800-1749150000@ut501st.com
SUMMARY:Kids Club Star Wars Night
DESCRIPTION:Red Shoe Productions is running a kids club community program at Station Park this summer. They would love to make there June 5th date a Star Wars night to remember. They have asked for Saber-guild to put on a training at 530pm and 630pm. and for the all the other clubs to attend and troop around. (estimated to have a bit over 1\,000 people in attendance based on the past.)\nThere will be a changing/ storage area for us to use.\,\nBlasters and lightsabers are allowed.\,\nAny questions please contact Zack Coleman on FB for more details
URL:https://ut501st.com/event/kids-club-star-wars-night/
LOCATION:Station Park\, 140 N W Union Ave\, Farmington\, UT\, 84025\, United States
END:VEVENT
END:VCALENDAR