BEGIN:VCALENDAR
VERSION:2.0
PRODID:-//Alpine Garrison - ECPv6.15.17.1//NONSGML v1.0//EN
CALSCALE:GREGORIAN
METHOD:PUBLISH
X-ORIGINAL-URL:https://ut501st.com
X-WR-CALDESC:Events for Alpine Garrison
REFRESH-INTERVAL;VALUE=DURATION:PT1H
X-Robots-Tag:noindex
X-PUBLISHED-TTL:PT1H
BEGIN:VTIMEZONE
TZID:America/Denver
BEGIN:DAYLIGHT
TZOFFSETFROM:-0700
TZOFFSETTO:-0600
TZNAME:MDT
DTSTART:20240310T090000
END:DAYLIGHT
BEGIN:STANDARD
TZOFFSETFROM:-0600
TZOFFSETTO:-0700
TZNAME:MST
DTSTART:20241103T080000
END:STANDARD
BEGIN:DAYLIGHT
TZOFFSETFROM:-0700
TZOFFSETTO:-0600
TZNAME:MDT
DTSTART:20250309T090000
END:DAYLIGHT
BEGIN:STANDARD
TZOFFSETFROM:-0600
TZOFFSETTO:-0700
TZNAME:MST
DTSTART:20251102T080000
END:STANDARD
BEGIN:DAYLIGHT
TZOFFSETFROM:-0700
TZOFFSETTO:-0600
TZNAME:MDT
DTSTART:20260308T090000
END:DAYLIGHT
BEGIN:STANDARD
TZOFFSETFROM:-0600
TZOFFSETTO:-0700
TZNAME:MST
DTSTART:20261101T080000
END:STANDARD
END:VTIMEZONE
BEGIN:VEVENT
DTSTART;TZID=America/Denver:20250531T093000
DTEND;TZID=America/Denver:20250531T133000
DTSTAMP:20260424T072724
CREATED:20250516T233555Z
LAST-MODIFIED:20250516T233555Z
UID:7198-1748683800-1748698200@ut501st.com
SUMMARY:walk with angels
DESCRIPTION:  \nWalk With Angels is an advocacy event and fundraiser for United Angels Foundation\, a nonprofit that provides programs\, services and events for families raising children with special needs.\nLight sabers and blasters are ok\nsecure changing area will be provided\nhttp://www.walkwithangels.com/\nContact is Sylvia Lamapprox attendees 900
URL:https://ut501st.com/event/walk-with-angels-6/
LOCATION:Margaret Wines Park\, 500 N 100 E\, Lehi\, UT\, 84043\, United States
END:VEVENT
END:VCALENDAR