BEGIN:VCALENDAR
VERSION:2.0
PRODID:-//Alpine Garrison - ECPv6.15.17.1//NONSGML v1.0//EN
CALSCALE:GREGORIAN
METHOD:PUBLISH
X-ORIGINAL-URL:https://ut501st.com
X-WR-CALDESC:Events for Alpine Garrison
REFRESH-INTERVAL;VALUE=DURATION:PT1H
X-Robots-Tag:noindex
X-PUBLISHED-TTL:PT1H
BEGIN:VTIMEZONE
TZID:America/Denver
BEGIN:DAYLIGHT
TZOFFSETFROM:-0700
TZOFFSETTO:-0600
TZNAME:MDT
DTSTART:20240310T090000
END:DAYLIGHT
BEGIN:STANDARD
TZOFFSETFROM:-0600
TZOFFSETTO:-0700
TZNAME:MST
DTSTART:20241103T080000
END:STANDARD
BEGIN:DAYLIGHT
TZOFFSETFROM:-0700
TZOFFSETTO:-0600
TZNAME:MDT
DTSTART:20250309T090000
END:DAYLIGHT
BEGIN:STANDARD
TZOFFSETFROM:-0600
TZOFFSETTO:-0700
TZNAME:MST
DTSTART:20251102T080000
END:STANDARD
BEGIN:DAYLIGHT
TZOFFSETFROM:-0700
TZOFFSETTO:-0600
TZNAME:MDT
DTSTART:20260308T090000
END:DAYLIGHT
BEGIN:STANDARD
TZOFFSETFROM:-0600
TZOFFSETTO:-0700
TZNAME:MST
DTSTART:20261101T080000
END:STANDARD
END:VTIMEZONE
BEGIN:VEVENT
DTSTART;TZID=America/Denver:20250516T090000
DTEND;TZID=America/Denver:20250516T103000
DTSTAMP:20260424T074055
CREATED:20250417T174833Z
LAST-MODIFIED:20250417T174833Z
UID:7142-1747386000-1747391400@ut501st.com
SUMMARY:Whiteside elementary walkthrough
DESCRIPTION:Start at 9:30\, walking through the elementary school with a guide to each classroom.\nSecure changing area provided.\nBlasters and Lightsabers are allowed for this event
URL:https://ut501st.com/event/whiteside-elementary-walkthrough/
LOCATION:Whitesides Elementary\, 233 N Colonial Ave.\, Layton\, UT\, 84043\, United States
END:VEVENT
BEGIN:VEVENT
DTSTART;TZID=America/Denver:20250516T160000
DTEND;TZID=America/Denver:20250516T180000
DTSTAMP:20260424T074055
CREATED:20250404T001000Z
LAST-MODIFIED:20250404T001000Z
UID:7122-1747411200-1747418400@ut501st.com
SUMMARY:Make-a-Wish Proclamation in Logan
DESCRIPTION:Make-a-Wish Utah has invited us to a Wish Proclamation in Logan for a young boy that will be going to Disney World for the first time. He loves Star Wars and Darth Vader as his favorite character. They’ll be having a Make-a-Wish reveal party for him with friends and family and we’ll be there to support that wish proclamation\, interact and take photos with those in attendance. They would love to see Vader and Stormtroopers\, but this will be an open invite for all characters. \n– Blasters and sabers allowed\n– Secure staging/changing area will be provided
URL:https://ut501st.com/event/make-a-wish-proclamation-in-logan/
LOCATION:Fox Pest Control\, 755 Main Street\, Logan\, UT\, 84321\, United States
END:VEVENT
END:VCALENDAR