BEGIN:VCALENDAR
VERSION:2.0
PRODID:-//Alpine Garrison - ECPv6.15.17.1//NONSGML v1.0//EN
CALSCALE:GREGORIAN
METHOD:PUBLISH
X-ORIGINAL-URL:https://ut501st.com
X-WR-CALDESC:Events for Alpine Garrison
REFRESH-INTERVAL;VALUE=DURATION:PT1H
X-Robots-Tag:noindex
X-PUBLISHED-TTL:PT1H
BEGIN:VTIMEZONE
TZID:America/Denver
BEGIN:DAYLIGHT
TZOFFSETFROM:-0700
TZOFFSETTO:-0600
TZNAME:MDT
DTSTART:20240310T090000
END:DAYLIGHT
BEGIN:STANDARD
TZOFFSETFROM:-0600
TZOFFSETTO:-0700
TZNAME:MST
DTSTART:20241103T080000
END:STANDARD
BEGIN:DAYLIGHT
TZOFFSETFROM:-0700
TZOFFSETTO:-0600
TZNAME:MDT
DTSTART:20250309T090000
END:DAYLIGHT
BEGIN:STANDARD
TZOFFSETFROM:-0600
TZOFFSETTO:-0700
TZNAME:MST
DTSTART:20251102T080000
END:STANDARD
BEGIN:DAYLIGHT
TZOFFSETFROM:-0700
TZOFFSETTO:-0600
TZNAME:MDT
DTSTART:20260308T090000
END:DAYLIGHT
BEGIN:STANDARD
TZOFFSETFROM:-0600
TZOFFSETTO:-0700
TZNAME:MST
DTSTART:20261101T080000
END:STANDARD
END:VTIMEZONE
BEGIN:VEVENT
DTSTART;TZID=America/Denver:20250504T120000
DTEND;TZID=America/Denver:20250504T150000
DTSTAMP:20260424T074034
CREATED:20250208T164018Z
LAST-MODIFIED:20250503T034942Z
UID:7051-1746360000-1746370800@ut501st.com
SUMMARY:Clark Planetarium - May the 4th
DESCRIPTION:Clark Planetarium has invited us back for their annual May the 4th event. Details are the same as always: Staging and changing area will be in the 3rd floor classroom. Blasters and sabers are allowed
URL:https://ut501st.com/event/clark-planetarium-may-the-4th-2/
LOCATION:Clark Planetarium\, 110 s. 400 w.\, Salt Lake City\, UT\, 84101\, United States
END:VEVENT
BEGIN:VEVENT
DTSTART;TZID=America/Denver:20250504T150000
DTEND;TZID=America/Denver:20250504T180000
DTSTAMP:20260424T074034
CREATED:20250427T011057Z
LAST-MODIFIED:20250427T011057Z
UID:7167-1746370800-1746381600@ut501st.com
SUMMARY:planetarium afterparty dr volts and arts gallery
DESCRIPTION:  \nUrban Arts Gallery and Dr volts would like us to come and mingle after the planetarium event on May 4th.\nBlasters and light sabers are ok\, and they have some room to change in as well\, but most will already be in kit
URL:https://ut501st.com/event/planetarium-afterparty-dr-volts-and-arts-gallery/
LOCATION:Urban Arts Gallery\, 116 S Rio Grande St\, Salt Lake City\, UT\, 84101\, United States
END:VEVENT
END:VCALENDAR