BEGIN:VCALENDAR
VERSION:2.0
PRODID:-//Alpine Garrison - ECPv6.15.17.1//NONSGML v1.0//EN
CALSCALE:GREGORIAN
METHOD:PUBLISH
X-ORIGINAL-URL:https://ut501st.com
X-WR-CALDESC:Events for Alpine Garrison
REFRESH-INTERVAL;VALUE=DURATION:PT1H
X-Robots-Tag:noindex
X-PUBLISHED-TTL:PT1H
BEGIN:VTIMEZONE
TZID:America/Denver
BEGIN:DAYLIGHT
TZOFFSETFROM:-0700
TZOFFSETTO:-0600
TZNAME:MDT
DTSTART:20240310T090000
END:DAYLIGHT
BEGIN:STANDARD
TZOFFSETFROM:-0600
TZOFFSETTO:-0700
TZNAME:MST
DTSTART:20241103T080000
END:STANDARD
BEGIN:DAYLIGHT
TZOFFSETFROM:-0700
TZOFFSETTO:-0600
TZNAME:MDT
DTSTART:20250309T090000
END:DAYLIGHT
BEGIN:STANDARD
TZOFFSETFROM:-0600
TZOFFSETTO:-0700
TZNAME:MST
DTSTART:20251102T080000
END:STANDARD
BEGIN:DAYLIGHT
TZOFFSETFROM:-0700
TZOFFSETTO:-0600
TZNAME:MDT
DTSTART:20260308T090000
END:DAYLIGHT
BEGIN:STANDARD
TZOFFSETFROM:-0600
TZOFFSETTO:-0700
TZNAME:MST
DTSTART:20261101T080000
END:STANDARD
END:VTIMEZONE
BEGIN:VEVENT
DTSTART;TZID=America/Denver:20250502T100000
DTEND;TZID=America/Denver:20250502T120000
DTSTAMP:20260424T074151
CREATED:20250208T164806Z
LAST-MODIFIED:20250208T164806Z
UID:7053-1746180000-1746187200@ut501st.com
SUMMARY:Star Wars Day
DESCRIPTION:From the requestor: Hi! We are a non-profit organization that serves adults (trainees) with disabilities. You were recommended to us by a friend\, and we wanted to see if we could schedule a day for you to come by and take pictures and mingle with our trainees. Thank you! \nBlasters and sabers are permitted and a staging/changing area will be provided
URL:https://ut501st.com/event/star-wars-day/
LOCATION:Central Utah Enterprises\, 1170 South 350 East\, Provo\, UT\, 84606\, United States
END:VEVENT
BEGIN:VEVENT
DTSTART;TZID=America/Denver:20250502T130000
DTEND;TZID=America/Denver:20250502T150000
DTSTAMP:20260424T074151
CREATED:20250428T231323Z
LAST-MODIFIED:20250428T231323Z
UID:7174-1746190800-1746198000@ut501st.com
SUMMARY:North Ogden Elementary's May the 4th Celebration
DESCRIPTION:North Ogden Elementary’s May 4th is on May 2nd. Visit each grade\, answer Star Wars Questions\, and take photos.\nBlasters and sabers are allowed.\nSecure changing is available\nPlease be ready to troop at 1pm \, arrive with enough time to kit up.\nContact is Andy Chastain TK-54141
URL:https://ut501st.com/event/north-ogden-elementarys-may-the-4th-celebration/
LOCATION:North Ogden Elementary\, 530 East 2650 North\, Ogden\, UT\, 84414\, United States
END:VEVENT
BEGIN:VEVENT
DTSTART;TZID=America/Denver:20250502T133000
DTEND;TZID=America/Denver:20250502T160000
DTSTAMP:20260424T074151
CREATED:20250303T234845Z
LAST-MODIFIED:20250303T234845Z
UID:7097-1746192600-1746201600@ut501st.com
SUMMARY:Star Wars Day at Primary Children's
DESCRIPTION:Same rules as before:\n1. Clean costume\n2. If you are sick\, do not go!!!\n3. No asking patients for private information or asking why they are in the hospital.\n4. Personal photos with children may not be used for personal use; you may take pictures with them and their families for their use.\n5. Have fun :slight_smile:\n– 1:30 check-in time. The event starts at 2 p.m. Please check in with front desk security by 1:30. They will escort us up about that time so we can get changed.\n– 8 costumed characters and 2 handlers will be allowed for this event. **Please do not try to go to this event unless you are on the list for those who reserved a spot.\n– Last note: please be professional\, and remember we represent all the groups. Last time\, the other volunteers were surprised at our members’ use of vulgarity in the back room; the person who reached out asked if we could mitigate that going forward.
URL:https://ut501st.com/event/star-wars-day-at-primary-childrens/
LOCATION:Primary Children’s Hospital\, 100 Mario Capecchi Dr\, Salt Lake City\, UT 84113\, Salt Lake city\, UT\, 84113\, United States
END:VEVENT
END:VCALENDAR