BEGIN:VCALENDAR
VERSION:2.0
PRODID:-//Alpine Garrison - ECPv6.15.17.1//NONSGML v1.0//EN
CALSCALE:GREGORIAN
METHOD:PUBLISH
X-ORIGINAL-URL:https://ut501st.com
X-WR-CALDESC:Events for Alpine Garrison
REFRESH-INTERVAL;VALUE=DURATION:PT1H
X-Robots-Tag:noindex
X-PUBLISHED-TTL:PT1H
BEGIN:VTIMEZONE
TZID:America/Denver
BEGIN:DAYLIGHT
TZOFFSETFROM:-0700
TZOFFSETTO:-0600
TZNAME:MDT
DTSTART:20240310T090000
END:DAYLIGHT
BEGIN:STANDARD
TZOFFSETFROM:-0600
TZOFFSETTO:-0700
TZNAME:MST
DTSTART:20241103T080000
END:STANDARD
BEGIN:DAYLIGHT
TZOFFSETFROM:-0700
TZOFFSETTO:-0600
TZNAME:MDT
DTSTART:20250309T090000
END:DAYLIGHT
BEGIN:STANDARD
TZOFFSETFROM:-0600
TZOFFSETTO:-0700
TZNAME:MST
DTSTART:20251102T080000
END:STANDARD
BEGIN:DAYLIGHT
TZOFFSETFROM:-0700
TZOFFSETTO:-0600
TZNAME:MDT
DTSTART:20260308T090000
END:DAYLIGHT
BEGIN:STANDARD
TZOFFSETFROM:-0600
TZOFFSETTO:-0700
TZNAME:MST
DTSTART:20261101T080000
END:STANDARD
END:VTIMEZONE
BEGIN:VEVENT
DTSTART;TZID=America/Denver:20250425T170000
DTEND;TZID=America/Denver:20250425T203000
DTSTAMP:20260424T095205
CREATED:20250426T145546Z
LAST-MODIFIED:20250426T145546Z
UID:7158-1745600400-1745613000@ut501st.com
SUMMARY:ROTS 20th Anniversary - Friday @Jordan Commons
DESCRIPTION:Come and mingle/photo ops with theatre attendees as they come to see ROTS.\nsecure changing will be available\nblasters and lightsabers are ok\nThey will have water and refreshments available as well. Tickets to the movie are not included; do not ask. If by chance\, the manager offers\, that is great. In previous years\, some members asked the staff for tickets\, this is not okay.
URL:https://ut501st.com/event/rots-20th-anniversary-friday-jordan-commons/
LOCATION:Megaplex Jordan Commons\, 9335 State St\, Sandy\, UT\, 84070\, United States
END:VEVENT
BEGIN:VEVENT
DTSTART;TZID=America/Denver:20250425T170000
DTEND;TZID=America/Denver:20250425T203000
DTSTAMP:20260424T095205
CREATED:20250426T145720Z
LAST-MODIFIED:20250426T145720Z
UID:7160-1745600400-1745613000@ut501st.com
SUMMARY:ROTS 20th Anniversary - Friday @Providence
DESCRIPTION:Come and mingle/photo ops with theatre attendees as they come to see ROTS.\nsecure changing will be available\nblasters and lightsabers are ok\nThey will have water and refreshments available as well. Tickets to the movie are not included; do not ask. If by chance\, the manager offers\, that is great. In previous years\, some members asked the staff for tickets\, this is not okay.
URL:https://ut501st.com/event/rots-20th-anniversary-friday-providence/
LOCATION:Providence Megaplex Theater\, 535 W 100 N\, Providence\, UT\, 84332\, United States
END:VEVENT
BEGIN:VEVENT
DTSTART;TZID=America/Denver:20250425T170000
DTEND;TZID=America/Denver:20250425T203000
DTSTAMP:20260424T095205
CREATED:20250426T145820Z
LAST-MODIFIED:20250426T145820Z
UID:7162-1745600400-1745613000@ut501st.com
SUMMARY:ROTS 20th Anniversary - Friday @Geneva
DESCRIPTION:Come and mingle/photo ops with theatre attendees as they come to see ROTS.\nsecure changing will be available\nblasters and lightsabers are ok\nThey will have water and refreshments available as well. Tickets to the movie are not included; do not ask. If by chance\, the manager offers\, that is great. In previous years\, some members asked the staff for tickets\, this is not okay.
URL:https://ut501st.com/event/rots-20th-anniversary-friday-geneva/
LOCATION:Megaplex Geneva\, 600 N Mill Road\, Vineyard\, UT\, 84058\, United States
END:VEVENT
BEGIN:VEVENT
DTSTART;TZID=America/Denver:20250425T190000
DTEND;TZID=America/Denver:20250425T210000
DTSTAMP:20260424T095205
CREATED:20250301T004730Z
LAST-MODIFIED:20250301T004730Z
UID:7094-1745607600-1745614800@ut501st.com
SUMMARY:Star Wars Party: Explore the Galaxy
DESCRIPTION:North Logan Library has invited us back for their yearly party with the Cache Valley Astrological Society and the Center for Creativity\, Innovation\, and Discovery. This is a family event with Star Wars themed activities. \n-Blasters\, lightsabers and prop weapons are allowed\n-Changing/staging room will be provided
URL:https://ut501st.com/event/star-wars-party-explore-the-galaxy/
LOCATION:North Logan Library\, 475 E 2500 N\, North Logan\, UT\, 84341\, United States
END:VEVENT
END:VCALENDAR