BEGIN:VCALENDAR
VERSION:2.0
PRODID:-//Alpine Garrison - ECPv6.15.17.1//NONSGML v1.0//EN
CALSCALE:GREGORIAN
METHOD:PUBLISH
X-ORIGINAL-URL:https://ut501st.com
X-WR-CALDESC:Events for Alpine Garrison
REFRESH-INTERVAL;VALUE=DURATION:PT1H
X-Robots-Tag:noindex
X-PUBLISHED-TTL:PT1H
BEGIN:VTIMEZONE
TZID:America/Denver
BEGIN:DAYLIGHT
TZOFFSETFROM:-0700
TZOFFSETTO:-0600
TZNAME:MDT
DTSTART:20240310T090000
END:DAYLIGHT
BEGIN:STANDARD
TZOFFSETFROM:-0600
TZOFFSETTO:-0700
TZNAME:MST
DTSTART:20241103T080000
END:STANDARD
BEGIN:DAYLIGHT
TZOFFSETFROM:-0700
TZOFFSETTO:-0600
TZNAME:MDT
DTSTART:20250309T090000
END:DAYLIGHT
BEGIN:STANDARD
TZOFFSETFROM:-0600
TZOFFSETTO:-0700
TZNAME:MST
DTSTART:20251102T080000
END:STANDARD
BEGIN:DAYLIGHT
TZOFFSETFROM:-0700
TZOFFSETTO:-0600
TZNAME:MDT
DTSTART:20260308T090000
END:DAYLIGHT
BEGIN:STANDARD
TZOFFSETFROM:-0600
TZOFFSETTO:-0700
TZNAME:MST
DTSTART:20261101T080000
END:STANDARD
END:VTIMEZONE
BEGIN:VEVENT
DTSTART;TZID=America/Denver:20250404T170000
DTEND;TZID=America/Denver:20250404T213000
DTSTAMP:20260424T095127
CREATED:20250321T005138Z
LAST-MODIFIED:20250321T005138Z
UID:7109-1743786000-1743802200@ut501st.com
SUMMARY:Utah Star Wars Grizzlies Night 2025
DESCRIPTION:Event date: 4/04/2025\nCall time: 5:00 PM\nEvent start time & approx. end time: Doors open – 6:00 PM Approx. end time – 9:30 PM\nLocation: Maverik Center – 3200 S Decker Lake Dr\, West Valley City\, UT 84119\nParking location and details: Free open parking in any lot\nChanging room details: Salt Lake Room 1st floor near VIP Entrance\nRSVP by date: 3/31/2025 by 12 PM (Noon)\n***Only 50 costumed characters and 10 Support Staff!!!*** \nLFL Guidelines:\nAll SW themed events with Major and Minor league teams are now considered OPEN INVITES. This means we do not have to cast and teams do not have to pay performers. Teams must welcome all fan groups on a first come basis and cannot ask for specific characters or specific amounts. They can set a maximum limit based on accommodations. Open Invites are just that: an invitation to fan groups to show up at an event in costume. Teams cannot direct fan group members to do any activities or be anywhere specific at any specific time – they may provide the groups with a list of activities to self-organize and participate in\, but it is at fan group members’ own discretion. We strongly prefer that characters not throw out first pitches\, participate in puck drops\, sing the National Anthem or things of that nature – if they want\, fan group members may escort a child or fan to the mound\, etc.\, but must not be directed to do so. Characters should not hold\, wear\, sit in or stand on any branded item or logo\, especially with a team emblem. The fan groups are welcome to be photographed with others wearing the team logo/brands or in front of signage featuring the team logo/brand\, however. We strongly suggest that teams provide a handler/security for costumed fans during activities to ensure the safety and security of said costumed fans\, to protect them from overzealous game attendees. Costumed fan groups must be referred to as members from their respective fan groups\, and not as official SW/Disney/Lucasfilm characters.\nPlease note that if you or your club members require a handler or handlers at the event\, you must provide them yourself and not rely on handlers from other clubs to fulfill this responsibility.
URL:https://ut501st.com/event/utah-star-wars-grizzlies-night-2025/
LOCATION:Maverik Center\, 3200 Decker Lake Dr\, West Valley City\, UT\, 84119\, United States
END:VEVENT
END:VCALENDAR