BEGIN:VCALENDAR
VERSION:2.0
PRODID:-//Alpine Garrison - ECPv6.15.17.1//NONSGML v1.0//EN
CALSCALE:GREGORIAN
METHOD:PUBLISH
X-WR-CALNAME:Alpine Garrison
X-ORIGINAL-URL:https://ut501st.com
X-WR-CALDESC:Events for Alpine Garrison
REFRESH-INTERVAL;VALUE=DURATION:PT1H
X-Robots-Tag:noindex
X-PUBLISHED-TTL:PT1H
BEGIN:VTIMEZONE
TZID:America/Denver
BEGIN:DAYLIGHT
TZOFFSETFROM:-0700
TZOFFSETTO:-0600
TZNAME:MDT
DTSTART:20240310T090000
END:DAYLIGHT
BEGIN:STANDARD
TZOFFSETFROM:-0600
TZOFFSETTO:-0700
TZNAME:MST
DTSTART:20241103T080000
END:STANDARD
BEGIN:DAYLIGHT
TZOFFSETFROM:-0700
TZOFFSETTO:-0600
TZNAME:MDT
DTSTART:20250309T090000
END:DAYLIGHT
BEGIN:STANDARD
TZOFFSETFROM:-0600
TZOFFSETTO:-0700
TZNAME:MST
DTSTART:20251102T080000
END:STANDARD
BEGIN:DAYLIGHT
TZOFFSETFROM:-0700
TZOFFSETTO:-0600
TZNAME:MDT
DTSTART:20260308T090000
END:DAYLIGHT
BEGIN:STANDARD
TZOFFSETFROM:-0600
TZOFFSETTO:-0700
TZNAME:MST
DTSTART:20261101T080000
END:STANDARD
END:VTIMEZONE
BEGIN:VEVENT
DTSTART;TZID=America/Denver:20250307T130000
DTEND;TZID=America/Denver:20250307T150000
DTSTAMP:20260424T113542
CREATED:20250220T035139Z
LAST-MODIFIED:20250220T035139Z
UID:7076-1741352400-1741359600@ut501st.com
SUMMARY:North Ogden Elementary Fundraiser Reward
DESCRIPTION:This is a reward event for PTA fundraising for the kids to mingle with Star Wars characters\, ask questions and take photos. Secure changing area; blasters and saber OK. Would like costumers to show up early 1:15/1:30 and be ready to go by 2pm. \nContact person: Andy Chastain TK-54141 (801) 726-5741 \nSecure changing YES \nBlasters and Lightsabers YES
URL:https://ut501st.com/event/north-ogden-elementary-fundraiser-reward/
LOCATION:North Ogden Elementary\, 530 East 2650 North\, Ogden\, UT\, 84414\, United States
END:VEVENT
END:VCALENDAR