BEGIN:VCALENDAR
VERSION:2.0
PRODID:-//Alpine Garrison - ECPv6.15.17.1//NONSGML v1.0//EN
CALSCALE:GREGORIAN
METHOD:PUBLISH
X-WR-CALNAME:Alpine Garrison
X-ORIGINAL-URL:https://ut501st.com
X-WR-CALDESC:Events for Alpine Garrison
REFRESH-INTERVAL;VALUE=DURATION:PT1H
X-Robots-Tag:noindex
X-PUBLISHED-TTL:PT1H
BEGIN:VTIMEZONE
TZID:America/Denver
BEGIN:DAYLIGHT
TZOFFSETFROM:-0700
TZOFFSETTO:-0600
TZNAME:MDT
DTSTART:20230312T090000
END:DAYLIGHT
BEGIN:STANDARD
TZOFFSETFROM:-0600
TZOFFSETTO:-0700
TZNAME:MST
DTSTART:20231105T080000
END:STANDARD
BEGIN:DAYLIGHT
TZOFFSETFROM:-0700
TZOFFSETTO:-0600
TZNAME:MDT
DTSTART:20240310T090000
END:DAYLIGHT
BEGIN:STANDARD
TZOFFSETFROM:-0600
TZOFFSETTO:-0700
TZNAME:MST
DTSTART:20241103T080000
END:STANDARD
BEGIN:DAYLIGHT
TZOFFSETFROM:-0700
TZOFFSETTO:-0600
TZNAME:MDT
DTSTART:20250309T090000
END:DAYLIGHT
BEGIN:STANDARD
TZOFFSETFROM:-0600
TZOFFSETTO:-0700
TZNAME:MST
DTSTART:20251102T080000
END:STANDARD
END:VTIMEZONE
BEGIN:VEVENT
DTSTART;TZID=America/Denver:20241214T110000
DTEND;TZID=America/Denver:20241214T170000
DTSTAMP:20260424T162737
CREATED:20241113T000342Z
LAST-MODIFIED:20241113T000342Z
UID:7022-1734174000-1734195600@ut501st.com
SUMMARY:toy drive at south town Doug Barney
DESCRIPTION:  \nToy Drive in memory of Officer Doug Barney.Voice actors and celebrities will be present\, including voices from the Animaniacs\, Rick and Morty\, Star Wars\, and more!The event is taking place at the west entrance of the mall in the open foyer. It will NOT be in any retail space.The changing situations may change\, so prepare to change at the car if needed. Pizza will be provided for all customers.\n\nHopefully\, we will have a changing area\, but that might not happen. We will update you as it gets closer.\nLightsaber and blasters are ok
URL:https://ut501st.com/event/toy-drive-at-south-town-doug-barney/
LOCATION:The Shops at South Town\, 10450 S State St\, Sandy\, UT\, 84070\, United States
END:VEVENT
END:VCALENDAR