BEGIN:VCALENDAR
VERSION:2.0
PRODID:-//Alpine Garrison - ECPv6.15.17.1//NONSGML v1.0//EN
CALSCALE:GREGORIAN
METHOD:PUBLISH
X-ORIGINAL-URL:https://ut501st.com
X-WR-CALDESC:Events for Alpine Garrison
REFRESH-INTERVAL;VALUE=DURATION:PT1H
X-Robots-Tag:noindex
X-PUBLISHED-TTL:PT1H
BEGIN:VTIMEZONE
TZID:America/Denver
BEGIN:DAYLIGHT
TZOFFSETFROM:-0700
TZOFFSETTO:-0600
TZNAME:MDT
DTSTART:20230312T090000
END:DAYLIGHT
BEGIN:STANDARD
TZOFFSETFROM:-0600
TZOFFSETTO:-0700
TZNAME:MST
DTSTART:20231105T080000
END:STANDARD
BEGIN:DAYLIGHT
TZOFFSETFROM:-0700
TZOFFSETTO:-0600
TZNAME:MDT
DTSTART:20240310T090000
END:DAYLIGHT
BEGIN:STANDARD
TZOFFSETFROM:-0600
TZOFFSETTO:-0700
TZNAME:MST
DTSTART:20241103T080000
END:STANDARD
BEGIN:DAYLIGHT
TZOFFSETFROM:-0700
TZOFFSETTO:-0600
TZNAME:MDT
DTSTART:20250309T090000
END:DAYLIGHT
BEGIN:STANDARD
TZOFFSETFROM:-0600
TZOFFSETTO:-0700
TZNAME:MST
DTSTART:20251102T080000
END:STANDARD
END:VTIMEZONE
BEGIN:VEVENT
DTSTART;TZID=America/Denver:20241212T173000
DTEND;TZID=America/Denver:20241212T200000
DTSTAMP:20260424T163014
CREATED:20241208T212205Z
LAST-MODIFIED:20241209T040622Z
UID:7042-1734024600-1734033600@ut501st.com
SUMMARY:Honor Guard for Joshua
DESCRIPTION:We received a request from Joshua’s family to provide an honor guard for him at his viewing this coming Thursday\, the 12th\, at 6pm. Joshua came to some of our events at the Ronald McDonald House and he loved Star Wars. \nFor those that can make it\, please be there by 5:30 so we can be ready for the viewing at 6. Lightsabers and staves will be okay\, we are checking to see if blasters are ok. Until we get confirmation\, please keep them stored away in your totes. Staging and changing area will be provided. If you have any questions\, please reach out to me or Tiffiny Tyler.
URL:https://ut501st.com/event/honor-guard-for-joshua/
LOCATION:4375 W 15600 N\, Fielding\, UT 84311\, 4375 W 15600 N\, Fielding\, UT\, 84311\, United States
END:VEVENT
END:VCALENDAR