BEGIN:VCALENDAR
VERSION:2.0
PRODID:-//Alpine Garrison - ECPv6.15.17.1//NONSGML v1.0//EN
CALSCALE:GREGORIAN
METHOD:PUBLISH
X-WR-CALNAME:Alpine Garrison
X-ORIGINAL-URL:https://ut501st.com
X-WR-CALDESC:Events for Alpine Garrison
REFRESH-INTERVAL;VALUE=DURATION:PT1H
X-Robots-Tag:noindex
X-PUBLISHED-TTL:PT1H
BEGIN:VTIMEZONE
TZID:America/Denver
BEGIN:DAYLIGHT
TZOFFSETFROM:-0700
TZOFFSETTO:-0600
TZNAME:MDT
DTSTART:20230312T090000
END:DAYLIGHT
BEGIN:STANDARD
TZOFFSETFROM:-0600
TZOFFSETTO:-0700
TZNAME:MST
DTSTART:20231105T080000
END:STANDARD
BEGIN:DAYLIGHT
TZOFFSETFROM:-0700
TZOFFSETTO:-0600
TZNAME:MDT
DTSTART:20240310T090000
END:DAYLIGHT
BEGIN:STANDARD
TZOFFSETFROM:-0600
TZOFFSETTO:-0700
TZNAME:MST
DTSTART:20241103T080000
END:STANDARD
BEGIN:DAYLIGHT
TZOFFSETFROM:-0700
TZOFFSETTO:-0600
TZNAME:MDT
DTSTART:20250309T090000
END:DAYLIGHT
BEGIN:STANDARD
TZOFFSETFROM:-0600
TZOFFSETTO:-0700
TZNAME:MST
DTSTART:20251102T080000
END:STANDARD
END:VTIMEZONE
BEGIN:VEVENT
DTSTART;TZID=America/Denver:20241211T163000
DTEND;TZID=America/Denver:20241211T190000
DTSTAMP:20260424T162737
CREATED:20241113T015028Z
LAST-MODIFIED:20241113T015028Z
UID:7024-1733934600-1733943600@ut501st.com
SUMMARY:Redwood elementary holiday event
DESCRIPTION:  \nThis is our fourth annual Redwood Christmas holiday event. We have 500 students who have LOVED having you guys and the Disney princesses here year after year. They look forward to it and talk about you guys for months following. This year\, we have donations for a new coat\, new shoes\, and a toy for every student. It should be a magical event.\nSecure changing yes\nno blasters or light sabers allowed in this school
URL:https://ut501st.com/event/redwood-elementary-holiday-event-2/
LOCATION:UT
END:VEVENT
END:VCALENDAR