BEGIN:VCALENDAR
VERSION:2.0
PRODID:-//Alpine Garrison - ECPv6.15.17.1//NONSGML v1.0//EN
CALSCALE:GREGORIAN
METHOD:PUBLISH
X-WR-CALNAME:Alpine Garrison
X-ORIGINAL-URL:https://ut501st.com
X-WR-CALDESC:Events for Alpine Garrison
REFRESH-INTERVAL;VALUE=DURATION:PT1H
X-Robots-Tag:noindex
X-PUBLISHED-TTL:PT1H
BEGIN:VTIMEZONE
TZID:America/Denver
BEGIN:DAYLIGHT
TZOFFSETFROM:-0700
TZOFFSETTO:-0600
TZNAME:MDT
DTSTART:20230312T090000
END:DAYLIGHT
BEGIN:STANDARD
TZOFFSETFROM:-0600
TZOFFSETTO:-0700
TZNAME:MST
DTSTART:20231105T080000
END:STANDARD
BEGIN:DAYLIGHT
TZOFFSETFROM:-0700
TZOFFSETTO:-0600
TZNAME:MDT
DTSTART:20240310T090000
END:DAYLIGHT
BEGIN:STANDARD
TZOFFSETFROM:-0600
TZOFFSETTO:-0700
TZNAME:MST
DTSTART:20241103T080000
END:STANDARD
BEGIN:DAYLIGHT
TZOFFSETFROM:-0700
TZOFFSETTO:-0600
TZNAME:MDT
DTSTART:20250309T090000
END:DAYLIGHT
BEGIN:STANDARD
TZOFFSETFROM:-0600
TZOFFSETTO:-0700
TZNAME:MST
DTSTART:20251102T080000
END:STANDARD
END:VTIMEZONE
BEGIN:VEVENT
DTSTART;TZID=America/Denver:20241202T170000
DTEND;TZID=America/Denver:20241202T174500
DTSTAMP:20260424T162736
CREATED:20241202T021526Z
LAST-MODIFIED:20241202T021616Z
UID:7035-1733158800-1733161500@ut501st.com
SUMMARY:Make-A-Wish Surprise
DESCRIPTION:This will be at the Chick-fil-a at the above location\, make a wish set this up to surprise this young man with some of his favorite people.\nBe ready by 5:15 latest\nhe loves Vader.\nthis is a change at your car event\, light sabers and blasters are ok\nBe careful with pictures and corporate signs!!! 🙂
URL:https://ut501st.com/event/make-a-wish-surprise/
LOCATION:Chick-fil-a Lehi\, 3470 N Digital Drive\, Lehi\, UT\, 84043\, United States
END:VEVENT
END:VCALENDAR