BEGIN:VCALENDAR
VERSION:2.0
PRODID:-//Alpine Garrison - ECPv6.15.17.1//NONSGML v1.0//EN
CALSCALE:GREGORIAN
METHOD:PUBLISH
X-ORIGINAL-URL:https://ut501st.com
X-WR-CALDESC:Events for Alpine Garrison
REFRESH-INTERVAL;VALUE=DURATION:PT1H
X-Robots-Tag:noindex
X-PUBLISHED-TTL:PT1H
BEGIN:VTIMEZONE
TZID:America/Denver
BEGIN:DAYLIGHT
TZOFFSETFROM:-0700
TZOFFSETTO:-0600
TZNAME:MDT
DTSTART:20230312T090000
END:DAYLIGHT
BEGIN:STANDARD
TZOFFSETFROM:-0600
TZOFFSETTO:-0700
TZNAME:MST
DTSTART:20231105T080000
END:STANDARD
BEGIN:DAYLIGHT
TZOFFSETFROM:-0700
TZOFFSETTO:-0600
TZNAME:MDT
DTSTART:20240310T090000
END:DAYLIGHT
BEGIN:STANDARD
TZOFFSETFROM:-0600
TZOFFSETTO:-0700
TZNAME:MST
DTSTART:20241103T080000
END:STANDARD
BEGIN:DAYLIGHT
TZOFFSETFROM:-0700
TZOFFSETTO:-0600
TZNAME:MDT
DTSTART:20250309T090000
END:DAYLIGHT
BEGIN:STANDARD
TZOFFSETFROM:-0600
TZOFFSETTO:-0700
TZNAME:MST
DTSTART:20251102T080000
END:STANDARD
END:VTIMEZONE
BEGIN:VEVENT
DTSTART;TZID=America/Denver:20241029T200000
DTEND;TZID=America/Denver:20241029T220000
DTSTAMP:20260424T181817
CREATED:20241001T235656Z
LAST-MODIFIED:20241001T235656Z
UID:6973-1730232000-1730239200@ut501st.com
SUMMARY:cottonwood high school halloween concert
DESCRIPTION:They are doing a Halloween concert. The ending portion is Star Wars music. We will be introduced at that time; the audience will be in for a surprise as they will not know we are present until then. After the concert\, we will be doing photo ops and mingling with the students and their families.\nMust be ready to go by 8:05-8:10 at the latest. Plan accordingly for your specific gear\nNo blasters\, light sabers are oksecure changing will be provided
URL:https://ut501st.com/event/cottonwood-high-school-halloween-concert/
LOCATION:Cottonwood High School Commons\, 5715 S 1300 E\, Murray\, UT\, 84121\, United States
END:VEVENT
END:VCALENDAR