BEGIN:VCALENDAR
VERSION:2.0
PRODID:-//Alpine Garrison - ECPv6.15.17.1//NONSGML v1.0//EN
CALSCALE:GREGORIAN
METHOD:PUBLISH
X-WR-CALNAME:Alpine Garrison
X-ORIGINAL-URL:https://ut501st.com
X-WR-CALDESC:Events for Alpine Garrison
REFRESH-INTERVAL;VALUE=DURATION:PT1H
X-Robots-Tag:noindex
X-PUBLISHED-TTL:PT1H
BEGIN:VTIMEZONE
TZID:America/Denver
BEGIN:DAYLIGHT
TZOFFSETFROM:-0700
TZOFFSETTO:-0600
TZNAME:MDT
DTSTART:20230312T090000
END:DAYLIGHT
BEGIN:STANDARD
TZOFFSETFROM:-0600
TZOFFSETTO:-0700
TZNAME:MST
DTSTART:20231105T080000
END:STANDARD
BEGIN:DAYLIGHT
TZOFFSETFROM:-0700
TZOFFSETTO:-0600
TZNAME:MDT
DTSTART:20240310T090000
END:DAYLIGHT
BEGIN:STANDARD
TZOFFSETFROM:-0600
TZOFFSETTO:-0700
TZNAME:MST
DTSTART:20241103T080000
END:STANDARD
BEGIN:DAYLIGHT
TZOFFSETFROM:-0700
TZOFFSETTO:-0600
TZNAME:MDT
DTSTART:20250309T090000
END:DAYLIGHT
BEGIN:STANDARD
TZOFFSETFROM:-0600
TZOFFSETTO:-0700
TZNAME:MST
DTSTART:20251102T080000
END:STANDARD
END:VTIMEZONE
BEGIN:VEVENT
DTSTART;TZID=America/Denver:20241025T180000
DTEND;TZID=America/Denver:20241025T200000
DTSTAMP:20260424T193902
CREATED:20240822T200913Z
LAST-MODIFIED:20240822T200913Z
UID:6939-1729879200-1729886400@ut501st.com
SUMMARY:murray mortuary trunk or treat
DESCRIPTION:It’s that time again!We’re invited once again for Memorial Mortuary’s annual Trunk or Treat here in Murray. We’ll be walking around outside interacting with kids and their families for a fun night. Changing will be provided inside in one of the rooms.“It’s a dead man’s party. Who could ask for more? Again? and Again \n\n\nlight sabers and blasters are oklarge changing room inside
URL:https://ut501st.com/event/murray-mortuary-trunk-or-treat-2/
LOCATION:murray Mortuary\, 5850 South 900 East\, Murray\, UT\, United States
END:VEVENT
END:VCALENDAR