BEGIN:VCALENDAR
VERSION:2.0
PRODID:-//Alpine Garrison - ECPv6.15.17.1//NONSGML v1.0//EN
CALSCALE:GREGORIAN
METHOD:PUBLISH
X-ORIGINAL-URL:https://ut501st.com
X-WR-CALDESC:Events for Alpine Garrison
REFRESH-INTERVAL;VALUE=DURATION:PT1H
X-Robots-Tag:noindex
X-PUBLISHED-TTL:PT1H
BEGIN:VTIMEZONE
TZID:America/Denver
BEGIN:DAYLIGHT
TZOFFSETFROM:-0700
TZOFFSETTO:-0600
TZNAME:MDT
DTSTART:20230312T090000
END:DAYLIGHT
BEGIN:STANDARD
TZOFFSETFROM:-0600
TZOFFSETTO:-0700
TZNAME:MST
DTSTART:20231105T080000
END:STANDARD
BEGIN:DAYLIGHT
TZOFFSETFROM:-0700
TZOFFSETTO:-0600
TZNAME:MDT
DTSTART:20240310T090000
END:DAYLIGHT
BEGIN:STANDARD
TZOFFSETFROM:-0600
TZOFFSETTO:-0700
TZNAME:MST
DTSTART:20241103T080000
END:STANDARD
BEGIN:DAYLIGHT
TZOFFSETFROM:-0700
TZOFFSETTO:-0600
TZNAME:MDT
DTSTART:20250309T090000
END:DAYLIGHT
BEGIN:STANDARD
TZOFFSETFROM:-0600
TZOFFSETTO:-0700
TZNAME:MST
DTSTART:20251102T080000
END:STANDARD
END:VTIMEZONE
BEGIN:VEVENT
DTSTART;TZID=America/Denver:20241024T190000
DTEND;TZID=America/Denver:20241024T203000
DTSTAMP:20260424T194020
CREATED:20241002T023622Z
LAST-MODIFIED:20241002T023622Z
UID:6978-1729796400-1729801800@ut501st.com
SUMMARY:haunted hallways
DESCRIPTION:Haunted halls is a fundraising event to support school activities. Historically the 501st and sister groups have helped make this event a success.Photo ops and greeting guests while they line up for the event.\nSecure changing area yes!\nNo blasters allowedlight sabers are ok\ncontact is Kyra Fifield
URL:https://ut501st.com/event/haunted-hallways-2/
LOCATION:Hillside Middle School\, 1825 S. Nevada Street\, Salt Lake City\, UT\, 84108\, United States
END:VEVENT
END:VCALENDAR