BEGIN:VCALENDAR
VERSION:2.0
PRODID:-//Alpine Garrison - ECPv6.15.17.1//NONSGML v1.0//EN
CALSCALE:GREGORIAN
METHOD:PUBLISH
X-WR-CALNAME:Alpine Garrison
X-ORIGINAL-URL:https://ut501st.com
X-WR-CALDESC:Events for Alpine Garrison
REFRESH-INTERVAL;VALUE=DURATION:PT1H
X-Robots-Tag:noindex
X-PUBLISHED-TTL:PT1H
BEGIN:VTIMEZONE
TZID:America/Denver
BEGIN:DAYLIGHT
TZOFFSETFROM:-0700
TZOFFSETTO:-0600
TZNAME:MDT
DTSTART:20230312T090000
END:DAYLIGHT
BEGIN:STANDARD
TZOFFSETFROM:-0600
TZOFFSETTO:-0700
TZNAME:MST
DTSTART:20231105T080000
END:STANDARD
BEGIN:DAYLIGHT
TZOFFSETFROM:-0700
TZOFFSETTO:-0600
TZNAME:MDT
DTSTART:20240310T090000
END:DAYLIGHT
BEGIN:STANDARD
TZOFFSETFROM:-0600
TZOFFSETTO:-0700
TZNAME:MST
DTSTART:20241103T080000
END:STANDARD
BEGIN:DAYLIGHT
TZOFFSETFROM:-0700
TZOFFSETTO:-0600
TZNAME:MDT
DTSTART:20250309T090000
END:DAYLIGHT
BEGIN:STANDARD
TZOFFSETFROM:-0600
TZOFFSETTO:-0700
TZNAME:MST
DTSTART:20251102T080000
END:STANDARD
END:VTIMEZONE
BEGIN:VEVENT
DTSTART;VALUE=DATE:20240928
DTEND;VALUE=DATE:20240929
DTSTAMP:20260424T205257
CREATED:20241001T203735Z
LAST-MODIFIED:20241001T203735Z
UID:6970-1727481600-1727567999@ut501st.com
SUMMARY:FanX 2024 - Day 3
DESCRIPTION:
URL:https://ut501st.com/event/fanx-2024-day-3/
LOCATION:UT
END:VEVENT
BEGIN:VEVENT
DTSTART;TZID=America/Denver:20240928T090000
DTEND;TZID=America/Denver:20240928T113000
DTSTAMP:20260424T205257
CREATED:20240702T191305Z
LAST-MODIFIED:20240702T191305Z
UID:6911-1727514000-1727523000@ut501st.com
SUMMARY:walk to end alzheimers
DESCRIPTION:The Walk to End Alzheimer’s is an uplifting\, family-friendly event to support families in Salt Lake County living with Alzheimer’s and dementia. THe first hour participants visit booths before our program starts and they walk around the stadium interacting with people.\napprox. 500+ people\nsecure changing area : Yesblasters and lightsabers ok: Yes\nhttps://act.alz.org/site/TR/Walk2024/UT-Utah?pg=entry…\n\nas it gets closer we will have more info anout parking\, more than likley west of the stadium like normal.
URL:https://ut501st.com/event/walk-to-end-alzheimers/
LOCATION:America First Field\, 9256 south State Street\, Sandy\, UT\, 84070\, United States
END:VEVENT
END:VCALENDAR