BEGIN:VCALENDAR
VERSION:2.0
PRODID:-//Alpine Garrison - ECPv6.15.17.1//NONSGML v1.0//EN
CALSCALE:GREGORIAN
METHOD:PUBLISH
X-ORIGINAL-URL:https://ut501st.com
X-WR-CALDESC:Events for Alpine Garrison
REFRESH-INTERVAL;VALUE=DURATION:PT1H
X-Robots-Tag:noindex
X-PUBLISHED-TTL:PT1H
BEGIN:VTIMEZONE
TZID:America/Denver
BEGIN:DAYLIGHT
TZOFFSETFROM:-0700
TZOFFSETTO:-0600
TZNAME:MDT
DTSTART:20230312T090000
END:DAYLIGHT
BEGIN:STANDARD
TZOFFSETFROM:-0600
TZOFFSETTO:-0700
TZNAME:MST
DTSTART:20231105T080000
END:STANDARD
BEGIN:DAYLIGHT
TZOFFSETFROM:-0700
TZOFFSETTO:-0600
TZNAME:MDT
DTSTART:20240310T090000
END:DAYLIGHT
BEGIN:STANDARD
TZOFFSETFROM:-0600
TZOFFSETTO:-0700
TZNAME:MST
DTSTART:20241103T080000
END:STANDARD
BEGIN:DAYLIGHT
TZOFFSETFROM:-0700
TZOFFSETTO:-0600
TZNAME:MDT
DTSTART:20250309T090000
END:DAYLIGHT
BEGIN:STANDARD
TZOFFSETFROM:-0600
TZOFFSETTO:-0700
TZNAME:MST
DTSTART:20251102T080000
END:STANDARD
END:VTIMEZONE
BEGIN:VEVENT
DTSTART;TZID=America/Denver:20240920T183000
DTEND;TZID=America/Denver:20240920T203000
DTSTAMP:20260424T205602
CREATED:20240920T033831Z
LAST-MODIFIED:20240920T033831Z
UID:6960-1726857000-1726864200@ut501st.com
SUMMARY:Teen Mini Comic-Con
DESCRIPTION:From the requestor: This will be an after-hours teen event at the library for ages 13-18. It is meant to provide some of the fun of a comic-con or FanX event for teens who may be unable to attend one for financial or other reasons. We plan on having a variety of activities including some local authors and illustrators\n——————————————————————\nSecure staging/changing will be provided\, blasters and sabers are permitted. They did put in the request that the venue is not very accessible to those with limited mobility (*I can ask for details if needed) but make a note of this if you are considering to go and this is of concern to you.
URL:https://ut501st.com/event/teen-mini-comic-con/
LOCATION:Payson Library\, 66 S Main St\, Payson\, UT\, 84651\, United States
END:VEVENT
END:VCALENDAR