BEGIN:VCALENDAR
VERSION:2.0
PRODID:-//Alpine Garrison - ECPv6.15.17.1//NONSGML v1.0//EN
CALSCALE:GREGORIAN
METHOD:PUBLISH
X-ORIGINAL-URL:https://ut501st.com
X-WR-CALDESC:Events for Alpine Garrison
REFRESH-INTERVAL;VALUE=DURATION:PT1H
X-Robots-Tag:noindex
X-PUBLISHED-TTL:PT1H
BEGIN:VTIMEZONE
TZID:America/Denver
BEGIN:DAYLIGHT
TZOFFSETFROM:-0700
TZOFFSETTO:-0600
TZNAME:MDT
DTSTART:20230312T090000
END:DAYLIGHT
BEGIN:STANDARD
TZOFFSETFROM:-0600
TZOFFSETTO:-0700
TZNAME:MST
DTSTART:20231105T080000
END:STANDARD
BEGIN:DAYLIGHT
TZOFFSETFROM:-0700
TZOFFSETTO:-0600
TZNAME:MDT
DTSTART:20240310T090000
END:DAYLIGHT
BEGIN:STANDARD
TZOFFSETFROM:-0600
TZOFFSETTO:-0700
TZNAME:MST
DTSTART:20241103T080000
END:STANDARD
BEGIN:DAYLIGHT
TZOFFSETFROM:-0700
TZOFFSETTO:-0600
TZNAME:MDT
DTSTART:20250309T090000
END:DAYLIGHT
BEGIN:STANDARD
TZOFFSETFROM:-0600
TZOFFSETTO:-0700
TZNAME:MST
DTSTART:20251102T080000
END:STANDARD
END:VTIMEZONE
BEGIN:VEVENT
DTSTART;TZID=America/Denver:20240907T110000
DTEND;TZID=America/Denver:20240907T130000
DTSTAMP:20260424T205439
CREATED:20240811T045148Z
LAST-MODIFIED:20240811T045148Z
UID:6930-1725706800-1725714000@ut501st.com
SUMMARY:5th annual cleft family picnic
DESCRIPTION:This is the 5th annual cleft family picnic put on by Primary Children’s Hospital Cleft team and parent group Cleft Strong Utah. This is a picnic for children who were born with cleft lip and/or palate as well as their families. Being born with facial differences\, it is important for these kids to get together and meet other people like them in a fun environment. The kids loved having us at their event last time and are hoping for us to come again.\nThis year it is at murray park pavilion 1. Change at your car. I will have a cooler with water and Gatorade. As well as some granola bars. It can get hot. I might have a staging area but I’m not sure yet.\nlightsabers and blasters ok\nchange at your car\n\nmurray park pavillion #1
URL:https://ut501st.com/event/5th-annual-cleft-family-picnic/
LOCATION:Murray City Park\, 292 E Murray Park Avenue\, Murray\, UT\, 84107\, United States
END:VEVENT
END:VCALENDAR