BEGIN:VCALENDAR
VERSION:2.0
PRODID:-//Alpine Garrison - ECPv6.15.17.1//NONSGML v1.0//EN
CALSCALE:GREGORIAN
METHOD:PUBLISH
X-WR-CALNAME:Alpine Garrison
X-ORIGINAL-URL:https://ut501st.com
X-WR-CALDESC:Events for Alpine Garrison
REFRESH-INTERVAL;VALUE=DURATION:PT1H
X-Robots-Tag:noindex
X-PUBLISHED-TTL:PT1H
BEGIN:VTIMEZONE
TZID:America/Denver
BEGIN:DAYLIGHT
TZOFFSETFROM:-0700
TZOFFSETTO:-0600
TZNAME:MDT
DTSTART:20230312T090000
END:DAYLIGHT
BEGIN:STANDARD
TZOFFSETFROM:-0600
TZOFFSETTO:-0700
TZNAME:MST
DTSTART:20231105T080000
END:STANDARD
BEGIN:DAYLIGHT
TZOFFSETFROM:-0700
TZOFFSETTO:-0600
TZNAME:MDT
DTSTART:20240310T090000
END:DAYLIGHT
BEGIN:STANDARD
TZOFFSETFROM:-0600
TZOFFSETTO:-0700
TZNAME:MST
DTSTART:20241103T080000
END:STANDARD
BEGIN:DAYLIGHT
TZOFFSETFROM:-0700
TZOFFSETTO:-0600
TZNAME:MDT
DTSTART:20250309T090000
END:DAYLIGHT
BEGIN:STANDARD
TZOFFSETFROM:-0600
TZOFFSETTO:-0700
TZNAME:MST
DTSTART:20251102T080000
END:STANDARD
END:VTIMEZONE
BEGIN:VEVENT
DTSTART;TZID=America/Denver:20240420T100000
DTEND;TZID=America/Denver:20240420T150000
DTSTAMP:20260425T045038
CREATED:20240310T001850Z
LAST-MODIFIED:20240310T002745Z
UID:6714-1713607200-1713625200@ut501st.com
SUMMARY:Empire Strikes Back Bowl for Kids' Sake (Day 2)
DESCRIPTION:*This is the first of three days they have scheduled for this event (March 23rd\, April 20th\, and April 27th). Note the change of venue for this event!\n\nFrom the requestor: We would LOVE to have you at any/all of our events that you are available for. Our first one is on Saturday\, March 23. We have 2 sessions – 10am-12pm and 12:30pm-2:3-pm. I’d love to have people stop by for both sessions\, or maybe just overlap between the two?\n\n\nThis is a change-at-car event. Parking will be available and blasters and lightsabers are permitted.
URL:https://ut501st.com/event/empire-strikes-back-bowl-for-kids-sake-day-2/
LOCATION:Delton Lanes Riverton\, 3693 S Meadow Spring Ln\, Riverton\, 84065\, United States
END:VEVENT
END:VCALENDAR