BEGIN:VCALENDAR
VERSION:2.0
PRODID:-//Alpine Garrison - ECPv6.15.17.1//NONSGML v1.0//EN
CALSCALE:GREGORIAN
METHOD:PUBLISH
X-ORIGINAL-URL:https://ut501st.com
X-WR-CALDESC:Events for Alpine Garrison
REFRESH-INTERVAL;VALUE=DURATION:PT1H
X-Robots-Tag:noindex
X-PUBLISHED-TTL:PT1H
BEGIN:VTIMEZONE
TZID:America/Denver
BEGIN:DAYLIGHT
TZOFFSETFROM:-0700
TZOFFSETTO:-0600
TZNAME:MDT
DTSTART:20230312T090000
END:DAYLIGHT
BEGIN:STANDARD
TZOFFSETFROM:-0600
TZOFFSETTO:-0700
TZNAME:MST
DTSTART:20231105T080000
END:STANDARD
BEGIN:DAYLIGHT
TZOFFSETFROM:-0700
TZOFFSETTO:-0600
TZNAME:MDT
DTSTART:20240310T090000
END:DAYLIGHT
BEGIN:STANDARD
TZOFFSETFROM:-0600
TZOFFSETTO:-0700
TZNAME:MST
DTSTART:20241103T080000
END:STANDARD
BEGIN:DAYLIGHT
TZOFFSETFROM:-0700
TZOFFSETTO:-0600
TZNAME:MDT
DTSTART:20250309T090000
END:DAYLIGHT
BEGIN:STANDARD
TZOFFSETFROM:-0600
TZOFFSETTO:-0700
TZNAME:MST
DTSTART:20251102T080000
END:STANDARD
END:VTIMEZONE
BEGIN:VEVENT
DTSTART;TZID=America/Denver:20240406T100000
DTEND;TZID=America/Denver:20240406T170000
DTSTAMP:20260425T045120
CREATED:20240214T044526Z
LAST-MODIFIED:20240214T044526Z
UID:6654-1712397600-1712422800@ut501st.com
SUMMARY:WhatspoppinUtah!
DESCRIPTION:Annual Funko event with celebrity guest signers. This year Chris Bartlett is one of our signers. this is usually held on the other side of the dream scape area. Entrance is on the southeast side of the mall in the old Macys building.\nSecure storage is available.\nBlasters and lightsabers are allowed.\nThere are no limit to costumers.\nCome when you can\, it start at 10 am and goes till 5pm
URL:https://ut501st.com/event/whatspoppinutah/
LOCATION:Dreamscapes\, 10450 State St #2128\, Sandy\, UT\, 84070\, United States
END:VEVENT
END:VCALENDAR