BEGIN:VCALENDAR
VERSION:2.0
PRODID:-//Alpine Garrison - ECPv6.15.17.1//NONSGML v1.0//EN
CALSCALE:GREGORIAN
METHOD:PUBLISH
X-ORIGINAL-URL:https://ut501st.com
X-WR-CALDESC:Events for Alpine Garrison
REFRESH-INTERVAL;VALUE=DURATION:PT1H
X-Robots-Tag:noindex
X-PUBLISHED-TTL:PT1H
BEGIN:VTIMEZONE
TZID:America/Denver
BEGIN:DAYLIGHT
TZOFFSETFROM:-0700
TZOFFSETTO:-0600
TZNAME:MDT
DTSTART:20220313T090000
END:DAYLIGHT
BEGIN:STANDARD
TZOFFSETFROM:-0600
TZOFFSETTO:-0700
TZNAME:MST
DTSTART:20221106T080000
END:STANDARD
BEGIN:DAYLIGHT
TZOFFSETFROM:-0700
TZOFFSETTO:-0600
TZNAME:MDT
DTSTART:20230312T090000
END:DAYLIGHT
BEGIN:STANDARD
TZOFFSETFROM:-0600
TZOFFSETTO:-0700
TZNAME:MST
DTSTART:20231105T080000
END:STANDARD
BEGIN:DAYLIGHT
TZOFFSETFROM:-0700
TZOFFSETTO:-0600
TZNAME:MDT
DTSTART:20240310T090000
END:DAYLIGHT
BEGIN:STANDARD
TZOFFSETFROM:-0600
TZOFFSETTO:-0700
TZNAME:MST
DTSTART:20241103T080000
END:STANDARD
END:VTIMEZONE
BEGIN:VEVENT
DTSTART;TZID=America/Denver:20230930T153000
DTEND;TZID=America/Denver:20230930T180000
DTSTAMP:20260425T155955
CREATED:20230830T125637Z
LAST-MODIFIED:20230830T125637Z
UID:6471-1696087800-1696096800@ut501st.com
SUMMARY:Lynden Legacy Pumpkin Patch at Summerhouse Farms
DESCRIPTION:Come enjoy the magic of the fall season at the annual Lynden Legacy Pumpkin Patch at Summerhouse Farms. All proceeds will go to support caregivers of loved ones with Alzheimer’s disease or a related dementia. It takes a village\, and we are in this together. For additional information please go to our website lyndenlegacy.com \nThis will be a limited event.  Only three characters have been requested.  They would like at least one stormtrooper with a Vader if possible.  If not\, any character should be fine. \nSix slots will be made.  Three for those going\, and three alternates.  This will be a first come first serve sign up.  If you sign up and cannot make it\, notify an alternate immediately. \nA changing area will be provided for this event.
URL:https://ut501st.com/event/lynden-legacy-pumpkin-patch-at-summerhouse-farms/
LOCATION:Summerhouse Farms\, 2001 W 1200 S\, Heber City\, UT\, 84032\, United States
END:VEVENT
BEGIN:VEVENT
DTSTART;TZID=America/Denver:20230930T163000
DTEND;TZID=America/Denver:20230930T200000
DTSTAMP:20260425T155955
CREATED:20230922T042209Z
LAST-MODIFIED:20230922T042209Z
UID:6504-1696091400-1696104000@ut501st.com
SUMMARY:Mascot Miracles Foundation Halloween Party
DESCRIPTION:Mascot Miracles Foundation is hosting it’s 4th Annual “Trick Your Trunk” Parade and the more businesses that participate\, the more our Heroes will benefit. \n  \nMascot Miracles Foundation focuses on Creating Memories and Experiences for children battling unthinkable battles. Our Heroes have compromised immune systems\, wheelchairs\, etc. so regular trick-or-treating is a concern. \n  \nYour participation will include\, decorating your vehicle\, parade around the parking lot with other businesses and pass out candy and information on your business to our families. Following the parade we will have a HUGE Laser Show that you can stay and watch! \n  \nYou must register so we know who to expect and we can communicate how much candy you will need to bring with you as we get closer to our event. \nParade Staging: 4:30pm \nParade time: 6pm \nHUGE Light Show to follow \n 
URL:https://ut501st.com/event/mascot-miracles-foundation-halloween-party/
LOCATION:Maverik Center\, 3200 Decker Lake Dr\, West Valley City\, UT\, 84119\, United States
END:VEVENT
END:VCALENDAR