BEGIN:VCALENDAR
VERSION:2.0
PRODID:-//Alpine Garrison - ECPv6.15.17.1//NONSGML v1.0//EN
CALSCALE:GREGORIAN
METHOD:PUBLISH
X-WR-CALNAME:Alpine Garrison
X-ORIGINAL-URL:https://ut501st.com
X-WR-CALDESC:Events for Alpine Garrison
REFRESH-INTERVAL;VALUE=DURATION:PT1H
X-Robots-Tag:noindex
X-PUBLISHED-TTL:PT1H
BEGIN:VTIMEZONE
TZID:America/Denver
BEGIN:DAYLIGHT
TZOFFSETFROM:-0700
TZOFFSETTO:-0600
TZNAME:MDT
DTSTART:20220313T090000
END:DAYLIGHT
BEGIN:STANDARD
TZOFFSETFROM:-0600
TZOFFSETTO:-0700
TZNAME:MST
DTSTART:20221106T080000
END:STANDARD
BEGIN:DAYLIGHT
TZOFFSETFROM:-0700
TZOFFSETTO:-0600
TZNAME:MDT
DTSTART:20230312T090000
END:DAYLIGHT
BEGIN:STANDARD
TZOFFSETFROM:-0600
TZOFFSETTO:-0700
TZNAME:MST
DTSTART:20231105T080000
END:STANDARD
BEGIN:DAYLIGHT
TZOFFSETFROM:-0700
TZOFFSETTO:-0600
TZNAME:MDT
DTSTART:20240310T090000
END:DAYLIGHT
BEGIN:STANDARD
TZOFFSETFROM:-0600
TZOFFSETTO:-0700
TZNAME:MST
DTSTART:20241103T080000
END:STANDARD
END:VTIMEZONE
BEGIN:VEVENT
DTSTART;TZID=America/Denver:20230923T080000
DTEND;TZID=America/Denver:20230923T210000
DTSTAMP:20260425T155813
CREATED:20230909T020940Z
LAST-MODIFIED:20230909T020940Z
UID:6489-1695456000-1695502800@ut501st.com
SUMMARY:FanX Day 3
DESCRIPTION:Day 3!  Give it up for Day 3!!! \nAnd thus the final day arrives.  Bittersweet I know.  Which gives us the perfect opportunity for us to end things with a bang!  Volunteers who signed up for posts at the booth\, you know the drill.  Just like the previous days\, you’ll get a pass if you work at least 4 hours.  8 am will be when registration opens.  9:30 will open for VIP and Gold Pass Holders.  10 AM will open for the general public.  The floor will close at 7 PM with select special events closing at 9 PM. \nChanging and storage will be the same as the previous two days.  Plan accordingly. \nBecause this is the last day\, we will also be tearing down our booth.  If you are able to stay afterwards to help us out\, you’ll be our best friend.  If the last couple of years have proven\, the more people we have helping\, the quicker tear down will go. \nWe would be honored if you would join us. \n 
URL:https://ut501st.com/event/fanx-day-3-2/
LOCATION:Salt Palace\, 90 South West Temple\, Salt Lake City\, UT
CATEGORIES:Comic Con
END:VEVENT
END:VCALENDAR