BEGIN:VCALENDAR
VERSION:2.0
PRODID:-//Alpine Garrison - ECPv6.15.17.1//NONSGML v1.0//EN
CALSCALE:GREGORIAN
METHOD:PUBLISH
X-ORIGINAL-URL:https://ut501st.com
X-WR-CALDESC:Events for Alpine Garrison
REFRESH-INTERVAL;VALUE=DURATION:PT1H
X-Robots-Tag:noindex
X-PUBLISHED-TTL:PT1H
BEGIN:VTIMEZONE
TZID:America/Denver
BEGIN:DAYLIGHT
TZOFFSETFROM:-0700
TZOFFSETTO:-0600
TZNAME:MDT
DTSTART:20220313T090000
END:DAYLIGHT
BEGIN:STANDARD
TZOFFSETFROM:-0600
TZOFFSETTO:-0700
TZNAME:MST
DTSTART:20221106T080000
END:STANDARD
BEGIN:DAYLIGHT
TZOFFSETFROM:-0700
TZOFFSETTO:-0600
TZNAME:MDT
DTSTART:20230312T090000
END:DAYLIGHT
BEGIN:STANDARD
TZOFFSETFROM:-0600
TZOFFSETTO:-0700
TZNAME:MST
DTSTART:20231105T080000
END:STANDARD
BEGIN:DAYLIGHT
TZOFFSETFROM:-0700
TZOFFSETTO:-0600
TZNAME:MDT
DTSTART:20240310T090000
END:DAYLIGHT
BEGIN:STANDARD
TZOFFSETFROM:-0600
TZOFFSETTO:-0700
TZNAME:MST
DTSTART:20241103T080000
END:STANDARD
END:VTIMEZONE
BEGIN:VEVENT
DTSTART;TZID=America/Denver:20230922T080000
DTEND;TZID=America/Denver:20230922T200000
DTSTAMP:20260425T155935
CREATED:20230909T015757Z
LAST-MODIFIED:20230909T015954Z
UID:6486-1695369600-1695412800@ut501st.com
SUMMARY:FanX Day 2
DESCRIPTION:Day 2!  Give it up for Day 2!! \nWe’ll be operating the same as we did the first day.  Those who signed up for booth hours\, make sure you double check where you’ll be and at what time.  You’ll get a pass that day if you work at least 4 hours at the booth.  Registration starts at 8 AM.  Early entry for VIP and Gold Pass will be at 10 AM that day with general admission opening at 11 AM. \nChanging and storage will be the same as the first day.  So take that into account.  REMINDER:  The Multiclub Dinner at Tucano’s will happen that night as well.  It’s only a brief walk to the restaurant located at the Gateway.  If you do plan on going\, we recommend probably heading over at least 30-45 minutes beforehand.  The day usually winds down around 7-8 anyways.
URL:https://ut501st.com/event/fanx-day-2-2/
LOCATION:Salt Palace\, 90 South West Temple\, Salt Lake City\, UT
CATEGORIES:Comic Con
END:VEVENT
END:VCALENDAR