BEGIN:VCALENDAR
VERSION:2.0
PRODID:-//Alpine Garrison - ECPv6.15.17.1//NONSGML v1.0//EN
CALSCALE:GREGORIAN
METHOD:PUBLISH
X-ORIGINAL-URL:https://ut501st.com
X-WR-CALDESC:Events for Alpine Garrison
REFRESH-INTERVAL;VALUE=DURATION:PT1H
X-Robots-Tag:noindex
X-PUBLISHED-TTL:PT1H
BEGIN:VTIMEZONE
TZID:America/Denver
BEGIN:DAYLIGHT
TZOFFSETFROM:-0700
TZOFFSETTO:-0600
TZNAME:MDT
DTSTART:20220313T090000
END:DAYLIGHT
BEGIN:STANDARD
TZOFFSETFROM:-0600
TZOFFSETTO:-0700
TZNAME:MST
DTSTART:20221106T080000
END:STANDARD
BEGIN:DAYLIGHT
TZOFFSETFROM:-0700
TZOFFSETTO:-0600
TZNAME:MDT
DTSTART:20230312T090000
END:DAYLIGHT
BEGIN:STANDARD
TZOFFSETFROM:-0600
TZOFFSETTO:-0700
TZNAME:MST
DTSTART:20231105T080000
END:STANDARD
BEGIN:DAYLIGHT
TZOFFSETFROM:-0700
TZOFFSETTO:-0600
TZNAME:MDT
DTSTART:20240310T090000
END:DAYLIGHT
BEGIN:STANDARD
TZOFFSETFROM:-0600
TZOFFSETTO:-0700
TZNAME:MST
DTSTART:20241103T080000
END:STANDARD
END:VTIMEZONE
BEGIN:VEVENT
DTSTART;TZID=America/Denver:20230921T100000
DTEND;TZID=America/Denver:20230921T210000
DTSTAMP:20260425T160102
CREATED:20230909T014055Z
LAST-MODIFIED:20230909T014055Z
UID:6484-1695290400-1695330000@ut501st.com
SUMMARY:FanX Day 1
DESCRIPTION:Do you remember?  21st night of September? \nWell you should.  Because the first day of FanX is that day!  We will have our booth in which we will be interacting with all of the patrons as well as raising money for Make-A-Wish.  For those who signed up for a station at certain hours\, this is where you’ll be our shining stars.  You will also earn a free pass for that day if you signed up for more than 4 hours that day. \nOur booth will be a bit different this year in that changing and storage will be tight.  There won’t be a dedicated changing area as we’ve had the past couple of years.  The space we will have will be dedicated primarily for tote storage.  If you’re able to change beforehand\, that’s great.  Otherwise\, we’ll have to improvise how and where to change. \nAlso keep in mind the schedule for Day 1 of FanX.  As the website states\, early floor entry will open at 1 PM for VIP and Gold Pass holders.  General admission opens at 2 pm.  If you’re working the booth\, we recommend coming around the back loading areas so that you can get in and get ready.  Message one of leadership if you have any issues. \nLet’s show the fine folks at FanX how we do things.
URL:https://ut501st.com/event/fanx-day-1-3/
LOCATION:Salt Palace\, 90 South West Temple\, Salt Lake City\, UT
CATEGORIES:Comic Con
END:VEVENT
END:VCALENDAR