BEGIN:VCALENDAR
VERSION:2.0
PRODID:-//Alpine Garrison - ECPv6.15.17.1//NONSGML v1.0//EN
CALSCALE:GREGORIAN
METHOD:PUBLISH
X-ORIGINAL-URL:https://ut501st.com
X-WR-CALDESC:Events for Alpine Garrison
REFRESH-INTERVAL;VALUE=DURATION:PT1H
X-Robots-Tag:noindex
X-PUBLISHED-TTL:PT1H
BEGIN:VTIMEZONE
TZID:America/Denver
BEGIN:DAYLIGHT
TZOFFSETFROM:-0700
TZOFFSETTO:-0600
TZNAME:MDT
DTSTART:20220313T090000
END:DAYLIGHT
BEGIN:STANDARD
TZOFFSETFROM:-0600
TZOFFSETTO:-0700
TZNAME:MST
DTSTART:20221106T080000
END:STANDARD
BEGIN:DAYLIGHT
TZOFFSETFROM:-0700
TZOFFSETTO:-0600
TZNAME:MDT
DTSTART:20230312T090000
END:DAYLIGHT
BEGIN:STANDARD
TZOFFSETFROM:-0600
TZOFFSETTO:-0700
TZNAME:MST
DTSTART:20231105T080000
END:STANDARD
BEGIN:DAYLIGHT
TZOFFSETFROM:-0700
TZOFFSETTO:-0600
TZNAME:MDT
DTSTART:20240310T090000
END:DAYLIGHT
BEGIN:STANDARD
TZOFFSETFROM:-0600
TZOFFSETTO:-0700
TZNAME:MST
DTSTART:20241103T080000
END:STANDARD
END:VTIMEZONE
BEGIN:VEVENT
DTSTART;TZID=America/Denver:20230722T113000
DTEND;TZID=America/Denver:20230722T130000
DTSTAMP:20260425T192037
CREATED:20230508T191149Z
LAST-MODIFIED:20230525T184148Z
UID:6341-1690025400-1690030800@ut501st.com
SUMMARY:Mendon Pioneer Day Parade
DESCRIPTION:We have been invited for a Pioneer Day Parade in Mendon.  The line-up for the parade begins at 11:30am.  Please show up early so that you have enough time to change into kits.  Storage and changing will be provided in the Mendon City Library Reading Room. right next to the parade start. \n  \nMAX NUMBER OF CHARACTERS: 20
URL:https://ut501st.com/event/mendon-pioneer-day-parade/
LOCATION:Mendon Library\, 15 N Main St\, Mendon\, UT\, 84325\, United States
END:VEVENT
END:VCALENDAR