BEGIN:VCALENDAR
VERSION:2.0
PRODID:-//Alpine Garrison - ECPv6.15.17.1//NONSGML v1.0//EN
CALSCALE:GREGORIAN
METHOD:PUBLISH
X-WR-CALNAME:Alpine Garrison
X-ORIGINAL-URL:https://ut501st.com
X-WR-CALDESC:Events for Alpine Garrison
REFRESH-INTERVAL;VALUE=DURATION:PT1H
X-Robots-Tag:noindex
X-PUBLISHED-TTL:PT1H
BEGIN:VTIMEZONE
TZID:America/Denver
BEGIN:DAYLIGHT
TZOFFSETFROM:-0700
TZOFFSETTO:-0600
TZNAME:MDT
DTSTART:20220313T090000
END:DAYLIGHT
BEGIN:STANDARD
TZOFFSETFROM:-0600
TZOFFSETTO:-0700
TZNAME:MST
DTSTART:20221106T080000
END:STANDARD
BEGIN:DAYLIGHT
TZOFFSETFROM:-0700
TZOFFSETTO:-0600
TZNAME:MDT
DTSTART:20230312T090000
END:DAYLIGHT
BEGIN:STANDARD
TZOFFSETFROM:-0600
TZOFFSETTO:-0700
TZNAME:MST
DTSTART:20231105T080000
END:STANDARD
BEGIN:DAYLIGHT
TZOFFSETFROM:-0700
TZOFFSETTO:-0600
TZNAME:MDT
DTSTART:20240310T090000
END:DAYLIGHT
BEGIN:STANDARD
TZOFFSETFROM:-0600
TZOFFSETTO:-0700
TZNAME:MST
DTSTART:20241103T080000
END:STANDARD
END:VTIMEZONE
BEGIN:VEVENT
DTSTART;TZID=America/Denver:20230717T140000
DTEND;TZID=America/Denver:20230717T150000
DTSTAMP:20260425T192004
CREATED:20230509T193727Z
LAST-MODIFIED:20230509T193727Z
UID:6362-1689602400-1689606000@ut501st.com
SUMMARY:Star Wars Library Adventure for Kids
DESCRIPTION:Kyber Crystals have been discovered under the Washington Library and Darth Vader wants them!  The children (Ages 0-12)  attending this activity will have to do a series of tasks to acquire items which will help in our fight to protect the library from the Dark Side.  There would also be a photo booth with photo ops if you are agreeable to it.  A changing and storage area will be provided for those who attend. \nMAX CHARACTERS: 10
URL:https://ut501st.com/event/star-wars-library-adventure-for-kids/
LOCATION:Washington City Library\, 220 E 300 N\, Washington\, UT\, 84780\, United States
END:VEVENT
END:VCALENDAR